BEGIN:VCALENDAR
VERSION:2.0
PRODID:-//Clackamas County Arts Alliance - ECPv6.15.18//NONSGML v1.0//EN
CALSCALE:GREGORIAN
METHOD:PUBLISH
X-ORIGINAL-URL:https://clackamasartsalliance.org
X-WR-CALDESC:Events for Clackamas County Arts Alliance
REFRESH-INTERVAL;VALUE=DURATION:PT1H
X-Robots-Tag:noindex
X-PUBLISHED-TTL:PT1H
BEGIN:VTIMEZONE
TZID:America/Los_Angeles
BEGIN:DAYLIGHT
TZOFFSETFROM:-0800
TZOFFSETTO:-0700
TZNAME:PDT
DTSTART:20250309T100000
END:DAYLIGHT
BEGIN:STANDARD
TZOFFSETFROM:-0700
TZOFFSETTO:-0800
TZNAME:PST
DTSTART:20251102T090000
END:STANDARD
BEGIN:DAYLIGHT
TZOFFSETFROM:-0800
TZOFFSETTO:-0700
TZNAME:PDT
DTSTART:20260308T100000
END:DAYLIGHT
BEGIN:STANDARD
TZOFFSETFROM:-0700
TZOFFSETTO:-0800
TZNAME:PST
DTSTART:20261101T090000
END:STANDARD
BEGIN:DAYLIGHT
TZOFFSETFROM:-0800
TZOFFSETTO:-0700
TZNAME:PDT
DTSTART:20270314T100000
END:DAYLIGHT
BEGIN:STANDARD
TZOFFSETFROM:-0700
TZOFFSETTO:-0800
TZNAME:PST
DTSTART:20271107T090000
END:STANDARD
END:VTIMEZONE
BEGIN:VEVENT
DTSTART;TZID=America/Los_Angeles:20260403T080000
DTEND;TZID=America/Los_Angeles:20260403T163000
DTSTAMP:20260424T085854
CREATED:20260313T152631Z
LAST-MODIFIED:20260313T152631Z
UID:10032306-1775203200-1775233800@clackamasartsalliance.org
SUMMARY:Clackamas ESD Regional Art Show
DESCRIPTION:Join us in celebrating the extraordinary artistic talent of students in our region! Each year\, Clackamas ESD presents diverse artwork from middle and high school students representing all 10 Clackamas County school districts in a juried art show and awards thousands of dollars in prizes at the art show awards ceremony. \nWe can visit the Art Gallery from March 30 to April 28\, 8:00 am to 4:30 pm\, Monday to Friday at the Clackamas ESD administrative building (13455 SE 97th Avenue\, Clackamas\, Oregon\, 97015.
URL:https://clackamasartsalliance.org/event/clackamas-esd-regional-art-show/2026-04-03/
LOCATION:13455 SE 97th Avenue\, Clackamas\, 13455 SE 97th Ave\, Clackamas\, OR 97015\, Clackamas\, OR\, 97015\, United States
CATEGORIES:Art,Craft
ATTACH;FMTTYPE=image/jpeg:https://clackamasartsalliance.org/wp-content/uploads/2026/03/RAS22-048.jpg
ORGANIZER;CN="Clackamas Education Service District":MAILTO:kwyatt@clackesd.k12.or.us
END:VEVENT
BEGIN:VEVENT
DTSTART;TZID=America/Los_Angeles:20260403T100000
DTEND;TZID=America/Los_Angeles:20260403T160000
DTSTAMP:20260424T085854
CREATED:20260225T032319Z
LAST-MODIFIED:20260225T032441Z
UID:10032167-1775210400-1775232000@clackamasartsalliance.org
SUMMARY:Three Rivers Artist Guild New Gallery Showcase
DESCRIPTION:The Three Rivers Artist Guild is opening a new gallery after a five year hiatus. Now in a new location! Come and see our first show at 455 Portland Ave.\, Gladstone\, for a Showcase of Three Rivers Artist Guild member artists’ work. This new gallery will be open Thursday – Sunday from 10-4. Come and see this new show on Friday\, March 27 – Sunday\, April 26.
URL:https://clackamasartsalliance.org/event/three-rivers-artist-guild-new-gallery-showcase/2026-04-03/
LOCATION:OR
CATEGORIES:Gallery
ATTACH;FMTTYPE=image/jpeg:https://clackamasartsalliance.org/wp-content/uploads/2026/02/IMG_5075.jpg
ORGANIZER;CN="Three Rivers Artist Guild":MAILTO:trieste.andrews@gmail.com
END:VEVENT
BEGIN:VEVENT
DTSTART;TZID=America/Los_Angeles:20260403T100000
DTEND;TZID=America/Los_Angeles:20260403T170000
DTSTAMP:20260424T085854
CREATED:20260323T214411Z
LAST-MODIFIED:20260325T071302Z
UID:10032605-1775210400-1775235600@clackamasartsalliance.org
SUMMARY:Healing Presence: Paintings by Claudia Dose
DESCRIPTION:A selection of intuitive\, mixed-media paintings by Oregon-based artist Claudia Dose\, currently on view as part of a Clackamas County Arts Alliance exhibition in a local hospital setting. \nThese works are created through a process of listening and allowing form to emerge\, rather than planning or control. The paintings explore themes of inner movement\, openness\, and the subtle threshold between tension and release. \nPlaced within a healthcare environment\, the intention is simple: to offer moments of pause\, reflection\, and quiet connection for patients\, visitors\, and staff. \nThis exhibition is part of a broader Arts Alliance initiative bringing original artwork into community spaces.
URL:https://clackamasartsalliance.org/event/healing-presence-paintings-by-claudia-dose/2026-04-03/
LOCATION:Willamette Falls Medical Center\, 1500 Division St\, Oregon City\, OR\, 97045\, United States
CATEGORIES:Art
ATTACH;FMTTYPE=image/png:https://clackamasartsalliance.org/wp-content/uploads/2026/03/claudia-dose-paintings-willamette-falls-medical-center-sm.png
END:VEVENT
BEGIN:VEVENT
DTSTART;TZID=America/Los_Angeles:20260403T100000
DTEND;TZID=America/Los_Angeles:20260403T170000
DTSTAMP:20260424T085854
CREATED:20260402T004933Z
LAST-MODIFIED:20260408T032711Z
UID:10032765-1775210400-1775235600@clackamasartsalliance.org
SUMMARY:Stairwell Gallery: The Artwork of Marie Lo
DESCRIPTION:Come view the paintings of artist and professor of Asian North American literature\, Marie Lo. Her oil paintings invite viewers to think about how we represent the world around us\, how we see ourselves\, and how we preserve the stories that shape our identities. The exhibition will be on view throughout April during regular library hours. Lake Oswego Public Library is located at 706 Fourth Street\, Lake Oswego. For more information\, contact April Younglove at 503-534-5667 or ayounglove@lakeoswego.city.
URL:https://clackamasartsalliance.org/event/stairwell-gallery-the-artwork-of-marie-lo/2026-04-03/
LOCATION:Lake Oswego Library\, 706 4th St.\, Lake Oswego\, OR\, 97034\, United States
CATEGORIES:Art,Exhibit,Free,Gallery,Library,Music
ATTACH;FMTTYPE=image/png:https://clackamasartsalliance.org/wp-content/uploads/2026/04/4-1-2026-Stairwell-Gallery-TV-slide.png
GEO:45.4239821;-122.6673796
X-APPLE-STRUCTURED-LOCATION;VALUE=URI;X-ADDRESS=Lake Oswego Library 706 4th St. Lake Oswego OR 97034 United States;X-APPLE-RADIUS=500;X-TITLE=706 4th St.:geo:-122.6673796,45.4239821
END:VEVENT
BEGIN:VEVENT
DTSTART;TZID=America/Los_Angeles:20260403T170000
DTEND;TZID=America/Los_Angeles:20260403T190000
DTSTAMP:20260424T085854
CREATED:20260319T012245Z
LAST-MODIFIED:20260319T012434Z
UID:10032459-1775235600-1775242800@clackamasartsalliance.org
SUMMARY:Art Night with Lucas Nickerson
DESCRIPTION:April 3rd from 5-7pm \nArtist Talk and workshop/demo of etching process with Lucas Nickerson. Lucas will show you how to make use of your study and prep drawings to make artwork that is more accessible to potential collectors. Turn them into etchings that you can paint and sell! Light Refreshments will be served. His paintings will be on display from March 16th-April 15th in their lobby gallery.
URL:https://clackamasartsalliance.org/event/art-night-with-lucas-nickerson/
LOCATION:One River Lake Oswego\, 15010 SW\, Bangy Rd.\, Lake Oswego\, Oregon\, 97035
CATEGORIES:Art,Free,Workshops/Classes
ATTACH;FMTTYPE=image/jpeg:https://clackamasartsalliance.org/wp-content/uploads/2026/03/One-Rive-Lucas-Nickerson-Lucas-Nickerson.jpg
END:VEVENT
BEGIN:VEVENT
DTSTART;TZID=America/Los_Angeles:20260403T180000
DTEND;TZID=America/Los_Angeles:20260403T200000
DTSTAMP:20260424T085854
CREATED:20260304T221443Z
LAST-MODIFIED:20260304T221629Z
UID:10032216-1775239200-1775246400@clackamasartsalliance.org
SUMMARY:REX PUTNAM INDOOR PERCUSSION Friends and Family Event
DESCRIPTION:Winter Indoor Percussion is a worldwide competitive activity. WGI (Winter Guard Int’l) is the overseeing entity of this marching percussion and pageantry “Sport of the Arts” artform. Drumming\, dance\, choreography\, and a high level of percussion musicianship is all present with props\, costumes\, sound designs. REX PUTNAM INDOOR PERCUSSION was established in 2009 and has been competing for 10 years. Winning 1st place in PSA (scholastic A percussion) for the last 6 years\, this group has just moved up to Open Class. \nCompetition/performance schedule is at our website. This is the ONLY competitive percussion group (including marching band) active in Clackamas and Multnomah Counties. Watch our documentary at www.rexputnamindoorpercussion.com. FRIENDS AND FAMILY EVENT IS DONATIONS ONLY AND LOCATED IN THE MAIN GYM AT RPHS.
URL:https://clackamasartsalliance.org/event/rex-putnam-indoor-percussion-friends-and-family-event/
LOCATION:Rex Putnam High School Main Auditorium\, 4950 SE Roethe Rd\, Milwaukie\, OR\, 97267
CATEGORIES:Music
ATTACH;FMTTYPE=image/jpeg:https://clackamasartsalliance.org/wp-content/uploads/2026/02/2025.12.30_DrumlinePosterBLINK.jpeg
GEO:45.4004068;-122.6103068
X-APPLE-STRUCTURED-LOCATION;VALUE=URI;X-ADDRESS=Rex Putnam High School Main Auditorium 4950 SE Roethe Rd Milwaukie OR 97267;X-APPLE-RADIUS=500;X-TITLE=4950 SE Roethe Rd:geo:-122.6103068,45.4004068
END:VEVENT
BEGIN:VEVENT
DTSTART;TZID=America/Los_Angeles:20260403T183000
DTEND;TZID=America/Los_Angeles:20260403T203000
DTSTAMP:20260424T085854
CREATED:20250730T143231Z
LAST-MODIFIED:20250730T143231Z
UID:10023654-1775241000-1775248200@clackamasartsalliance.org
SUMMARY:Teen Open Mic Night
DESCRIPTION:Perform at YMP’s Teen Open Mic Night!\nAre you a musician aged 13-18? Come on down and share your songs to a live\, supportive audience. This is an incredible opportunity to hone your skills performing with state-of-the-art gear and sound engineers on our Meteor Lounge stage. Open Mic Nights are held on the first Friday of each month and hosted by our amazing Teen Interns. \nSign-up at the doors at 6:15 p.m | Performances begin 6:30 p.m.\nDon’t have a song to share? No worries! Gather some friends and come be a part of our supportive audience! All ages welcome to attend. \nNote: Parent/guardian permission and a signed media waver are required for performers under the age of 18.
URL:https://clackamasartsalliance.org/event/teen-open-mic-night/2026-04-03/
LOCATION:Youth Music Project Meteor Lounge\, 2015 8th Ave.\, West Linn\, OR\, 97068\, United States
CATEGORIES:Family Friendly,Free,Music,Youth
ORGANIZER;CN="Youth Music Project":MAILTO:info@youthmusicproject.org
GEO:45.345756;-122.6524408
X-APPLE-STRUCTURED-LOCATION;VALUE=URI;X-ADDRESS=Youth Music Project Meteor Lounge 2015 8th Ave. West Linn OR 97068 United States;X-APPLE-RADIUS=500;X-TITLE=2015 8th Ave.:geo:-122.6524408,45.345756
END:VEVENT
BEGIN:VEVENT
DTSTART;TZID=America/Los_Angeles:20260403T193000
DTEND;TZID=America/Los_Angeles:20260403T213000
DTSTAMP:20260424T085854
CREATED:20260323T212757Z
LAST-MODIFIED:20260323T213352Z
UID:10032463-1775244600-1775251800@clackamasartsalliance.org
SUMMARY:Chapel Theatre Dance Residency Performance
DESCRIPTION:Welcome to our second annual Dance Residency Showcase! Our panel chose 3 talented dancers to create our second Dance Residency class. These dancers received 6 hours of studio time each week to explore their work\, delve into some new performance ideas\, and ultimately\, have created this show for you\, our audience. Each dancer has created a unique\, personal\, and thoughtful collection to share with audiences. Audiences can expect three 20ish minute pieces with an intermission after the first two pieces. \nDancers: Jessica Hightower\, Aaron Peite\, and Taylor McDougall
URL:https://clackamasartsalliance.org/event/chapel-theatre-dance-residency-performance/2026-04-03/
LOCATION:The Chapel Theatre\, 4107 SE Harrison St.\, Milwaukie\, OR\, 97222\, United States
CATEGORIES:Dance,Performing
ATTACH;FMTTYPE=image/jpeg:https://clackamasartsalliance.org/wp-content/uploads/2026/03/Black-and-Grey-Modern-Business-Webinar-Flyer.jpg
ORGANIZER;CN="The Chapel Theatre":MAILTO:corinn@chapeltheatremilwaukie.com
GEO:45.4468567;-122.6207073
X-APPLE-STRUCTURED-LOCATION;VALUE=URI;X-ADDRESS=The Chapel Theatre 4107 SE Harrison St. Milwaukie OR 97222 United States;X-APPLE-RADIUS=500;X-TITLE=4107 SE Harrison St.:geo:-122.6207073,45.4468567
END:VEVENT
BEGIN:VEVENT
DTSTART;TZID=America/Los_Angeles:20260403T193000
DTEND;TZID=America/Los_Angeles:20260403T220000
DTSTAMP:20260424T085855
CREATED:20260218T040931Z
LAST-MODIFIED:20260218T040931Z
UID:10031842-1775244600-1775253600@clackamasartsalliance.org
SUMMARY:The Glass Menagerie
DESCRIPTION:Lakewood Theatre Company is proud to announce its upcoming production of Tennessee Williams’ timeless memory play\, The Glass Menagerie. This classic of the American stage is widely regarded as the play that launched Williams’ career. With a story that resonates as strongly today as it did at its 1944 premiere\, The Glass Menagerie is a poetic and poignant exploration of family\, memory\, and the struggle between responsibility and freedom. \nThe play\, directed by Antonio Sonera\, opens at Lakewood Theatre on February 27\, 2026\, and runs through April 5\, 2026. Performances are Thursday\, Friday\, and Saturday nights at 7:30 PM\, with one Wednesday performance (Mar. 18) at 7:30 PM\, one Saturday matinee at 2:00 PM (Mar. 28)\, and Sunday matinees at 2:00 PM on Mar. 1\, 8\, 15\, 22\, 28\, and April 5. The show’s title sponsors are the Lakewood Center Associates\, and the directorial sponsor is the Ronni S. Lacroute Fund of Oregon Community Foundation. \nSpecial Note: On Wednesday\, March 18\, the theater continues its WOW: 25-35 program. For audience members 35 and under\, tickets are $30 each. Use the code WOW30 when purchasing tickets online to receive this discount. At this performance\, there will be a complimentary wine tasting one hour before the curtain\, courtesy of local vineyards. OLCC rules apply! Bring your ID for the tasting! \nThe story: Set in St. Louis in the 1930s\, it is told through the eyes of Tom Wingfield (Mario Calcagno)\, who recalls life in a cramped apartment with his formidable mother\, Amanda (Luisa Sermol)\, and his fragile sister\, Laura (Ariel Puls). As the family struggles with financial instability and shattered dreams\, they pin their hopes on the arrival of Jim O’Conner (Spencer Conway)\, a “gentleman caller\,” for Laura.  More than just a play\, The Glass Menagerie is an emotional landscape. It captures the universal ache of looking backward—at the family members we loved\, the ones we left behind\, and the illusions we build to survive reality. It is a story about the fragility of the human heart\, as easily broken as glass. \nLTC’s production of The Glass Menagerie is directed by Antonio Sonera. The stage manager is Kristen Hartman. Scenic design is by John Gerth\, sound design and music composition is by Matthew B. Zrebski\, lighting design is by Kristeen Willis\, costume design is by Sherry Ostendorf\, properties design is by Shelley Aisner\, and the producer is Steve Knox.
URL:https://clackamasartsalliance.org/event/the-glass-menagerie/2026-04-03/
LOCATION:Lakewood Center for the Arts\, 368 S. State Street\, Lake Oswego\, OR\, 97034\, United States
CATEGORIES:Performing,Theater
ATTACH;FMTTYPE=image/jpeg:https://clackamasartsalliance.org/wp-content/uploads/2026/02/GlassMenagerie_CAA.jpg
GEO:45.4135063;-122.6646366
X-APPLE-STRUCTURED-LOCATION;VALUE=URI;X-ADDRESS=Lakewood Center for the Arts 368 S. State Street Lake Oswego OR 97034 United States;X-APPLE-RADIUS=500;X-TITLE=368 S. State Street:geo:-122.6646366,45.4135063
END:VEVENT
END:VCALENDAR