BEGIN:VCALENDAR
VERSION:2.0
PRODID:-//Clackamas County Arts Alliance - ECPv6.15.18//NONSGML v1.0//EN
CALSCALE:GREGORIAN
METHOD:PUBLISH
X-WR-CALNAME:Clackamas County Arts Alliance
X-ORIGINAL-URL:https://clackamasartsalliance.org
X-WR-CALDESC:Events for Clackamas County Arts Alliance
REFRESH-INTERVAL;VALUE=DURATION:PT1H
X-Robots-Tag:noindex
X-PUBLISHED-TTL:PT1H
BEGIN:VTIMEZONE
TZID:America/Los_Angeles
BEGIN:DAYLIGHT
TZOFFSETFROM:-0800
TZOFFSETTO:-0700
TZNAME:PDT
DTSTART:20250309T100000
END:DAYLIGHT
BEGIN:STANDARD
TZOFFSETFROM:-0700
TZOFFSETTO:-0800
TZNAME:PST
DTSTART:20251102T090000
END:STANDARD
BEGIN:DAYLIGHT
TZOFFSETFROM:-0800
TZOFFSETTO:-0700
TZNAME:PDT
DTSTART:20260308T100000
END:DAYLIGHT
BEGIN:STANDARD
TZOFFSETFROM:-0700
TZOFFSETTO:-0800
TZNAME:PST
DTSTART:20261101T090000
END:STANDARD
BEGIN:DAYLIGHT
TZOFFSETFROM:-0800
TZOFFSETTO:-0700
TZNAME:PDT
DTSTART:20270314T100000
END:DAYLIGHT
BEGIN:STANDARD
TZOFFSETFROM:-0700
TZOFFSETTO:-0800
TZNAME:PST
DTSTART:20271107T090000
END:STANDARD
END:VTIMEZONE
BEGIN:VEVENT
DTSTART;TZID=America/Los_Angeles:20260404T080000
DTEND;TZID=America/Los_Angeles:20260404T163000
DTSTAMP:20260424T052214
CREATED:20260313T152631Z
LAST-MODIFIED:20260313T152631Z
UID:10032307-1775289600-1775320200@clackamasartsalliance.org
SUMMARY:Clackamas ESD Regional Art Show
DESCRIPTION:Join us in celebrating the extraordinary artistic talent of students in our region! Each year\, Clackamas ESD presents diverse artwork from middle and high school students representing all 10 Clackamas County school districts in a juried art show and awards thousands of dollars in prizes at the art show awards ceremony. \nWe can visit the Art Gallery from March 30 to April 28\, 8:00 am to 4:30 pm\, Monday to Friday at the Clackamas ESD administrative building (13455 SE 97th Avenue\, Clackamas\, Oregon\, 97015.
URL:https://clackamasartsalliance.org/event/clackamas-esd-regional-art-show/2026-04-04/
LOCATION:13455 SE 97th Avenue\, Clackamas\, 13455 SE 97th Ave\, Clackamas\, OR 97015\, Clackamas\, OR\, 97015\, United States
CATEGORIES:Art,Craft
ATTACH;FMTTYPE=image/jpeg:https://clackamasartsalliance.org/wp-content/uploads/2026/03/RAS22-048.jpg
ORGANIZER;CN="Clackamas Education Service District":MAILTO:kwyatt@clackesd.k12.or.us
END:VEVENT
BEGIN:VEVENT
DTSTART;TZID=America/Los_Angeles:20260404T100000
DTEND;TZID=America/Los_Angeles:20260404T120000
DTSTAMP:20260424T052214
CREATED:20260317T193137Z
LAST-MODIFIED:20260317T194142Z
UID:10032332-1775296800-1775304000@clackamasartsalliance.org
SUMMARY:Museum Docent Training
DESCRIPTION:Interested in being a museum docent? Want to share a love of local history with guests? Come to our DOCENT TRAINING on Saturday\, April 4th\, from 10:00 AM – 12:00 PM. You’ll discover behind-the-scenes of our new exhibit\, learn how to guide guests\, and get an understanding of the logistics it takes to be a museum docent. Our goal is to open the museum on Saturdays with the help of these invaluable volunteers! As a thanks for attending\, snacks\, coffee\, and other drinks are provided.
URL:https://clackamasartsalliance.org/event/museum-docent-training/
LOCATION:Oswego Heritage House & Museum\, 398 10th Street\, Lake Oswego\, OR\, 97034\, United States
CATEGORIES:Exhibit,Heritage,Workshops/Classes
ATTACH;FMTTYPE=image/png:https://clackamasartsalliance.org/wp-content/uploads/2026/03/Docent-Training-2026.png
GEO:45.4206122;-122.6761147
X-APPLE-STRUCTURED-LOCATION;VALUE=URI;X-ADDRESS=Oswego Heritage House & Museum 398 10th Street Lake Oswego OR 97034 United States;X-APPLE-RADIUS=500;X-TITLE=398 10th Street:geo:-122.6761147,45.4206122
END:VEVENT
BEGIN:VEVENT
DTSTART;TZID=America/Los_Angeles:20260404T100000
DTEND;TZID=America/Los_Angeles:20260404T160000
DTSTAMP:20260424T052214
CREATED:20260225T032319Z
LAST-MODIFIED:20260225T032441Z
UID:10032168-1775296800-1775318400@clackamasartsalliance.org
SUMMARY:Three Rivers Artist Guild New Gallery Showcase
DESCRIPTION:The Three Rivers Artist Guild is opening a new gallery after a five year hiatus. Now in a new location! Come and see our first show at 455 Portland Ave.\, Gladstone\, for a Showcase of Three Rivers Artist Guild member artists’ work. This new gallery will be open Thursday – Sunday from 10-4. Come and see this new show on Friday\, March 27 – Sunday\, April 26.
URL:https://clackamasartsalliance.org/event/three-rivers-artist-guild-new-gallery-showcase/2026-04-04/
LOCATION:OR
CATEGORIES:Gallery
ATTACH;FMTTYPE=image/jpeg:https://clackamasartsalliance.org/wp-content/uploads/2026/02/IMG_5075.jpg
ORGANIZER;CN="Three Rivers Artist Guild":MAILTO:trieste.andrews@gmail.com
END:VEVENT
BEGIN:VEVENT
DTSTART;TZID=America/Los_Angeles:20260404T100000
DTEND;TZID=America/Los_Angeles:20260404T170000
DTSTAMP:20260424T052214
CREATED:20260323T214411Z
LAST-MODIFIED:20260325T071302Z
UID:10032606-1775296800-1775322000@clackamasartsalliance.org
SUMMARY:Healing Presence: Paintings by Claudia Dose
DESCRIPTION:A selection of intuitive\, mixed-media paintings by Oregon-based artist Claudia Dose\, currently on view as part of a Clackamas County Arts Alliance exhibition in a local hospital setting. \nThese works are created through a process of listening and allowing form to emerge\, rather than planning or control. The paintings explore themes of inner movement\, openness\, and the subtle threshold between tension and release. \nPlaced within a healthcare environment\, the intention is simple: to offer moments of pause\, reflection\, and quiet connection for patients\, visitors\, and staff. \nThis exhibition is part of a broader Arts Alliance initiative bringing original artwork into community spaces.
URL:https://clackamasartsalliance.org/event/healing-presence-paintings-by-claudia-dose/2026-04-04/
LOCATION:Willamette Falls Medical Center\, 1500 Division St\, Oregon City\, OR\, 97045\, United States
CATEGORIES:Art
ATTACH;FMTTYPE=image/png:https://clackamasartsalliance.org/wp-content/uploads/2026/03/claudia-dose-paintings-willamette-falls-medical-center-sm.png
END:VEVENT
BEGIN:VEVENT
DTSTART;TZID=America/Los_Angeles:20260404T193000
DTEND;TZID=America/Los_Angeles:20260404T213000
DTSTAMP:20260424T052214
CREATED:20260323T212757Z
LAST-MODIFIED:20260323T213352Z
UID:10032464-1775331000-1775338200@clackamasartsalliance.org
SUMMARY:Chapel Theatre Dance Residency Performance
DESCRIPTION:Welcome to our second annual Dance Residency Showcase! Our panel chose 3 talented dancers to create our second Dance Residency class. These dancers received 6 hours of studio time each week to explore their work\, delve into some new performance ideas\, and ultimately\, have created this show for you\, our audience. Each dancer has created a unique\, personal\, and thoughtful collection to share with audiences. Audiences can expect three 20ish minute pieces with an intermission after the first two pieces. \nDancers: Jessica Hightower\, Aaron Peite\, and Taylor McDougall
URL:https://clackamasartsalliance.org/event/chapel-theatre-dance-residency-performance/2026-04-04/
LOCATION:The Chapel Theatre\, 4107 SE Harrison St.\, Milwaukie\, OR\, 97222\, United States
CATEGORIES:Dance,Performing
ATTACH;FMTTYPE=image/jpeg:https://clackamasartsalliance.org/wp-content/uploads/2026/03/Black-and-Grey-Modern-Business-Webinar-Flyer.jpg
ORGANIZER;CN="The Chapel Theatre":MAILTO:corinn@chapeltheatremilwaukie.com
GEO:45.4468567;-122.6207073
X-APPLE-STRUCTURED-LOCATION;VALUE=URI;X-ADDRESS=The Chapel Theatre 4107 SE Harrison St. Milwaukie OR 97222 United States;X-APPLE-RADIUS=500;X-TITLE=4107 SE Harrison St.:geo:-122.6207073,45.4468567
END:VEVENT
BEGIN:VEVENT
DTSTART;TZID=America/Los_Angeles:20260404T193000
DTEND;TZID=America/Los_Angeles:20260404T220000
DTSTAMP:20260424T052214
CREATED:20260218T040931Z
LAST-MODIFIED:20260218T040931Z
UID:10031843-1775331000-1775340000@clackamasartsalliance.org
SUMMARY:The Glass Menagerie
DESCRIPTION:Lakewood Theatre Company is proud to announce its upcoming production of Tennessee Williams’ timeless memory play\, The Glass Menagerie. This classic of the American stage is widely regarded as the play that launched Williams’ career. With a story that resonates as strongly today as it did at its 1944 premiere\, The Glass Menagerie is a poetic and poignant exploration of family\, memory\, and the struggle between responsibility and freedom. \nThe play\, directed by Antonio Sonera\, opens at Lakewood Theatre on February 27\, 2026\, and runs through April 5\, 2026. Performances are Thursday\, Friday\, and Saturday nights at 7:30 PM\, with one Wednesday performance (Mar. 18) at 7:30 PM\, one Saturday matinee at 2:00 PM (Mar. 28)\, and Sunday matinees at 2:00 PM on Mar. 1\, 8\, 15\, 22\, 28\, and April 5. The show’s title sponsors are the Lakewood Center Associates\, and the directorial sponsor is the Ronni S. Lacroute Fund of Oregon Community Foundation. \nSpecial Note: On Wednesday\, March 18\, the theater continues its WOW: 25-35 program. For audience members 35 and under\, tickets are $30 each. Use the code WOW30 when purchasing tickets online to receive this discount. At this performance\, there will be a complimentary wine tasting one hour before the curtain\, courtesy of local vineyards. OLCC rules apply! Bring your ID for the tasting! \nThe story: Set in St. Louis in the 1930s\, it is told through the eyes of Tom Wingfield (Mario Calcagno)\, who recalls life in a cramped apartment with his formidable mother\, Amanda (Luisa Sermol)\, and his fragile sister\, Laura (Ariel Puls). As the family struggles with financial instability and shattered dreams\, they pin their hopes on the arrival of Jim O’Conner (Spencer Conway)\, a “gentleman caller\,” for Laura.  More than just a play\, The Glass Menagerie is an emotional landscape. It captures the universal ache of looking backward—at the family members we loved\, the ones we left behind\, and the illusions we build to survive reality. It is a story about the fragility of the human heart\, as easily broken as glass. \nLTC’s production of The Glass Menagerie is directed by Antonio Sonera. The stage manager is Kristen Hartman. Scenic design is by John Gerth\, sound design and music composition is by Matthew B. Zrebski\, lighting design is by Kristeen Willis\, costume design is by Sherry Ostendorf\, properties design is by Shelley Aisner\, and the producer is Steve Knox.
URL:https://clackamasartsalliance.org/event/the-glass-menagerie/2026-04-04/
LOCATION:Lakewood Center for the Arts\, 368 S. State Street\, Lake Oswego\, OR\, 97034\, United States
CATEGORIES:Performing,Theater
ATTACH;FMTTYPE=image/jpeg:https://clackamasartsalliance.org/wp-content/uploads/2026/02/GlassMenagerie_CAA.jpg
GEO:45.4135063;-122.6646366
X-APPLE-STRUCTURED-LOCATION;VALUE=URI;X-ADDRESS=Lakewood Center for the Arts 368 S. State Street Lake Oswego OR 97034 United States;X-APPLE-RADIUS=500;X-TITLE=368 S. State Street:geo:-122.6646366,45.4135063
END:VEVENT
END:VCALENDAR