BEGIN:VCALENDAR
VERSION:2.0
PRODID:-//Clackamas County Arts Alliance - ECPv6.15.18//NONSGML v1.0//EN
CALSCALE:GREGORIAN
METHOD:PUBLISH
X-WR-CALNAME:Clackamas County Arts Alliance
X-ORIGINAL-URL:https://clackamasartsalliance.org
X-WR-CALDESC:Events for Clackamas County Arts Alliance
REFRESH-INTERVAL;VALUE=DURATION:PT1H
X-Robots-Tag:noindex
X-PUBLISHED-TTL:PT1H
BEGIN:VTIMEZONE
TZID:America/Los_Angeles
BEGIN:DAYLIGHT
TZOFFSETFROM:-0800
TZOFFSETTO:-0700
TZNAME:PDT
DTSTART:20250309T100000
END:DAYLIGHT
BEGIN:STANDARD
TZOFFSETFROM:-0700
TZOFFSETTO:-0800
TZNAME:PST
DTSTART:20251102T090000
END:STANDARD
BEGIN:DAYLIGHT
TZOFFSETFROM:-0800
TZOFFSETTO:-0700
TZNAME:PDT
DTSTART:20260308T100000
END:DAYLIGHT
BEGIN:STANDARD
TZOFFSETFROM:-0700
TZOFFSETTO:-0800
TZNAME:PST
DTSTART:20261101T090000
END:STANDARD
BEGIN:DAYLIGHT
TZOFFSETFROM:-0800
TZOFFSETTO:-0700
TZNAME:PDT
DTSTART:20270314T100000
END:DAYLIGHT
BEGIN:STANDARD
TZOFFSETFROM:-0700
TZOFFSETTO:-0800
TZNAME:PST
DTSTART:20271107T090000
END:STANDARD
END:VTIMEZONE
BEGIN:VEVENT
DTSTART;TZID=America/Los_Angeles:20260303T100000
DTEND;TZID=America/Los_Angeles:20260303T160000
DTSTAMP:20260425T054721
CREATED:20260216T152206Z
LAST-MODIFIED:20260216T152206Z
UID:10031815-1772532000-1772553600@clackamasartsalliance.org
SUMMARY:heARTs of Wilsonville Auction
DESCRIPTION:Five one-of-a-kind\, artist-designed hearts are up for auction to support future public art in Wilsonville! 💛💚💙🧡❤️\nCreated as part of the City’s largest public art project\, these hearts have been on display across the community since May. Bidding opens Feb. 12 at 10 am and closes Friday\, March 6 at 4 pm. Hearts are sold as-is\, and bidders are encouraged to view them in person. These are LARGE fiberglass sculptures approx (52″ x 52″ x 10″).\nWinning bidders must pay at City Hall by March 16\, with pick-up scheduled for March 19 (truck or cargo van required).\nMore information and bidding details can be found here: https://HeartsofWilsonville.auctria.events
URL:https://clackamasartsalliance.org/event/hearts-of-wilsonville-auction/2026-03-03/
LOCATION:online
CATEGORIES:Art,Fundraiser,Visual
ATTACH;FMTTYPE=image/jpeg:https://clackamasartsalliance.org/wp-content/uploads/2026/02/heARTS-Auction-Facebook-1.jpg
END:VEVENT
BEGIN:VEVENT
DTSTART;TZID=America/Los_Angeles:20260303T100000
DTEND;TZID=America/Los_Angeles:20260303T170000
DTSTAMP:20260425T054721
CREATED:20260323T214411Z
LAST-MODIFIED:20260325T071302Z
UID:10032574-1772532000-1772557200@clackamasartsalliance.org
SUMMARY:Healing Presence: Paintings by Claudia Dose
DESCRIPTION:A selection of intuitive\, mixed-media paintings by Oregon-based artist Claudia Dose\, currently on view as part of a Clackamas County Arts Alliance exhibition in a local hospital setting. \nThese works are created through a process of listening and allowing form to emerge\, rather than planning or control. The paintings explore themes of inner movement\, openness\, and the subtle threshold between tension and release. \nPlaced within a healthcare environment\, the intention is simple: to offer moments of pause\, reflection\, and quiet connection for patients\, visitors\, and staff. \nThis exhibition is part of a broader Arts Alliance initiative bringing original artwork into community spaces.
URL:https://clackamasartsalliance.org/event/healing-presence-paintings-by-claudia-dose/2026-03-03/
LOCATION:Willamette Falls Medical Center\, 1500 Division St\, Oregon City\, OR\, 97045\, United States
CATEGORIES:Art
ATTACH;FMTTYPE=image/png:https://clackamasartsalliance.org/wp-content/uploads/2026/03/claudia-dose-paintings-willamette-falls-medical-center-sm.png
END:VEVENT
END:VCALENDAR