BEGIN:VCALENDAR
VERSION:2.0
PRODID:-//Clackamas County Arts Alliance - ECPv6.15.18//NONSGML v1.0//EN
CALSCALE:GREGORIAN
METHOD:PUBLISH
X-ORIGINAL-URL:https://clackamasartsalliance.org
X-WR-CALDESC:Events for Clackamas County Arts Alliance
REFRESH-INTERVAL;VALUE=DURATION:PT1H
X-Robots-Tag:noindex
X-PUBLISHED-TTL:PT1H
BEGIN:VTIMEZONE
TZID:America/Los_Angeles
BEGIN:DAYLIGHT
TZOFFSETFROM:-0800
TZOFFSETTO:-0700
TZNAME:PDT
DTSTART:20250309T100000
END:DAYLIGHT
BEGIN:STANDARD
TZOFFSETFROM:-0700
TZOFFSETTO:-0800
TZNAME:PST
DTSTART:20251102T090000
END:STANDARD
BEGIN:DAYLIGHT
TZOFFSETFROM:-0800
TZOFFSETTO:-0700
TZNAME:PDT
DTSTART:20260308T100000
END:DAYLIGHT
BEGIN:STANDARD
TZOFFSETFROM:-0700
TZOFFSETTO:-0800
TZNAME:PST
DTSTART:20261101T090000
END:STANDARD
BEGIN:DAYLIGHT
TZOFFSETFROM:-0800
TZOFFSETTO:-0700
TZNAME:PDT
DTSTART:20270314T100000
END:DAYLIGHT
BEGIN:STANDARD
TZOFFSETFROM:-0700
TZOFFSETTO:-0800
TZNAME:PST
DTSTART:20271107T090000
END:STANDARD
END:VTIMEZONE
BEGIN:VEVENT
DTSTART;TZID=America/Los_Angeles:20260303T183000
DTEND;TZID=America/Los_Angeles:20260303T200000
DTSTAMP:20260424T073704
CREATED:20260224T050209Z
LAST-MODIFIED:20260224T050209Z
UID:10032120-1772562600-1772568000@clackamasartsalliance.org
SUMMARY:Exhibit Opening Celebration for Heritage In Focus: A Community-Curated Exhibit
DESCRIPTION:You’re invited to Heritage in Focus: A Community-Curated Exhibit Opening Celebration! Hear from exhibitors and the curatorial host\, the Willamette Falls & Landings Heritage Area Coalition\, to describe how their site and story are part of the unique fabric of places and people that make up this region. \nWhile not an exhaustive representation of regional history\, this installation highlights the richness and diversity of our community. On view at the Community Cultural Center at Historic City Hall in West Linn\, this evolving exhibit will return in future years with new voices and new stories. \nOur opening celebration will be a chance to connect with exhibitors\, network with other local history enthusiasts\, and share some delicious treats. \nWhen: Tuesday\, March 3rd\, 2026\, from 6:30 pm to 8:00 pm \nWhere: Historic City Hall\, 22825 Willamette Drive\, West Linn\, OR \nHost: Willamette Falls & Landings Heritage Area Coalition \nPlease note: Regular cultural center and exhibit viewing hours at Historic City Hall are Thursday\, Friday\, and Saturday from 11 am to 2 pm. Heritage in Focus: A community-curated exhibit will be on view until late fall 2026.
URL:https://clackamasartsalliance.org/event/exhibit-opening-celebration-for-heritage-in-focus-a-community-curated-exhibit/
LOCATION:Historic City Hall\, 22825 Willamette Drive\, West Linn\, 97068\, United States
CATEGORIES:Culture,Exhibit,Free,Gallery,Heritage
ATTACH;FMTTYPE=image/png:https://clackamasartsalliance.org/wp-content/uploads/2026/02/Original-Poster-1.png
ORGANIZER;CN="Willamette Falls &amp%3B Landings Heritage Area Coalition":MAILTO:info@wfheritage.org
END:VEVENT
BEGIN:VEVENT
DTSTART;TZID=America/Los_Angeles:20260308T100000
DTEND;TZID=America/Los_Angeles:20260308T120000
DTSTAMP:20260424T073704
CREATED:20260211T014238Z
LAST-MODIFIED:20260211T014238Z
UID:10031538-1772964000-1772971200@clackamasartsalliance.org
SUMMARY:Alchemy: The Myth of Puerh
DESCRIPTION:A Puerh Tea Tasting\nCome immerse yourself in the living tradition of pu-erh\, a tea shaped by time itself. With mindfulness as our guide\, we will walk alongside pu-erh through its alchemy of transformation\, tasting the wisdom it carries through the earth\, its history\, and the art of brewing. \nThis gathering is offered with a suggested contribution of $35. In the spirit of inclusivity and balance\, you are welcome to offer what feels right for you\, whether that is $35\, $25\, or more if you have the means. Contributions above the suggested amount help make this experience accessible to those with financial need and sustain the ongoing care and energy poured into holding spaces like this. Every offering\, whether financial or energetic\, affirms the value of community supported education. \nWe also acknowledge the systemic barriers that have long limited access for BIPOC communities. To honor this\, a $15 option is available for BIPOC participants who would benefit from it. This is one way we commit to equity\, ensuring that diversity is not only welcomed but integral to the richness of the experience. \nIf the listed prices are still a barrier\, please reach out directly. I am more than willing to work with you to ensure that tea remains within reach for all who feel called to share in it. \nAll are welcome here. You are invited to arrive exactly as you are and take part in a space rooted in openness\, care\, and community\, a living space where each presence is honored and where we grow together through the deep\, transformative beauty of tea. \nTo help us hold a mindful and welcoming space\, we ask participants to be considerate of sensory sensitivities by avoiding strong fragrances. This is a space of gentle awareness\, where we honor our own needs as well as those of others. By showing up with openness\, care\, and respect for each other’s boundaries\, we create a collective atmosphere where meditation\, tea\, and queer belonging can flourish together. \nIn the spirit of reciprocity and uplifting community together\, five dollars from each participant will be donated to Q Center\, a nonprofit that supports LGBTQ2SIA+ communities through advocacy\, resources\, and safe spaces\, embodying tea’s spirit of connection\, reflection\, healing\, and belonging. \nThis gathering is guided by D’Guar (they/them)\, a trans person of color\, tea guide\, and community weaver rooted in Portland\, Oregon. Their journey has been dedicated to exploring the depth and spirit of Camellia sinensis through mindful practice\, story\, and shared ritual. Through Water Fairy Tea\, they cultivate spaces where tea becomes a bridge into presence\, nature\, and belonging. Their offerings blend learning with reverence\, inviting participants to meet tea not just as a drink\, but as a living companion in personal discovery\, collective care\, and connection with the natural world. \nWe acknowledge that this work takes place on the traditional lands of the Multnomah\, Clackamas\, Chinook\, Kathlamet\, Tualatin\, Kalapuya\, Molalla\, and many other Indigenous ancestors and communities. We honor their enduring presence\, care\, and wisdom\, and offer gratitude to the land and to the people who have tended it since time immemorial.
URL:https://clackamasartsalliance.org/event/alchemy-the-myth-of-puerh/2026-03-08/
LOCATION:Cup of Tea\, 10117 SE Sunnyside Rd\, Clackamas\, OR\, 97015\, United States
CATEGORIES:Craft,Culture,Workshops/Classes
ATTACH;FMTTYPE=image/png:https://clackamasartsalliance.org/wp-content/uploads/2026/02/Eventbright-2x1-10.png
ORGANIZER;CN="Cup of Tea":MAILTO:hello@cupoftea-oregon.com
END:VEVENT
BEGIN:VEVENT
DTSTART;TZID=America/Los_Angeles:20260316T180000
DTEND;TZID=America/Los_Angeles:20260316T210000
DTSTAMP:20260424T073704
CREATED:20260310T034601Z
LAST-MODIFIED:20260310T034601Z
UID:10032300-1773684000-1773694800@clackamasartsalliance.org
SUMMARY:Knit for Love
DESCRIPTION:Many immigrants feel unwelcome in this country. During this FREE event\, we will knit patchwork blankets as gifts to show immigrant families that we stand with them. \nWe will be working on 6×6 knitted squares (made with worsted yarn and size 8 needles) and sew them together to make blankets. If you have any finished squares\, bring them! \nPatterns will be provided and a knitting instructor will assist new knitters. Please bring size 8 knitting needles and worsted yarn\, or purchase yarn when you arrive. \nFind the 6×6 square patterns here: https://undergroundcrafter.com/2018/01/04/harmony-blanket-knit-a-long/ \nThe best way to fight hate is with love. These blankets give love to people who need it the most.
URL:https://clackamasartsalliance.org/event/knit-for-love/
LOCATION:Soulflags Art Community Center\, 504 Main Street\, Suite B\, Oregon City\, OR\, 97045\, United States
CATEGORIES:Art,Culture,Family Friendly,Free
ATTACH;FMTTYPE=image/png:https://clackamasartsalliance.org/wp-content/uploads/2026/03/IMG_0584-1.png
ORGANIZER;CN="Soulflags Art Community Center":MAILTO:soulflagsartlit@gmail.com
END:VEVENT
BEGIN:VEVENT
DTSTART;TZID=America/Los_Angeles:20260327T183000
DTEND;TZID=America/Los_Angeles:20260327T203000
DTSTAMP:20260424T073704
CREATED:20260211T014238Z
LAST-MODIFIED:20260211T014238Z
UID:10031539-1774636200-1774643400@clackamasartsalliance.org
SUMMARY:Alchemy: The Myth of Puerh
DESCRIPTION:A Puerh Tea Tasting\nCome immerse yourself in the living tradition of pu-erh\, a tea shaped by time itself. With mindfulness as our guide\, we will walk alongside pu-erh through its alchemy of transformation\, tasting the wisdom it carries through the earth\, its history\, and the art of brewing. \nThis gathering is offered with a suggested contribution of $35. In the spirit of inclusivity and balance\, you are welcome to offer what feels right for you\, whether that is $35\, $25\, or more if you have the means. Contributions above the suggested amount help make this experience accessible to those with financial need and sustain the ongoing care and energy poured into holding spaces like this. Every offering\, whether financial or energetic\, affirms the value of community supported education. \nWe also acknowledge the systemic barriers that have long limited access for BIPOC communities. To honor this\, a $15 option is available for BIPOC participants who would benefit from it. This is one way we commit to equity\, ensuring that diversity is not only welcomed but integral to the richness of the experience. \nIf the listed prices are still a barrier\, please reach out directly. I am more than willing to work with you to ensure that tea remains within reach for all who feel called to share in it. \nAll are welcome here. You are invited to arrive exactly as you are and take part in a space rooted in openness\, care\, and community\, a living space where each presence is honored and where we grow together through the deep\, transformative beauty of tea. \nTo help us hold a mindful and welcoming space\, we ask participants to be considerate of sensory sensitivities by avoiding strong fragrances. This is a space of gentle awareness\, where we honor our own needs as well as those of others. By showing up with openness\, care\, and respect for each other’s boundaries\, we create a collective atmosphere where meditation\, tea\, and queer belonging can flourish together. \nIn the spirit of reciprocity and uplifting community together\, five dollars from each participant will be donated to Q Center\, a nonprofit that supports LGBTQ2SIA+ communities through advocacy\, resources\, and safe spaces\, embodying tea’s spirit of connection\, reflection\, healing\, and belonging. \nThis gathering is guided by D’Guar (they/them)\, a trans person of color\, tea guide\, and community weaver rooted in Portland\, Oregon. Their journey has been dedicated to exploring the depth and spirit of Camellia sinensis through mindful practice\, story\, and shared ritual. Through Water Fairy Tea\, they cultivate spaces where tea becomes a bridge into presence\, nature\, and belonging. Their offerings blend learning with reverence\, inviting participants to meet tea not just as a drink\, but as a living companion in personal discovery\, collective care\, and connection with the natural world. \nWe acknowledge that this work takes place on the traditional lands of the Multnomah\, Clackamas\, Chinook\, Kathlamet\, Tualatin\, Kalapuya\, Molalla\, and many other Indigenous ancestors and communities. We honor their enduring presence\, care\, and wisdom\, and offer gratitude to the land and to the people who have tended it since time immemorial.
URL:https://clackamasartsalliance.org/event/alchemy-the-myth-of-puerh/2026-03-27/
LOCATION:Cup of Tea\, 10117 SE Sunnyside Rd\, Clackamas\, OR\, 97015\, United States
CATEGORIES:Craft,Culture,Workshops/Classes
ATTACH;FMTTYPE=image/png:https://clackamasartsalliance.org/wp-content/uploads/2026/02/Eventbright-2x1-10.png
ORGANIZER;CN="Cup of Tea":MAILTO:hello@cupoftea-oregon.com
END:VEVENT
END:VCALENDAR