BEGIN:VCALENDAR
VERSION:2.0
PRODID:-//Clackamas County Arts Alliance - ECPv6.15.18//NONSGML v1.0//EN
CALSCALE:GREGORIAN
METHOD:PUBLISH
X-ORIGINAL-URL:https://clackamasartsalliance.org
X-WR-CALDESC:Events for Clackamas County Arts Alliance
REFRESH-INTERVAL;VALUE=DURATION:PT1H
X-Robots-Tag:noindex
X-PUBLISHED-TTL:PT1H
BEGIN:VTIMEZONE
TZID:America/Los_Angeles
BEGIN:DAYLIGHT
TZOFFSETFROM:-0800
TZOFFSETTO:-0700
TZNAME:PDT
DTSTART:20250309T100000
END:DAYLIGHT
BEGIN:STANDARD
TZOFFSETFROM:-0700
TZOFFSETTO:-0800
TZNAME:PST
DTSTART:20251102T090000
END:STANDARD
BEGIN:DAYLIGHT
TZOFFSETFROM:-0800
TZOFFSETTO:-0700
TZNAME:PDT
DTSTART:20260308T100000
END:DAYLIGHT
BEGIN:STANDARD
TZOFFSETFROM:-0700
TZOFFSETTO:-0800
TZNAME:PST
DTSTART:20261101T090000
END:STANDARD
BEGIN:DAYLIGHT
TZOFFSETFROM:-0800
TZOFFSETTO:-0700
TZNAME:PDT
DTSTART:20270314T100000
END:DAYLIGHT
BEGIN:STANDARD
TZOFFSETFROM:-0700
TZOFFSETTO:-0800
TZNAME:PST
DTSTART:20271107T090000
END:STANDARD
END:VTIMEZONE
BEGIN:VEVENT
DTSTART;TZID=America/Los_Angeles:20260131T110000
DTEND;TZID=America/Los_Angeles:20260131T160000
DTSTAMP:20260424T111548
CREATED:20260107T034620Z
LAST-MODIFIED:20260109T210358Z
UID:10030327-1769857200-1769875200@clackamasartsalliance.org
SUMMARY:ARTMART
DESCRIPTION:ARTMART is back in January of 2026! We’ll be back in our usual spot in the Marylhurst Commons bookstore building (Clark Commons) at 3162 Furman Drive\, Marylhurst\, OR 97036. \nThis is one of our most exciting and popular events. In addition to being a treasure trove of art at flea market prices\, the funds we raise offset operating costs\, support program enhancements\, and enable us to keep programming free and open to the public. \nTu – Sat 11am – 4pm
URL:https://clackamasartsalliance.org/event/artmart-2/2026-01-31/
LOCATION:Clark Commons at Marylhurst\, 3162 Furman Drive\, Lake Oswego\, OR\, 97068\, United States
CATEGORIES:Art,Culture,Exhibit,Family Friendly,Free,Gallery,Sale,Visual
ATTACH;FMTTYPE=image/jpeg:https://clackamasartsalliance.org/wp-content/uploads/2026/01/aclo-artmart-salon-copy.jpg
ORGANIZER;CN="Arts Council of Lake Oswego":MAILTO:artscouncillo@gmail.com
END:VEVENT
END:VCALENDAR