BEGIN:VCALENDAR
VERSION:2.0
PRODID:-//Clackamas County Arts Alliance - ECPv6.15.18//NONSGML v1.0//EN
CALSCALE:GREGORIAN
METHOD:PUBLISH
X-ORIGINAL-URL:https://clackamasartsalliance.org
X-WR-CALDESC:Events for Clackamas County Arts Alliance
REFRESH-INTERVAL;VALUE=DURATION:PT1H
X-Robots-Tag:noindex
X-PUBLISHED-TTL:PT1H
BEGIN:VTIMEZONE
TZID:America/Los_Angeles
BEGIN:DAYLIGHT
TZOFFSETFROM:-0800
TZOFFSETTO:-0700
TZNAME:PDT
DTSTART:20250309T100000
END:DAYLIGHT
BEGIN:STANDARD
TZOFFSETFROM:-0700
TZOFFSETTO:-0800
TZNAME:PST
DTSTART:20251102T090000
END:STANDARD
BEGIN:DAYLIGHT
TZOFFSETFROM:-0800
TZOFFSETTO:-0700
TZNAME:PDT
DTSTART:20260308T100000
END:DAYLIGHT
BEGIN:STANDARD
TZOFFSETFROM:-0700
TZOFFSETTO:-0800
TZNAME:PST
DTSTART:20261101T090000
END:STANDARD
BEGIN:DAYLIGHT
TZOFFSETFROM:-0800
TZOFFSETTO:-0700
TZNAME:PDT
DTSTART:20270314T100000
END:DAYLIGHT
BEGIN:STANDARD
TZOFFSETFROM:-0700
TZOFFSETTO:-0800
TZNAME:PST
DTSTART:20271107T090000
END:STANDARD
END:VTIMEZONE
BEGIN:VEVENT
DTSTART;TZID=America/Los_Angeles:20260215T090000
DTEND;TZID=America/Los_Angeles:20260215T170000
DTSTAMP:20260424T111548
CREATED:20260203T002726Z
LAST-MODIFIED:20260203T010112Z
UID:10031485-1771146000-1771174800@clackamasartsalliance.org
SUMMARY:Stairwell Gallery: The Silk Paintings of Lê Trung Chính
DESCRIPTION:Stairwell Gallery: The Silk Paintings of Lê Trung Chính\nMonth of February\, all open hours\nThe Silk Paintings of Lê Trung Chính features works by the Vietnamese-born artist known for his luminous paintings on white silk. Using the traditional Serti method\, he outlines forms with a water-resistant medium before applying fabric dyes that are permanently set through steaming\, resulting in vivid color and fluid\, expressive lines unique to silk painting. His work focuses on people and shared human experiences\, drawing deeply from Vietnamese heritage and portraying scenes of daily life\, relationships\, and social themes.\nThe exhibition will be on view throughout February during regular library hours. Lake Oswego Public Library is located at 706 Fourth Street\, Lake Oswego. For more information\, contact April Younglove at 503-534-5667 or ayounglove@lakeoswego.city.
URL:https://clackamasartsalliance.org/event/stairwell-gallery-the-silk-paintings-of-le-trung-chinh/2026-02-15/
LOCATION:Lake Oswego Public Library\, 380 A Avenue\, Lake Oswego\, OR\, 97034\, United States
CATEGORIES:Culture,Library,Painting or Watercolor
ATTACH;FMTTYPE=image/png:https://clackamasartsalliance.org/wp-content/uploads/2026/01/2-1-2026-Stairwell-Gallery-TV-Slide.png
END:VEVENT
END:VCALENDAR