BEGIN:VCALENDAR
VERSION:2.0
PRODID:-//Clackamas County Arts Alliance - ECPv6.15.18//NONSGML v1.0//EN
CALSCALE:GREGORIAN
METHOD:PUBLISH
X-WR-CALNAME:Clackamas County Arts Alliance
X-ORIGINAL-URL:https://clackamasartsalliance.org
X-WR-CALDESC:Events for Clackamas County Arts Alliance
REFRESH-INTERVAL;VALUE=DURATION:PT1H
X-Robots-Tag:noindex
X-PUBLISHED-TTL:PT1H
BEGIN:VTIMEZONE
TZID:America/Los_Angeles
BEGIN:DAYLIGHT
TZOFFSETFROM:-0800
TZOFFSETTO:-0700
TZNAME:PDT
DTSTART:20250309T100000
END:DAYLIGHT
BEGIN:STANDARD
TZOFFSETFROM:-0700
TZOFFSETTO:-0800
TZNAME:PST
DTSTART:20251102T090000
END:STANDARD
BEGIN:DAYLIGHT
TZOFFSETFROM:-0800
TZOFFSETTO:-0700
TZNAME:PDT
DTSTART:20260308T100000
END:DAYLIGHT
BEGIN:STANDARD
TZOFFSETFROM:-0700
TZOFFSETTO:-0800
TZNAME:PST
DTSTART:20261101T090000
END:STANDARD
BEGIN:DAYLIGHT
TZOFFSETFROM:-0800
TZOFFSETTO:-0700
TZNAME:PDT
DTSTART:20270314T100000
END:DAYLIGHT
BEGIN:STANDARD
TZOFFSETFROM:-0700
TZOFFSETTO:-0800
TZNAME:PST
DTSTART:20271107T090000
END:STANDARD
END:VTIMEZONE
BEGIN:VEVENT
DTSTART;TZID=America/Los_Angeles:20260307T140000
DTEND;TZID=America/Los_Angeles:20260307T170000
DTSTAMP:20260424T155955
CREATED:20260224T044840Z
LAST-MODIFIED:20260224T044840Z
UID:10032113-1772892000-1772902800@clackamasartsalliance.org
SUMMARY:Youth Music Project Open House
DESCRIPTION:Make music with Youth Music Project for FREE at our Open Houses! Sample group classes\, test drive instruments\, meet instructors\, buy used gear\, and more. Come learn first hand what makes Youth Music Project rock\, and once you’ve found your sound get registered. \nComplete a YMP BINGO card for a chance to win one of THREE ukuleles we’ll be giving away! Plus\, new students will receive a $20 discount on their first group class registration if they sign up at the event! \nTry Instruments:\nPiano\nDrums\nUkulele\nVocals\nViolin\nBass\nMusic Production\nEarly Childhood activities \nOther fun stuff:\nAll ages karaoke/Open mic\nYMP BINGO scavenger hunt\nMeet instructors\nLearn about summer camps\nTemporary tattoos\nMake buttons\nBuy used instruments
URL:https://clackamasartsalliance.org/event/youth-music-project-open-house-2/
LOCATION:Youth Music Project\, 2015 8th Ave.\, West Linn\, Oregon\, 97068
CATEGORIES:Family Friendly,Free,Music
ATTACH;FMTTYPE=image/png:https://clackamasartsalliance.org/wp-content/uploads/2026/02/Open-House-FB-Banner-1920-x-1080-px-4.png
ORGANIZER;CN="Youth Music Project":MAILTO:info@youthmusicproject.org
END:VEVENT
BEGIN:VEVENT
DTSTART;TZID=America/Los_Angeles:20260307T193000
DTEND;TZID=America/Los_Angeles:20260307T213000
DTSTAMP:20260424T155955
CREATED:20260121T025234Z
LAST-MODIFIED:20260121T025234Z
UID:10030852-1772911800-1772919000@clackamasartsalliance.org
SUMMARY:Maze\, A Labyrinth Parody
DESCRIPTION:Twenty-year-old Sarah is given thirteen hours to solve a labyrinth and rescue her baby brother Toby when her wish for him to be taken away is granted by the Goblin King\, Jareth. Maze\, A Labyrinth Parody\, both pays homage to and pokes fun at the classic 80s movie. \nChapel Theatre is collaborating with Infernal Machine Productions\, a Portland-based film and stage show production house\, to bring “Maze” to life. A cultural phenomenon\, Maze continues Chapel Theatre’s focus on familiar storytelling\, presented with unique perspectives. The show will include a live band playing all David Bowie songs.
URL:https://clackamasartsalliance.org/event/maze-a-labyrinth-parody/2026-03-07/
LOCATION:Chapel Theatre\, 4107 Harrison Street\, Milwaukie\, OR\, 97222\, United States
CATEGORIES:Dance,Music,Performing,Theater
ATTACH;FMTTYPE=image/png:https://clackamasartsalliance.org/wp-content/uploads/2026/01/MAZE-square-logo-on-maze-bg.png
ORGANIZER;CN="The Chapel Theatre":MAILTO:corinn@chapeltheatremilwaukie.com
END:VEVENT
END:VCALENDAR