BEGIN:VCALENDAR
VERSION:2.0
PRODID:-//Clackamas County Arts Alliance - ECPv6.15.18//NONSGML v1.0//EN
CALSCALE:GREGORIAN
METHOD:PUBLISH
X-ORIGINAL-URL:https://clackamasartsalliance.org
X-WR-CALDESC:Events for Clackamas County Arts Alliance
REFRESH-INTERVAL;VALUE=DURATION:PT1H
X-Robots-Tag:noindex
X-PUBLISHED-TTL:PT1H
BEGIN:VTIMEZONE
TZID:America/Los_Angeles
BEGIN:DAYLIGHT
TZOFFSETFROM:-0800
TZOFFSETTO:-0700
TZNAME:PDT
DTSTART:20250309T100000
END:DAYLIGHT
BEGIN:STANDARD
TZOFFSETFROM:-0700
TZOFFSETTO:-0800
TZNAME:PST
DTSTART:20251102T090000
END:STANDARD
BEGIN:DAYLIGHT
TZOFFSETFROM:-0800
TZOFFSETTO:-0700
TZNAME:PDT
DTSTART:20260308T100000
END:DAYLIGHT
BEGIN:STANDARD
TZOFFSETFROM:-0700
TZOFFSETTO:-0800
TZNAME:PST
DTSTART:20261101T090000
END:STANDARD
BEGIN:DAYLIGHT
TZOFFSETFROM:-0800
TZOFFSETTO:-0700
TZNAME:PDT
DTSTART:20270314T100000
END:DAYLIGHT
BEGIN:STANDARD
TZOFFSETFROM:-0700
TZOFFSETTO:-0800
TZNAME:PST
DTSTART:20271107T090000
END:STANDARD
END:VTIMEZONE
BEGIN:VEVENT
DTSTART;TZID=America/Los_Angeles:20260403T100000
DTEND;TZID=America/Los_Angeles:20260403T170000
DTSTAMP:20260424T143613
CREATED:20260402T004933Z
LAST-MODIFIED:20260408T032711Z
UID:10032765-1775210400-1775235600@clackamasartsalliance.org
SUMMARY:Stairwell Gallery: The Artwork of Marie Lo
DESCRIPTION:Come view the paintings of artist and professor of Asian North American literature\, Marie Lo. Her oil paintings invite viewers to think about how we represent the world around us\, how we see ourselves\, and how we preserve the stories that shape our identities. The exhibition will be on view throughout April during regular library hours. Lake Oswego Public Library is located at 706 Fourth Street\, Lake Oswego. For more information\, contact April Younglove at 503-534-5667 or ayounglove@lakeoswego.city.
URL:https://clackamasartsalliance.org/event/stairwell-gallery-the-artwork-of-marie-lo/2026-04-03/
LOCATION:Lake Oswego Library\, 706 4th St.\, Lake Oswego\, OR\, 97034\, United States
CATEGORIES:Art,Exhibit,Free,Gallery,Library,Music
ATTACH;FMTTYPE=image/png:https://clackamasartsalliance.org/wp-content/uploads/2026/04/4-1-2026-Stairwell-Gallery-TV-slide.png
GEO:45.4239821;-122.6673796
X-APPLE-STRUCTURED-LOCATION;VALUE=URI;X-ADDRESS=Lake Oswego Library 706 4th St. Lake Oswego OR 97034 United States;X-APPLE-RADIUS=500;X-TITLE=706 4th St.:geo:-122.6673796,45.4239821
END:VEVENT
BEGIN:VEVENT
DTSTART;TZID=America/Los_Angeles:20260403T180000
DTEND;TZID=America/Los_Angeles:20260403T200000
DTSTAMP:20260424T143613
CREATED:20260304T221443Z
LAST-MODIFIED:20260304T221629Z
UID:10032216-1775239200-1775246400@clackamasartsalliance.org
SUMMARY:REX PUTNAM INDOOR PERCUSSION Friends and Family Event
DESCRIPTION:Winter Indoor Percussion is a worldwide competitive activity. WGI (Winter Guard Int’l) is the overseeing entity of this marching percussion and pageantry “Sport of the Arts” artform. Drumming\, dance\, choreography\, and a high level of percussion musicianship is all present with props\, costumes\, sound designs. REX PUTNAM INDOOR PERCUSSION was established in 2009 and has been competing for 10 years. Winning 1st place in PSA (scholastic A percussion) for the last 6 years\, this group has just moved up to Open Class. \nCompetition/performance schedule is at our website. This is the ONLY competitive percussion group (including marching band) active in Clackamas and Multnomah Counties. Watch our documentary at www.rexputnamindoorpercussion.com. FRIENDS AND FAMILY EVENT IS DONATIONS ONLY AND LOCATED IN THE MAIN GYM AT RPHS.
URL:https://clackamasartsalliance.org/event/rex-putnam-indoor-percussion-friends-and-family-event/
LOCATION:Rex Putnam High School Main Auditorium\, 4950 SE Roethe Rd\, Milwaukie\, OR\, 97267
CATEGORIES:Music
ATTACH;FMTTYPE=image/jpeg:https://clackamasartsalliance.org/wp-content/uploads/2026/02/2025.12.30_DrumlinePosterBLINK.jpeg
GEO:45.4004068;-122.6103068
X-APPLE-STRUCTURED-LOCATION;VALUE=URI;X-ADDRESS=Rex Putnam High School Main Auditorium 4950 SE Roethe Rd Milwaukie OR 97267;X-APPLE-RADIUS=500;X-TITLE=4950 SE Roethe Rd:geo:-122.6103068,45.4004068
END:VEVENT
BEGIN:VEVENT
DTSTART;TZID=America/Los_Angeles:20260403T183000
DTEND;TZID=America/Los_Angeles:20260403T203000
DTSTAMP:20260424T143613
CREATED:20250730T143231Z
LAST-MODIFIED:20250730T143231Z
UID:10023654-1775241000-1775248200@clackamasartsalliance.org
SUMMARY:Teen Open Mic Night
DESCRIPTION:Perform at YMP’s Teen Open Mic Night!\nAre you a musician aged 13-18? Come on down and share your songs to a live\, supportive audience. This is an incredible opportunity to hone your skills performing with state-of-the-art gear and sound engineers on our Meteor Lounge stage. Open Mic Nights are held on the first Friday of each month and hosted by our amazing Teen Interns. \nSign-up at the doors at 6:15 p.m | Performances begin 6:30 p.m.\nDon’t have a song to share? No worries! Gather some friends and come be a part of our supportive audience! All ages welcome to attend. \nNote: Parent/guardian permission and a signed media waver are required for performers under the age of 18.
URL:https://clackamasartsalliance.org/event/teen-open-mic-night/2026-04-03/
LOCATION:Youth Music Project Meteor Lounge\, 2015 8th Ave.\, West Linn\, OR\, 97068\, United States
CATEGORIES:Family Friendly,Free,Music,Youth
ORGANIZER;CN="Youth Music Project":MAILTO:info@youthmusicproject.org
GEO:45.345756;-122.6524408
X-APPLE-STRUCTURED-LOCATION;VALUE=URI;X-ADDRESS=Youth Music Project Meteor Lounge 2015 8th Ave. West Linn OR 97068 United States;X-APPLE-RADIUS=500;X-TITLE=2015 8th Ave.:geo:-122.6524408,45.345756
END:VEVENT
END:VCALENDAR