BEGIN:VCALENDAR
VERSION:2.0
PRODID:-//Clackamas County Arts Alliance - ECPv6.15.18//NONSGML v1.0//EN
CALSCALE:GREGORIAN
METHOD:PUBLISH
X-ORIGINAL-URL:https://clackamasartsalliance.org
X-WR-CALDESC:Events for Clackamas County Arts Alliance
REFRESH-INTERVAL;VALUE=DURATION:PT1H
X-Robots-Tag:noindex
X-PUBLISHED-TTL:PT1H
BEGIN:VTIMEZONE
TZID:America/Los_Angeles
BEGIN:DAYLIGHT
TZOFFSETFROM:-0800
TZOFFSETTO:-0700
TZNAME:PDT
DTSTART:20290311T100000
END:DAYLIGHT
BEGIN:STANDARD
TZOFFSETFROM:-0700
TZOFFSETTO:-0800
TZNAME:PST
DTSTART:20291104T090000
END:STANDARD
BEGIN:DAYLIGHT
TZOFFSETFROM:-0800
TZOFFSETTO:-0700
TZNAME:PDT
DTSTART:20300310T100000
END:DAYLIGHT
BEGIN:STANDARD
TZOFFSETFROM:-0700
TZOFFSETTO:-0800
TZNAME:PST
DTSTART:20301103T090000
END:STANDARD
BEGIN:DAYLIGHT
TZOFFSETFROM:-0800
TZOFFSETTO:-0700
TZNAME:PDT
DTSTART:20310309T100000
END:DAYLIGHT
BEGIN:STANDARD
TZOFFSETFROM:-0700
TZOFFSETTO:-0800
TZNAME:PST
DTSTART:20311102T090000
END:STANDARD
BEGIN:DAYLIGHT
TZOFFSETFROM:-0800
TZOFFSETTO:-0700
TZNAME:PDT
DTSTART:20320314T100000
END:DAYLIGHT
BEGIN:STANDARD
TZOFFSETFROM:-0700
TZOFFSETTO:-0800
TZNAME:PST
DTSTART:20321107T090000
END:STANDARD
END:VTIMEZONE
BEGIN:VEVENT
DTSTART;TZID=America/Los_Angeles:20300705T183000
DTEND;TZID=America/Los_Angeles:20300705T203000
DTSTAMP:20260425T091204
CREATED:20250730T143231Z
LAST-MODIFIED:20250730T143231Z
UID:10023705-1909506600-1909513800@clackamasartsalliance.org
SUMMARY:Teen Open Mic Night
DESCRIPTION:Perform at YMP’s Teen Open Mic Night!\nAre you a musician aged 13-18? Come on down and share your songs to a live\, supportive audience. This is an incredible opportunity to hone your skills performing with state-of-the-art gear and sound engineers on our Meteor Lounge stage. Open Mic Nights are held on the first Friday of each month and hosted by our amazing Teen Interns. \nSign-up at the doors at 6:15 p.m | Performances begin 6:30 p.m.\nDon’t have a song to share? No worries! Gather some friends and come be a part of our supportive audience! All ages welcome to attend. \nNote: Parent/guardian permission and a signed media waver are required for performers under the age of 18.
URL:https://clackamasartsalliance.org/event/teen-open-mic-night/2030-07-05/
LOCATION:Youth Music Project Meteor Lounge\, 2015 8th Ave.\, West Linn\, OR\, 97068\, United States
CATEGORIES:Family Friendly,Free,Music,Youth
ORGANIZER;CN="Youth Music Project":MAILTO:info@youthmusicproject.org
GEO:45.345756;-122.6524408
X-APPLE-STRUCTURED-LOCATION;VALUE=URI;X-ADDRESS=Youth Music Project Meteor Lounge 2015 8th Ave. West Linn OR 97068 United States;X-APPLE-RADIUS=500;X-TITLE=2015 8th Ave.:geo:-122.6524408,45.345756
END:VEVENT
BEGIN:VEVENT
DTSTART;TZID=America/Los_Angeles:20300802T183000
DTEND;TZID=America/Los_Angeles:20300802T203000
DTSTAMP:20260425T091204
CREATED:20250730T143231Z
LAST-MODIFIED:20250730T143231Z
UID:10033047-1911925800-1911933000@clackamasartsalliance.org
SUMMARY:Teen Open Mic Night
DESCRIPTION:Perform at YMP’s Teen Open Mic Night!\nAre you a musician aged 13-18? Come on down and share your songs to a live\, supportive audience. This is an incredible opportunity to hone your skills performing with state-of-the-art gear and sound engineers on our Meteor Lounge stage. Open Mic Nights are held on the first Friday of each month and hosted by our amazing Teen Interns. \nSign-up at the doors at 6:15 p.m | Performances begin 6:30 p.m.\nDon’t have a song to share? No worries! Gather some friends and come be a part of our supportive audience! All ages welcome to attend. \nNote: Parent/guardian permission and a signed media waver are required for performers under the age of 18.
URL:https://clackamasartsalliance.org/event/teen-open-mic-night/2030-08-02/
LOCATION:Youth Music Project Meteor Lounge\, 2015 8th Ave.\, West Linn\, OR\, 97068\, United States
CATEGORIES:Family Friendly,Free,Music,Youth
ORGANIZER;CN="Youth Music Project":MAILTO:info@youthmusicproject.org
GEO:45.345756;-122.6524408
X-APPLE-STRUCTURED-LOCATION;VALUE=URI;X-ADDRESS=Youth Music Project Meteor Lounge 2015 8th Ave. West Linn OR 97068 United States;X-APPLE-RADIUS=500;X-TITLE=2015 8th Ave.:geo:-122.6524408,45.345756
END:VEVENT
BEGIN:VEVENT
DTSTART;TZID=America/Los_Angeles:20300906T183000
DTEND;TZID=America/Los_Angeles:20300906T203000
DTSTAMP:20260425T091204
CREATED:20250730T143231Z
LAST-MODIFIED:20250730T143231Z
UID:10033048-1914949800-1914957000@clackamasartsalliance.org
SUMMARY:Teen Open Mic Night
DESCRIPTION:Perform at YMP’s Teen Open Mic Night!\nAre you a musician aged 13-18? Come on down and share your songs to a live\, supportive audience. This is an incredible opportunity to hone your skills performing with state-of-the-art gear and sound engineers on our Meteor Lounge stage. Open Mic Nights are held on the first Friday of each month and hosted by our amazing Teen Interns. \nSign-up at the doors at 6:15 p.m | Performances begin 6:30 p.m.\nDon’t have a song to share? No worries! Gather some friends and come be a part of our supportive audience! All ages welcome to attend. \nNote: Parent/guardian permission and a signed media waver are required for performers under the age of 18.
URL:https://clackamasartsalliance.org/event/teen-open-mic-night/2030-09-06/
LOCATION:Youth Music Project Meteor Lounge\, 2015 8th Ave.\, West Linn\, OR\, 97068\, United States
CATEGORIES:Family Friendly,Free,Music,Youth
ORGANIZER;CN="Youth Music Project":MAILTO:info@youthmusicproject.org
GEO:45.345756;-122.6524408
X-APPLE-STRUCTURED-LOCATION;VALUE=URI;X-ADDRESS=Youth Music Project Meteor Lounge 2015 8th Ave. West Linn OR 97068 United States;X-APPLE-RADIUS=500;X-TITLE=2015 8th Ave.:geo:-122.6524408,45.345756
END:VEVENT
BEGIN:VEVENT
DTSTART;TZID=America/Los_Angeles:20301004T183000
DTEND;TZID=America/Los_Angeles:20301004T203000
DTSTAMP:20260425T091204
CREATED:20250730T143231Z
LAST-MODIFIED:20250730T143231Z
UID:10033049-1917369000-1917376200@clackamasartsalliance.org
SUMMARY:Teen Open Mic Night
DESCRIPTION:Perform at YMP’s Teen Open Mic Night!\nAre you a musician aged 13-18? Come on down and share your songs to a live\, supportive audience. This is an incredible opportunity to hone your skills performing with state-of-the-art gear and sound engineers on our Meteor Lounge stage. Open Mic Nights are held on the first Friday of each month and hosted by our amazing Teen Interns. \nSign-up at the doors at 6:15 p.m | Performances begin 6:30 p.m.\nDon’t have a song to share? No worries! Gather some friends and come be a part of our supportive audience! All ages welcome to attend. \nNote: Parent/guardian permission and a signed media waver are required for performers under the age of 18.
URL:https://clackamasartsalliance.org/event/teen-open-mic-night/2030-10-04/
LOCATION:Youth Music Project Meteor Lounge\, 2015 8th Ave.\, West Linn\, OR\, 97068\, United States
CATEGORIES:Family Friendly,Free,Music,Youth
ORGANIZER;CN="Youth Music Project":MAILTO:info@youthmusicproject.org
GEO:45.345756;-122.6524408
X-APPLE-STRUCTURED-LOCATION;VALUE=URI;X-ADDRESS=Youth Music Project Meteor Lounge 2015 8th Ave. West Linn OR 97068 United States;X-APPLE-RADIUS=500;X-TITLE=2015 8th Ave.:geo:-122.6524408,45.345756
END:VEVENT
BEGIN:VEVENT
DTSTART;TZID=America/Los_Angeles:20301101T183000
DTEND;TZID=America/Los_Angeles:20301101T203000
DTSTAMP:20260425T091204
CREATED:20250730T143231Z
LAST-MODIFIED:20250730T143231Z
UID:10033050-1919788200-1919795400@clackamasartsalliance.org
SUMMARY:Teen Open Mic Night
DESCRIPTION:Perform at YMP’s Teen Open Mic Night!\nAre you a musician aged 13-18? Come on down and share your songs to a live\, supportive audience. This is an incredible opportunity to hone your skills performing with state-of-the-art gear and sound engineers on our Meteor Lounge stage. Open Mic Nights are held on the first Friday of each month and hosted by our amazing Teen Interns. \nSign-up at the doors at 6:15 p.m | Performances begin 6:30 p.m.\nDon’t have a song to share? No worries! Gather some friends and come be a part of our supportive audience! All ages welcome to attend. \nNote: Parent/guardian permission and a signed media waver are required for performers under the age of 18.
URL:https://clackamasartsalliance.org/event/teen-open-mic-night/2030-11-01/
LOCATION:Youth Music Project Meteor Lounge\, 2015 8th Ave.\, West Linn\, OR\, 97068\, United States
CATEGORIES:Family Friendly,Free,Music,Youth
ORGANIZER;CN="Youth Music Project":MAILTO:info@youthmusicproject.org
GEO:45.345756;-122.6524408
X-APPLE-STRUCTURED-LOCATION;VALUE=URI;X-ADDRESS=Youth Music Project Meteor Lounge 2015 8th Ave. West Linn OR 97068 United States;X-APPLE-RADIUS=500;X-TITLE=2015 8th Ave.:geo:-122.6524408,45.345756
END:VEVENT
BEGIN:VEVENT
DTSTART;TZID=America/Los_Angeles:20301206T183000
DTEND;TZID=America/Los_Angeles:20301206T203000
DTSTAMP:20260425T091204
CREATED:20250730T143231Z
LAST-MODIFIED:20250730T143231Z
UID:10033051-1922812200-1922819400@clackamasartsalliance.org
SUMMARY:Teen Open Mic Night
DESCRIPTION:Perform at YMP’s Teen Open Mic Night!\nAre you a musician aged 13-18? Come on down and share your songs to a live\, supportive audience. This is an incredible opportunity to hone your skills performing with state-of-the-art gear and sound engineers on our Meteor Lounge stage. Open Mic Nights are held on the first Friday of each month and hosted by our amazing Teen Interns. \nSign-up at the doors at 6:15 p.m | Performances begin 6:30 p.m.\nDon’t have a song to share? No worries! Gather some friends and come be a part of our supportive audience! All ages welcome to attend. \nNote: Parent/guardian permission and a signed media waver are required for performers under the age of 18.
URL:https://clackamasartsalliance.org/event/teen-open-mic-night/2030-12-06/
LOCATION:Youth Music Project Meteor Lounge\, 2015 8th Ave.\, West Linn\, OR\, 97068\, United States
CATEGORIES:Family Friendly,Free,Music,Youth
ORGANIZER;CN="Youth Music Project":MAILTO:info@youthmusicproject.org
GEO:45.345756;-122.6524408
X-APPLE-STRUCTURED-LOCATION;VALUE=URI;X-ADDRESS=Youth Music Project Meteor Lounge 2015 8th Ave. West Linn OR 97068 United States;X-APPLE-RADIUS=500;X-TITLE=2015 8th Ave.:geo:-122.6524408,45.345756
END:VEVENT
BEGIN:VEVENT
DTSTART;TZID=America/Los_Angeles:20310103T183000
DTEND;TZID=America/Los_Angeles:20310103T203000
DTSTAMP:20260425T091204
CREATED:20250730T143231Z
LAST-MODIFIED:20250730T143231Z
UID:10033052-1925231400-1925238600@clackamasartsalliance.org
SUMMARY:Teen Open Mic Night
DESCRIPTION:Perform at YMP’s Teen Open Mic Night!\nAre you a musician aged 13-18? Come on down and share your songs to a live\, supportive audience. This is an incredible opportunity to hone your skills performing with state-of-the-art gear and sound engineers on our Meteor Lounge stage. Open Mic Nights are held on the first Friday of each month and hosted by our amazing Teen Interns. \nSign-up at the doors at 6:15 p.m | Performances begin 6:30 p.m.\nDon’t have a song to share? No worries! Gather some friends and come be a part of our supportive audience! All ages welcome to attend. \nNote: Parent/guardian permission and a signed media waver are required for performers under the age of 18.
URL:https://clackamasartsalliance.org/event/teen-open-mic-night/2031-01-03/
LOCATION:Youth Music Project Meteor Lounge\, 2015 8th Ave.\, West Linn\, OR\, 97068\, United States
CATEGORIES:Family Friendly,Free,Music,Youth
ORGANIZER;CN="Youth Music Project":MAILTO:info@youthmusicproject.org
GEO:45.345756;-122.6524408
X-APPLE-STRUCTURED-LOCATION;VALUE=URI;X-ADDRESS=Youth Music Project Meteor Lounge 2015 8th Ave. West Linn OR 97068 United States;X-APPLE-RADIUS=500;X-TITLE=2015 8th Ave.:geo:-122.6524408,45.345756
END:VEVENT
BEGIN:VEVENT
DTSTART;TZID=America/Los_Angeles:20310207T183000
DTEND;TZID=America/Los_Angeles:20310207T203000
DTSTAMP:20260425T091204
CREATED:20250730T143231Z
LAST-MODIFIED:20250730T143231Z
UID:10033053-1928255400-1928262600@clackamasartsalliance.org
SUMMARY:Teen Open Mic Night
DESCRIPTION:Perform at YMP’s Teen Open Mic Night!\nAre you a musician aged 13-18? Come on down and share your songs to a live\, supportive audience. This is an incredible opportunity to hone your skills performing with state-of-the-art gear and sound engineers on our Meteor Lounge stage. Open Mic Nights are held on the first Friday of each month and hosted by our amazing Teen Interns. \nSign-up at the doors at 6:15 p.m | Performances begin 6:30 p.m.\nDon’t have a song to share? No worries! Gather some friends and come be a part of our supportive audience! All ages welcome to attend. \nNote: Parent/guardian permission and a signed media waver are required for performers under the age of 18.
URL:https://clackamasartsalliance.org/event/teen-open-mic-night/2031-02-07/
LOCATION:Youth Music Project Meteor Lounge\, 2015 8th Ave.\, West Linn\, OR\, 97068\, United States
CATEGORIES:Family Friendly,Free,Music,Youth
ORGANIZER;CN="Youth Music Project":MAILTO:info@youthmusicproject.org
GEO:45.345756;-122.6524408
X-APPLE-STRUCTURED-LOCATION;VALUE=URI;X-ADDRESS=Youth Music Project Meteor Lounge 2015 8th Ave. West Linn OR 97068 United States;X-APPLE-RADIUS=500;X-TITLE=2015 8th Ave.:geo:-122.6524408,45.345756
END:VEVENT
BEGIN:VEVENT
DTSTART;TZID=America/Los_Angeles:20310307T183000
DTEND;TZID=America/Los_Angeles:20310307T203000
DTSTAMP:20260425T091204
CREATED:20250730T143231Z
LAST-MODIFIED:20250730T143231Z
UID:10033054-1930674600-1930681800@clackamasartsalliance.org
SUMMARY:Teen Open Mic Night
DESCRIPTION:Perform at YMP’s Teen Open Mic Night!\nAre you a musician aged 13-18? Come on down and share your songs to a live\, supportive audience. This is an incredible opportunity to hone your skills performing with state-of-the-art gear and sound engineers on our Meteor Lounge stage. Open Mic Nights are held on the first Friday of each month and hosted by our amazing Teen Interns. \nSign-up at the doors at 6:15 p.m | Performances begin 6:30 p.m.\nDon’t have a song to share? No worries! Gather some friends and come be a part of our supportive audience! All ages welcome to attend. \nNote: Parent/guardian permission and a signed media waver are required for performers under the age of 18.
URL:https://clackamasartsalliance.org/event/teen-open-mic-night/2031-03-07/
LOCATION:Youth Music Project Meteor Lounge\, 2015 8th Ave.\, West Linn\, OR\, 97068\, United States
CATEGORIES:Family Friendly,Free,Music,Youth
ORGANIZER;CN="Youth Music Project":MAILTO:info@youthmusicproject.org
GEO:45.345756;-122.6524408
X-APPLE-STRUCTURED-LOCATION;VALUE=URI;X-ADDRESS=Youth Music Project Meteor Lounge 2015 8th Ave. West Linn OR 97068 United States;X-APPLE-RADIUS=500;X-TITLE=2015 8th Ave.:geo:-122.6524408,45.345756
END:VEVENT
BEGIN:VEVENT
DTSTART;TZID=America/Los_Angeles:20310404T183000
DTEND;TZID=America/Los_Angeles:20310404T203000
DTSTAMP:20260425T091204
CREATED:20250730T143231Z
LAST-MODIFIED:20250730T143231Z
UID:10033056-1933093800-1933101000@clackamasartsalliance.org
SUMMARY:Teen Open Mic Night
DESCRIPTION:Perform at YMP’s Teen Open Mic Night!\nAre you a musician aged 13-18? Come on down and share your songs to a live\, supportive audience. This is an incredible opportunity to hone your skills performing with state-of-the-art gear and sound engineers on our Meteor Lounge stage. Open Mic Nights are held on the first Friday of each month and hosted by our amazing Teen Interns. \nSign-up at the doors at 6:15 p.m | Performances begin 6:30 p.m.\nDon’t have a song to share? No worries! Gather some friends and come be a part of our supportive audience! All ages welcome to attend. \nNote: Parent/guardian permission and a signed media waver are required for performers under the age of 18.
URL:https://clackamasartsalliance.org/event/teen-open-mic-night/2031-04-04/
LOCATION:Youth Music Project Meteor Lounge\, 2015 8th Ave.\, West Linn\, OR\, 97068\, United States
CATEGORIES:Family Friendly,Free,Music,Youth
ORGANIZER;CN="Youth Music Project":MAILTO:info@youthmusicproject.org
GEO:45.345756;-122.6524408
X-APPLE-STRUCTURED-LOCATION;VALUE=URI;X-ADDRESS=Youth Music Project Meteor Lounge 2015 8th Ave. West Linn OR 97068 United States;X-APPLE-RADIUS=500;X-TITLE=2015 8th Ave.:geo:-122.6524408,45.345756
END:VEVENT
END:VCALENDAR