BEGIN:VCALENDAR
VERSION:2.0
PRODID:-//Clackamas County Arts Alliance - ECPv6.15.18//NONSGML v1.0//EN
CALSCALE:GREGORIAN
METHOD:PUBLISH
X-WR-CALNAME:Clackamas County Arts Alliance
X-ORIGINAL-URL:https://clackamasartsalliance.org
X-WR-CALDESC:Events for Clackamas County Arts Alliance
REFRESH-INTERVAL;VALUE=DURATION:PT1H
X-Robots-Tag:noindex
X-PUBLISHED-TTL:PT1H
BEGIN:VTIMEZONE
TZID:America/Los_Angeles
BEGIN:DAYLIGHT
TZOFFSETFROM:-0800
TZOFFSETTO:-0700
TZNAME:PDT
DTSTART:20240310T100000
END:DAYLIGHT
BEGIN:STANDARD
TZOFFSETFROM:-0700
TZOFFSETTO:-0800
TZNAME:PST
DTSTART:20241103T090000
END:STANDARD
BEGIN:DAYLIGHT
TZOFFSETFROM:-0800
TZOFFSETTO:-0700
TZNAME:PDT
DTSTART:20250309T100000
END:DAYLIGHT
BEGIN:STANDARD
TZOFFSETFROM:-0700
TZOFFSETTO:-0800
TZNAME:PST
DTSTART:20251102T090000
END:STANDARD
BEGIN:DAYLIGHT
TZOFFSETFROM:-0800
TZOFFSETTO:-0700
TZNAME:PDT
DTSTART:20260308T100000
END:DAYLIGHT
BEGIN:STANDARD
TZOFFSETFROM:-0700
TZOFFSETTO:-0800
TZNAME:PST
DTSTART:20261101T090000
END:STANDARD
BEGIN:DAYLIGHT
TZOFFSETFROM:-0800
TZOFFSETTO:-0700
TZNAME:PDT
DTSTART:20270314T100000
END:DAYLIGHT
BEGIN:STANDARD
TZOFFSETFROM:-0700
TZOFFSETTO:-0800
TZNAME:PST
DTSTART:20271107T090000
END:STANDARD
END:VTIMEZONE
BEGIN:VEVENT
DTSTART;TZID=America/Los_Angeles:20260412T143000
DTEND;TZID=America/Los_Angeles:20260412T163000
DTSTAMP:20260424T123627
CREATED:20260331T013616Z
LAST-MODIFIED:20260331T013616Z
UID:10032682-1776004200-1776011400@clackamasartsalliance.org
SUMMARY:Milwaukie Creatives Meetup
DESCRIPTION:Calling all Milwaukie artists! Come connect with other local creatives\, make new friends and share ideas for future meetups\, collaborations\, or art events. This is a casual event\, pop in anytime between 2:30-4:30. Light refreshments will be provided. \nSunday\, April 12 2:30-4:30 pm\nMilwaukie Ledding Library \n-Hosted by Sheryl Riley\, Sandra Alderman and Robin Phillips Occhipinti \nWe hope to see you! Please share this event.
URL:https://clackamasartsalliance.org/event/milwaukie-creatives-meetup/
LOCATION:Milwaukie Ledding Library\, 10660 SE 21st Ave.\, Milwaukie\, OR\, 97222\, United States
CATEGORIES:Art,Networking
ATTACH;FMTTYPE=image/jpeg:https://clackamasartsalliance.org/wp-content/uploads/2026/03/Milwaukie-Creatives-Meetup.jpg
GEO:45.4461288;-122.6403619
X-APPLE-STRUCTURED-LOCATION;VALUE=URI;X-ADDRESS=Milwaukie Ledding Library 10660 SE 21st Ave. Milwaukie OR 97222 United States;X-APPLE-RADIUS=500;X-TITLE=10660 SE 21st Ave.:geo:-122.6403619,45.4461288
END:VEVENT
BEGIN:VEVENT
DTSTART;TZID=America/Los_Angeles:20260410T100000
DTEND;TZID=America/Los_Angeles:20260410T120000
DTSTAMP:20260424T123627
CREATED:20260121T015534Z
LAST-MODIFIED:20260121T015534Z
UID:10030769-1775815200-1775822400@clackamasartsalliance.org
SUMMARY:Knit Happens – A Monthly Knitting Circle
DESCRIPTION:All knitters welcome—from first stitches to seasoned pros! Bring your yarn\, your needles\, and your creativity to our cozy tea house. This monthly gathering is all about slowing down\, sipping tea\, sharing projects\, and getting to know your fellow knitters. \nCome for the stitches\, stay for the stories—together we’ll weave community\, one row at a time.
URL:https://clackamasartsalliance.org/event/knit-happens-a-monthly-knitting-circle/2026-04-10/
LOCATION:Cup of Tea\, 10117 SE Sunnyside Rd\, Clackamas\, OR\, 97015\, United States
CATEGORIES:Networking,Textiles
ATTACH;FMTTYPE=image/jpeg:https://clackamasartsalliance.org/wp-content/uploads/2026/01/knitting_group_976kb.jpg
END:VEVENT
BEGIN:VEVENT
DTSTART;TZID=America/Los_Angeles:20260313T100000
DTEND;TZID=America/Los_Angeles:20260313T120000
DTSTAMP:20260424T123627
CREATED:20260121T015534Z
LAST-MODIFIED:20260121T015534Z
UID:10030768-1773396000-1773403200@clackamasartsalliance.org
SUMMARY:Knit Happens – A Monthly Knitting Circle
DESCRIPTION:All knitters welcome—from first stitches to seasoned pros! Bring your yarn\, your needles\, and your creativity to our cozy tea house. This monthly gathering is all about slowing down\, sipping tea\, sharing projects\, and getting to know your fellow knitters. \nCome for the stitches\, stay for the stories—together we’ll weave community\, one row at a time.
URL:https://clackamasartsalliance.org/event/knit-happens-a-monthly-knitting-circle/2026-03-13/
LOCATION:Cup of Tea\, 10117 SE Sunnyside Rd\, Clackamas\, OR\, 97015\, United States
CATEGORIES:Networking,Textiles
ATTACH;FMTTYPE=image/jpeg:https://clackamasartsalliance.org/wp-content/uploads/2026/01/knitting_group_976kb.jpg
END:VEVENT
BEGIN:VEVENT
DTSTART;TZID=America/Los_Angeles:20260226T173000
DTEND;TZID=America/Los_Angeles:20260226T183000
DTSTAMP:20260424T123627
CREATED:20260211T012159Z
LAST-MODIFIED:20260211T012159Z
UID:10031514-1772127000-1772130600@clackamasartsalliance.org
SUMMARY:Bring Your Own (BYO) Mystery Book Group
DESCRIPTION:Join a casual mystery book group the last Thursday of the month in the Library Meeting Room on the 2nd floor.\nThere will be no assigned books\, just time to share and discuss a mystery book that you’ve read with fellow mystery book enthusiasts.\nLake Oswego Public Library is located at 706 Fourth Street\, Lake Oswego. For more information\, contact Alicia Yokoyama at 503-534-4228 or ayokoyama@lakeoswego.city.
URL:https://clackamasartsalliance.org/event/bring-your-own-byo-mystery-book-group-2/
LOCATION:Lake Oswego Public Library\, 380 A Avenue\, Lake Oswego\, OR\, 97034\, United States
CATEGORIES:Book Club,Library,Networking
ATTACH;FMTTYPE=image/png:https://clackamasartsalliance.org/wp-content/uploads/2026/02/3-26-2026-BYO-Mystery-Book-Group-Instagram.png
END:VEVENT
BEGIN:VEVENT
DTSTART;TZID=America/Los_Angeles:20260213T100000
DTEND;TZID=America/Los_Angeles:20260213T120000
DTSTAMP:20260424T123627
CREATED:20260121T015534Z
LAST-MODIFIED:20260121T015534Z
UID:10030767-1770976800-1770984000@clackamasartsalliance.org
SUMMARY:Knit Happens – A Monthly Knitting Circle
DESCRIPTION:All knitters welcome—from first stitches to seasoned pros! Bring your yarn\, your needles\, and your creativity to our cozy tea house. This monthly gathering is all about slowing down\, sipping tea\, sharing projects\, and getting to know your fellow knitters. \nCome for the stitches\, stay for the stories—together we’ll weave community\, one row at a time.
URL:https://clackamasartsalliance.org/event/knit-happens-a-monthly-knitting-circle/2026-02-13/
LOCATION:Cup of Tea\, 10117 SE Sunnyside Rd\, Clackamas\, OR\, 97015\, United States
CATEGORIES:Networking,Textiles
ATTACH;FMTTYPE=image/jpeg:https://clackamasartsalliance.org/wp-content/uploads/2026/01/knitting_group_976kb.jpg
END:VEVENT
BEGIN:VEVENT
DTSTART;TZID=America/Los_Angeles:20260124T120000
DTEND;TZID=America/Los_Angeles:20260124T140000
DTSTAMP:20260424T123627
CREATED:20260113T003414Z
LAST-MODIFIED:20260113T003439Z
UID:10030717-1769256000-1769263200@clackamasartsalliance.org
SUMMARY:Creative Community: Meet the Artists Panel with the Milwaukie Arts Committee
DESCRIPTION:Please join us at the Ledding Library’s Community Room to meet the wide range of volunteers that make up your Milwaukie Arts Committee. We will discuss why creativity matters and why we need art in this world.\nThe event is from 12pm to 2pm. There will be a moderated panel discussion from 12:30-1:30 PM.\nArtwork from various committee members will be on display. Refreshments will be provided. This is a free event\, all are welcome! See less
URL:https://clackamasartsalliance.org/event/creative-community-meet-the-artists-panel-with-the-milwaukie-arts-committee/
LOCATION:OR
CATEGORIES:Library,Networking
ATTACH;FMTTYPE=image/jpeg:https://clackamasartsalliance.org/wp-content/uploads/2026/01/IMG_4187.jpeg
ORGANIZER;CN="Milwaukie Arts Committee":MAILTO:milwaukiearts@gmail.com
END:VEVENT
BEGIN:VEVENT
DTSTART;TZID=America/Los_Angeles:20251205T181500
DTEND;TZID=America/Los_Angeles:20251205T193000
DTSTAMP:20260424T123627
CREATED:20250402T015435Z
LAST-MODIFIED:20250402T015435Z
UID:10020207-1764958500-1764963000@clackamasartsalliance.org
SUMMARY:Teen Open Mic
DESCRIPTION:Perform at YMP’s Teen Open Mic Night!\nAre you a musician aged 13-18? Come on down and share your songs to a live\, supportive audience. This is an incredible opportunity to hone your skills performing with state-of-the-art gear and sound engineers on our Meteor Lounge stage. Open Mic Nights are held on the first Friday of each month and hosted by our amazing Teen Interns. \nSign-up at the doors at 6:15 p.m | Performances begin 6:30 p.m.\nDon’t have a song to share? No worries! Gather some friends and come be a part of our supportive audience! All ages welcome to attend. \nNote: Parent/guardian permission and a signed media waver are required for performers under the age of 18.
URL:https://clackamasartsalliance.org/event/teen-open-mic/2025-12-05/
LOCATION:Youth Music Project Meteor Lounge\, 2015 8th Ave.\, West Linn\, OR\, 97068\, United States
CATEGORIES:Music,Networking,Performing,Youth
ORGANIZER;CN="Youth Music Project":MAILTO:info@youthmusicproject.org
GEO:45.345756;-122.6524408
X-APPLE-STRUCTURED-LOCATION;VALUE=URI;X-ADDRESS=Youth Music Project Meteor Lounge 2015 8th Ave. West Linn OR 97068 United States;X-APPLE-RADIUS=500;X-TITLE=2015 8th Ave.:geo:-122.6524408,45.345756
END:VEVENT
BEGIN:VEVENT
DTSTART;TZID=America/Los_Angeles:20251107T181500
DTEND;TZID=America/Los_Angeles:20251107T193000
DTSTAMP:20260424T123627
CREATED:20250402T015435Z
LAST-MODIFIED:20250402T015435Z
UID:10020206-1762539300-1762543800@clackamasartsalliance.org
SUMMARY:Teen Open Mic
DESCRIPTION:Perform at YMP’s Teen Open Mic Night!\nAre you a musician aged 13-18? Come on down and share your songs to a live\, supportive audience. This is an incredible opportunity to hone your skills performing with state-of-the-art gear and sound engineers on our Meteor Lounge stage. Open Mic Nights are held on the first Friday of each month and hosted by our amazing Teen Interns. \nSign-up at the doors at 6:15 p.m | Performances begin 6:30 p.m.\nDon’t have a song to share? No worries! Gather some friends and come be a part of our supportive audience! All ages welcome to attend. \nNote: Parent/guardian permission and a signed media waver are required for performers under the age of 18.
URL:https://clackamasartsalliance.org/event/teen-open-mic/2025-11-07/
LOCATION:Youth Music Project Meteor Lounge\, 2015 8th Ave.\, West Linn\, OR\, 97068\, United States
CATEGORIES:Music,Networking,Performing,Youth
ORGANIZER;CN="Youth Music Project":MAILTO:info@youthmusicproject.org
GEO:45.345756;-122.6524408
X-APPLE-STRUCTURED-LOCATION;VALUE=URI;X-ADDRESS=Youth Music Project Meteor Lounge 2015 8th Ave. West Linn OR 97068 United States;X-APPLE-RADIUS=500;X-TITLE=2015 8th Ave.:geo:-122.6524408,45.345756
END:VEVENT
END:VCALENDAR