BEGIN:VCALENDAR
VERSION:2.0
PRODID:-//Clackamas County Arts Alliance - ECPv6.15.18//NONSGML v1.0//EN
CALSCALE:GREGORIAN
METHOD:PUBLISH
X-WR-CALNAME:Clackamas County Arts Alliance
X-ORIGINAL-URL:https://clackamasartsalliance.org
X-WR-CALDESC:Events for Clackamas County Arts Alliance
REFRESH-INTERVAL;VALUE=DURATION:PT1H
X-Robots-Tag:noindex
X-PUBLISHED-TTL:PT1H
BEGIN:VTIMEZONE
TZID:America/Los_Angeles
BEGIN:DAYLIGHT
TZOFFSETFROM:-0800
TZOFFSETTO:-0700
TZNAME:PDT
DTSTART:20250309T100000
END:DAYLIGHT
BEGIN:STANDARD
TZOFFSETFROM:-0700
TZOFFSETTO:-0800
TZNAME:PST
DTSTART:20251102T090000
END:STANDARD
BEGIN:DAYLIGHT
TZOFFSETFROM:-0800
TZOFFSETTO:-0700
TZNAME:PDT
DTSTART:20260308T100000
END:DAYLIGHT
BEGIN:STANDARD
TZOFFSETFROM:-0700
TZOFFSETTO:-0800
TZNAME:PST
DTSTART:20261101T090000
END:STANDARD
BEGIN:DAYLIGHT
TZOFFSETFROM:-0800
TZOFFSETTO:-0700
TZNAME:PDT
DTSTART:20270314T100000
END:DAYLIGHT
BEGIN:STANDARD
TZOFFSETFROM:-0700
TZOFFSETTO:-0800
TZNAME:PST
DTSTART:20271107T090000
END:STANDARD
BEGIN:DAYLIGHT
TZOFFSETFROM:-0800
TZOFFSETTO:-0700
TZNAME:PDT
DTSTART:20280312T100000
END:DAYLIGHT
BEGIN:STANDARD
TZOFFSETFROM:-0700
TZOFFSETTO:-0800
TZNAME:PST
DTSTART:20281105T090000
END:STANDARD
END:VTIMEZONE
BEGIN:VEVENT
DTSTART;TZID=America/Los_Angeles:20260710T100000
DTEND;TZID=America/Los_Angeles:20260710T120000
DTSTAMP:20260425T021238
CREATED:20260121T015534Z
LAST-MODIFIED:20260121T015534Z
UID:10030772-1783677600-1783684800@clackamasartsalliance.org
SUMMARY:Knit Happens – A Monthly Knitting Circle
DESCRIPTION:All knitters welcome—from first stitches to seasoned pros! Bring your yarn\, your needles\, and your creativity to our cozy tea house. This monthly gathering is all about slowing down\, sipping tea\, sharing projects\, and getting to know your fellow knitters. \nCome for the stitches\, stay for the stories—together we’ll weave community\, one row at a time.
URL:https://clackamasartsalliance.org/event/knit-happens-a-monthly-knitting-circle/2026-07-10/
LOCATION:Cup of Tea\, 10117 SE Sunnyside Rd\, Clackamas\, OR\, 97015\, United States
CATEGORIES:Networking,Textiles
ATTACH;FMTTYPE=image/jpeg:https://clackamasartsalliance.org/wp-content/uploads/2026/01/knitting_group_976kb.jpg
END:VEVENT
BEGIN:VEVENT
DTSTART;TZID=America/Los_Angeles:20260814T100000
DTEND;TZID=America/Los_Angeles:20260814T120000
DTSTAMP:20260425T021238
CREATED:20260121T015534Z
LAST-MODIFIED:20260121T015534Z
UID:10030773-1786701600-1786708800@clackamasartsalliance.org
SUMMARY:Knit Happens – A Monthly Knitting Circle
DESCRIPTION:All knitters welcome—from first stitches to seasoned pros! Bring your yarn\, your needles\, and your creativity to our cozy tea house. This monthly gathering is all about slowing down\, sipping tea\, sharing projects\, and getting to know your fellow knitters. \nCome for the stitches\, stay for the stories—together we’ll weave community\, one row at a time.
URL:https://clackamasartsalliance.org/event/knit-happens-a-monthly-knitting-circle/2026-08-14/
LOCATION:Cup of Tea\, 10117 SE Sunnyside Rd\, Clackamas\, OR\, 97015\, United States
CATEGORIES:Networking,Textiles
ATTACH;FMTTYPE=image/jpeg:https://clackamasartsalliance.org/wp-content/uploads/2026/01/knitting_group_976kb.jpg
END:VEVENT
BEGIN:VEVENT
DTSTART;TZID=America/Los_Angeles:20260911T100000
DTEND;TZID=America/Los_Angeles:20260911T120000
DTSTAMP:20260425T021238
CREATED:20260121T015534Z
LAST-MODIFIED:20260121T015534Z
UID:10030774-1789120800-1789128000@clackamasartsalliance.org
SUMMARY:Knit Happens – A Monthly Knitting Circle
DESCRIPTION:All knitters welcome—from first stitches to seasoned pros! Bring your yarn\, your needles\, and your creativity to our cozy tea house. This monthly gathering is all about slowing down\, sipping tea\, sharing projects\, and getting to know your fellow knitters. \nCome for the stitches\, stay for the stories—together we’ll weave community\, one row at a time.
URL:https://clackamasartsalliance.org/event/knit-happens-a-monthly-knitting-circle/2026-09-11/
LOCATION:Cup of Tea\, 10117 SE Sunnyside Rd\, Clackamas\, OR\, 97015\, United States
CATEGORIES:Networking,Textiles
ATTACH;FMTTYPE=image/jpeg:https://clackamasartsalliance.org/wp-content/uploads/2026/01/knitting_group_976kb.jpg
END:VEVENT
BEGIN:VEVENT
DTSTART;TZID=America/Los_Angeles:20261009T100000
DTEND;TZID=America/Los_Angeles:20261009T120000
DTSTAMP:20260425T021238
CREATED:20260121T015534Z
LAST-MODIFIED:20260121T015534Z
UID:10030775-1791540000-1791547200@clackamasartsalliance.org
SUMMARY:Knit Happens – A Monthly Knitting Circle
DESCRIPTION:All knitters welcome—from first stitches to seasoned pros! Bring your yarn\, your needles\, and your creativity to our cozy tea house. This monthly gathering is all about slowing down\, sipping tea\, sharing projects\, and getting to know your fellow knitters. \nCome for the stitches\, stay for the stories—together we’ll weave community\, one row at a time.
URL:https://clackamasartsalliance.org/event/knit-happens-a-monthly-knitting-circle/2026-10-09/
LOCATION:Cup of Tea\, 10117 SE Sunnyside Rd\, Clackamas\, OR\, 97015\, United States
CATEGORIES:Networking,Textiles
ATTACH;FMTTYPE=image/jpeg:https://clackamasartsalliance.org/wp-content/uploads/2026/01/knitting_group_976kb.jpg
END:VEVENT
BEGIN:VEVENT
DTSTART;TZID=America/Los_Angeles:20261113T100000
DTEND;TZID=America/Los_Angeles:20261113T120000
DTSTAMP:20260425T021238
CREATED:20260121T015534Z
LAST-MODIFIED:20260121T015534Z
UID:10030776-1794564000-1794571200@clackamasartsalliance.org
SUMMARY:Knit Happens – A Monthly Knitting Circle
DESCRIPTION:All knitters welcome—from first stitches to seasoned pros! Bring your yarn\, your needles\, and your creativity to our cozy tea house. This monthly gathering is all about slowing down\, sipping tea\, sharing projects\, and getting to know your fellow knitters. \nCome for the stitches\, stay for the stories—together we’ll weave community\, one row at a time.
URL:https://clackamasartsalliance.org/event/knit-happens-a-monthly-knitting-circle/2026-11-13/
LOCATION:Cup of Tea\, 10117 SE Sunnyside Rd\, Clackamas\, OR\, 97015\, United States
CATEGORIES:Networking,Textiles
ATTACH;FMTTYPE=image/jpeg:https://clackamasartsalliance.org/wp-content/uploads/2026/01/knitting_group_976kb.jpg
END:VEVENT
BEGIN:VEVENT
DTSTART;TZID=America/Los_Angeles:20261211T100000
DTEND;TZID=America/Los_Angeles:20261211T120000
DTSTAMP:20260425T021238
CREATED:20260121T015534Z
LAST-MODIFIED:20260121T015534Z
UID:10030777-1796983200-1796990400@clackamasartsalliance.org
SUMMARY:Knit Happens – A Monthly Knitting Circle
DESCRIPTION:All knitters welcome—from first stitches to seasoned pros! Bring your yarn\, your needles\, and your creativity to our cozy tea house. This monthly gathering is all about slowing down\, sipping tea\, sharing projects\, and getting to know your fellow knitters. \nCome for the stitches\, stay for the stories—together we’ll weave community\, one row at a time.
URL:https://clackamasartsalliance.org/event/knit-happens-a-monthly-knitting-circle/2026-12-11/
LOCATION:Cup of Tea\, 10117 SE Sunnyside Rd\, Clackamas\, OR\, 97015\, United States
CATEGORIES:Networking,Textiles
ATTACH;FMTTYPE=image/jpeg:https://clackamasartsalliance.org/wp-content/uploads/2026/01/knitting_group_976kb.jpg
END:VEVENT
BEGIN:VEVENT
DTSTART;TZID=America/Los_Angeles:20270108T100000
DTEND;TZID=America/Los_Angeles:20270108T120000
DTSTAMP:20260425T021238
CREATED:20260121T015534Z
LAST-MODIFIED:20260121T015534Z
UID:10030778-1799402400-1799409600@clackamasartsalliance.org
SUMMARY:Knit Happens – A Monthly Knitting Circle
DESCRIPTION:All knitters welcome—from first stitches to seasoned pros! Bring your yarn\, your needles\, and your creativity to our cozy tea house. This monthly gathering is all about slowing down\, sipping tea\, sharing projects\, and getting to know your fellow knitters. \nCome for the stitches\, stay for the stories—together we’ll weave community\, one row at a time.
URL:https://clackamasartsalliance.org/event/knit-happens-a-monthly-knitting-circle/2027-01-08/
LOCATION:Cup of Tea\, 10117 SE Sunnyside Rd\, Clackamas\, OR\, 97015\, United States
CATEGORIES:Networking,Textiles
ATTACH;FMTTYPE=image/jpeg:https://clackamasartsalliance.org/wp-content/uploads/2026/01/knitting_group_976kb.jpg
END:VEVENT
END:VCALENDAR