BEGIN:VCALENDAR
VERSION:2.0
PRODID:-//Clackamas County Arts Alliance - ECPv6.15.18//NONSGML v1.0//EN
CALSCALE:GREGORIAN
METHOD:PUBLISH
X-ORIGINAL-URL:https://clackamasartsalliance.org
X-WR-CALDESC:Events for Clackamas County Arts Alliance
REFRESH-INTERVAL;VALUE=DURATION:PT1H
X-Robots-Tag:noindex
X-PUBLISHED-TTL:PT1H
BEGIN:VTIMEZONE
TZID:America/Los_Angeles
BEGIN:DAYLIGHT
TZOFFSETFROM:-0800
TZOFFSETTO:-0700
TZNAME:PDT
DTSTART:20240310T100000
END:DAYLIGHT
BEGIN:STANDARD
TZOFFSETFROM:-0700
TZOFFSETTO:-0800
TZNAME:PST
DTSTART:20241103T090000
END:STANDARD
BEGIN:DAYLIGHT
TZOFFSETFROM:-0800
TZOFFSETTO:-0700
TZNAME:PDT
DTSTART:20250309T100000
END:DAYLIGHT
BEGIN:STANDARD
TZOFFSETFROM:-0700
TZOFFSETTO:-0800
TZNAME:PST
DTSTART:20251102T090000
END:STANDARD
BEGIN:DAYLIGHT
TZOFFSETFROM:-0800
TZOFFSETTO:-0700
TZNAME:PDT
DTSTART:20260308T100000
END:DAYLIGHT
BEGIN:STANDARD
TZOFFSETFROM:-0700
TZOFFSETTO:-0800
TZNAME:PST
DTSTART:20261101T090000
END:STANDARD
END:VTIMEZONE
BEGIN:VEVENT
DTSTART;TZID=America/Los_Angeles:20251101T193000
DTEND;TZID=America/Los_Angeles:20251101T210000
DTSTAMP:20260425T123956
CREATED:20250930T010620Z
LAST-MODIFIED:20250930T010620Z
UID:10026369-1762025400-1762030800@clackamasartsalliance.org
SUMMARY:Bridge City Improv
DESCRIPTION:An evening of unscripted entertainment that’s a one-of-a-kind experience—unpredictable\, in-the-moment\, and impossible to repeat. We bring together some of the most talented improv performers from across the metro area and showcase the very best for YOU. Whether you’re a seasoned improv lover or checking it out for the first time\, this is the perfect pick for a memorable night out. \nFeaturing: Stephanie Wichmann\, Laurie Martin\, Mariah Muñoz\, Brad Fortier\, Jennifer Hunter Tindle\, Jeff DeWan\, Erin Mahone\, Griffin Pahl\, Lisa Brousseau\, Beau Brousseau. \nDoors at 7pm.\nBeer\, wine\, concessions.\nAll ages welcome\, though assume PG13 content.\nTIX $15 online until 5pm show date / $20 at door.
URL:https://clackamasartsalliance.org/event/bridge-city-improv-3/
LOCATION:Chapel Theatre\, 4107 Harrison Street\, Milwaukie\, OR\, 97222\, United States
CATEGORIES:Performing,Theater
ORGANIZER;CN="Bridge City Improv":MAILTO:bridgecityimprov@gmail.com
END:VEVENT
END:VCALENDAR