BEGIN:VCALENDAR
VERSION:2.0
PRODID:-//Clackamas County Arts Alliance - ECPv6.15.18//NONSGML v1.0//EN
CALSCALE:GREGORIAN
METHOD:PUBLISH
X-ORIGINAL-URL:https://clackamasartsalliance.org
X-WR-CALDESC:Events for Clackamas County Arts Alliance
REFRESH-INTERVAL;VALUE=DURATION:PT1H
X-Robots-Tag:noindex
X-PUBLISHED-TTL:PT1H
BEGIN:VTIMEZONE
TZID:America/Los_Angeles
BEGIN:DAYLIGHT
TZOFFSETFROM:-0800
TZOFFSETTO:-0700
TZNAME:PDT
DTSTART:20240310T100000
END:DAYLIGHT
BEGIN:STANDARD
TZOFFSETFROM:-0700
TZOFFSETTO:-0800
TZNAME:PST
DTSTART:20241103T090000
END:STANDARD
BEGIN:DAYLIGHT
TZOFFSETFROM:-0800
TZOFFSETTO:-0700
TZNAME:PDT
DTSTART:20250309T100000
END:DAYLIGHT
BEGIN:STANDARD
TZOFFSETFROM:-0700
TZOFFSETTO:-0800
TZNAME:PST
DTSTART:20251102T090000
END:STANDARD
BEGIN:DAYLIGHT
TZOFFSETFROM:-0800
TZOFFSETTO:-0700
TZNAME:PDT
DTSTART:20260308T100000
END:DAYLIGHT
BEGIN:STANDARD
TZOFFSETFROM:-0700
TZOFFSETTO:-0800
TZNAME:PST
DTSTART:20261101T090000
END:STANDARD
END:VTIMEZONE
BEGIN:VEVENT
DTSTART;TZID=America/Los_Angeles:20251107T181500
DTEND;TZID=America/Los_Angeles:20251107T193000
DTSTAMP:20260425T123955
CREATED:20250402T015435Z
LAST-MODIFIED:20250402T015435Z
UID:10020206-1762539300-1762543800@clackamasartsalliance.org
SUMMARY:Teen Open Mic
DESCRIPTION:Perform at YMP’s Teen Open Mic Night!\nAre you a musician aged 13-18? Come on down and share your songs to a live\, supportive audience. This is an incredible opportunity to hone your skills performing with state-of-the-art gear and sound engineers on our Meteor Lounge stage. Open Mic Nights are held on the first Friday of each month and hosted by our amazing Teen Interns. \nSign-up at the doors at 6:15 p.m | Performances begin 6:30 p.m.\nDon’t have a song to share? No worries! Gather some friends and come be a part of our supportive audience! All ages welcome to attend. \nNote: Parent/guardian permission and a signed media waver are required for performers under the age of 18.
URL:https://clackamasartsalliance.org/event/teen-open-mic/2025-11-07/
LOCATION:Youth Music Project Meteor Lounge\, 2015 8th Ave.\, West Linn\, OR\, 97068\, United States
CATEGORIES:Music,Networking,Performing,Youth
ORGANIZER;CN="Youth Music Project":MAILTO:info@youthmusicproject.org
GEO:45.345756;-122.6524408
X-APPLE-STRUCTURED-LOCATION;VALUE=URI;X-ADDRESS=Youth Music Project Meteor Lounge 2015 8th Ave. West Linn OR 97068 United States;X-APPLE-RADIUS=500;X-TITLE=2015 8th Ave.:geo:-122.6524408,45.345756
END:VEVENT
BEGIN:VEVENT
DTSTART;TZID=America/Los_Angeles:20251107T190000
DTEND;TZID=America/Los_Angeles:20251107T203000
DTSTAMP:20260425T123955
CREATED:20250820T014528Z
LAST-MODIFIED:20250820T014557Z
UID:10024176-1762542000-1762547400@clackamasartsalliance.org
SUMMARY:Addams Family the Musical:Young@Part presented by Krayon Kids Musical Theater
DESCRIPTION:Don’t miss your chance to see The Addams Family like never before. With a story full of twisted humor\, heart\, and ghoulish delight\, this production is a must-see for all ages! Krayon Kids Musical Theatre Company brings the kooky and spooky world of The Addams Family to life this Fall! Featuring 40+ talented young performers from across Clackamas\, Washington\, and Multnomah counties\, this show promises a fun-filled\, high-energy performance with breathtaking costumes\, spellbinding choreography\, and a set to die for that will leave you on the edge of your seat. \nThe Addams Family is a musical comedy packed with dark humor and heartfelt moments. Wednesday Addams\, the ultimate queen of darkness\, has fallen head over heels for a sweet\, smart boy from a perfectly “normal” family. As her affection grows\, chaos creeps in—especially when she confides in her father\, Gomez\, and begs him to keep her secret from Morticia. Torn between his daughter and his wife\, Gomez is trapped in a web of love and lies. Meanwhile\, Pugsley plots\, Grandma meddles\, and Uncle Fester discovers a peculiar love of his own. \nEverything comes to a head on one fateful\, delightfully dreadful night\, when the Addams family hosts a dinner to meet Wednesday’s “normal” boyfriend and his buttoned-up family. What could possibly go wrong? \n“With a talented cast\, incredible choreography\, and a set design that will transport you straight into the Addams’ world\, this show will be an experience you won’t forget\,” says Taylor Miller\, Artistic Director of Krayon Kids. \nTickets Available: September 5th at KrayonKids.org
URL:https://clackamasartsalliance.org/event/addams-family-the-musicalyoungpart-presented-by-krayon-kids-musical-theater/2025-11-07/
LOCATION:Barclay Theatre\, 817 12th Street\, Oregon City\, OR\, 97045\, United States
CATEGORIES:Family Friendly,Performing,Theater,Youth
ORGANIZER;CN="Krayon Kids Musical Theatre Company":MAILTO:Info@krayonkids.org
END:VEVENT
BEGIN:VEVENT
DTSTART;TZID=America/Los_Angeles:20251107T193000
DTEND;TZID=America/Los_Angeles:20251107T220000
DTSTAMP:20260425T123955
CREATED:20251009T200302Z
LAST-MODIFIED:20251112T141100Z
UID:10027182-1762543800-1762552800@clackamasartsalliance.org
SUMMARY:Chapel Theatre presents: Mr Burns\, A Post-Electric Play
DESCRIPTION:by Anne Washburn\nScore by Michael Friedman\nLyrics by Anne Washburn \nDirector: Illya deTorres\nChoreographer: Corinn deTorres\nMusic Director: James Liptak\nStage Manager: Amanda Healy\nLighting Designer: Dug Martell\nCostume Designer: MK Hobson \nCast:\nBonnie Auguston\nCristian Villaquiran\nIllya deTorres\nJessica Curtiss\nMagnolia Brown\nMatt Sunderland\nMishelle Apalategui \nAnne Washburn’s imaginative dark comedy – a play with music featuring songs by Washburn and Michael Friedman – propels us forward nearly a century\, following a new civilization stumbling into its future. \nAfter the collapse of civilization\, a group of survivors share a campfire and begin to piece together the plot of The Simpsons episode “Cape Feare” entirely from memory. Seven years later\, this and other snippets of pop culture (sitcom plots\, commercials\, jingles and pop songs) have become the live entertainment of a post-apocalyptic society\, sincerely trying to hold onto its past. Seventy-five years later\, these are the myths and legends from which new forms of performance are created. \nA paean to live theater\, and the resilience of Bart Simpson through the ages\, Mr. Burns is an animated exploration of how the pop culture of one era might evolve into the mythology of another.
URL:https://clackamasartsalliance.org/event/chapel-theatre-presents-mr-burns-a-post-electric-play/2025-11-07/
LOCATION:Chapel Theatre\, 4107 Harrison Street\, Milwaukie\, OR\, 97222\, United States
CATEGORIES:Performing
ORGANIZER;CN="Chapel Theatre Collective":MAILTO:corinn@chapeltheatremilwaukie.com
END:VEVENT
END:VCALENDAR