BEGIN:VCALENDAR
VERSION:2.0
PRODID:-//Clackamas County Arts Alliance - ECPv6.15.18//NONSGML v1.0//EN
CALSCALE:GREGORIAN
METHOD:PUBLISH
X-ORIGINAL-URL:https://clackamasartsalliance.org
X-WR-CALDESC:Events for Clackamas County Arts Alliance
REFRESH-INTERVAL;VALUE=DURATION:PT1H
X-Robots-Tag:noindex
X-PUBLISHED-TTL:PT1H
BEGIN:VTIMEZONE
TZID:America/Los_Angeles
BEGIN:DAYLIGHT
TZOFFSETFROM:-0800
TZOFFSETTO:-0700
TZNAME:PDT
DTSTART:20240310T100000
END:DAYLIGHT
BEGIN:STANDARD
TZOFFSETFROM:-0700
TZOFFSETTO:-0800
TZNAME:PST
DTSTART:20241103T090000
END:STANDARD
BEGIN:DAYLIGHT
TZOFFSETFROM:-0800
TZOFFSETTO:-0700
TZNAME:PDT
DTSTART:20250309T100000
END:DAYLIGHT
BEGIN:STANDARD
TZOFFSETFROM:-0700
TZOFFSETTO:-0800
TZNAME:PST
DTSTART:20251102T090000
END:STANDARD
BEGIN:DAYLIGHT
TZOFFSETFROM:-0800
TZOFFSETTO:-0700
TZNAME:PDT
DTSTART:20260308T100000
END:DAYLIGHT
BEGIN:STANDARD
TZOFFSETFROM:-0700
TZOFFSETTO:-0800
TZNAME:PST
DTSTART:20261101T090000
END:STANDARD
END:VTIMEZONE
BEGIN:VEVENT
DTSTART;TZID=America/Los_Angeles:20251116T140000
DTEND;TZID=America/Los_Angeles:20251116T153000
DTSTAMP:20260425T124102
CREATED:20250820T014528Z
LAST-MODIFIED:20250820T014557Z
UID:10024183-1763301600-1763307000@clackamasartsalliance.org
SUMMARY:Addams Family the Musical:Young@Part presented by Krayon Kids Musical Theater
DESCRIPTION:Don’t miss your chance to see The Addams Family like never before. With a story full of twisted humor\, heart\, and ghoulish delight\, this production is a must-see for all ages! Krayon Kids Musical Theatre Company brings the kooky and spooky world of The Addams Family to life this Fall! Featuring 40+ talented young performers from across Clackamas\, Washington\, and Multnomah counties\, this show promises a fun-filled\, high-energy performance with breathtaking costumes\, spellbinding choreography\, and a set to die for that will leave you on the edge of your seat. \nThe Addams Family is a musical comedy packed with dark humor and heartfelt moments. Wednesday Addams\, the ultimate queen of darkness\, has fallen head over heels for a sweet\, smart boy from a perfectly “normal” family. As her affection grows\, chaos creeps in—especially when she confides in her father\, Gomez\, and begs him to keep her secret from Morticia. Torn between his daughter and his wife\, Gomez is trapped in a web of love and lies. Meanwhile\, Pugsley plots\, Grandma meddles\, and Uncle Fester discovers a peculiar love of his own. \nEverything comes to a head on one fateful\, delightfully dreadful night\, when the Addams family hosts a dinner to meet Wednesday’s “normal” boyfriend and his buttoned-up family. What could possibly go wrong? \n“With a talented cast\, incredible choreography\, and a set design that will transport you straight into the Addams’ world\, this show will be an experience you won’t forget\,” says Taylor Miller\, Artistic Director of Krayon Kids. \nTickets Available: September 5th at KrayonKids.org
URL:https://clackamasartsalliance.org/event/addams-family-the-musicalyoungpart-presented-by-krayon-kids-musical-theater/2025-11-16/
LOCATION:Barclay Theatre\, 817 12th Street\, Oregon City\, OR\, 97045\, United States
CATEGORIES:Family Friendly,Performing,Theater,Youth
ORGANIZER;CN="Krayon Kids Musical Theatre Company":MAILTO:Info@krayonkids.org
END:VEVENT
BEGIN:VEVENT
DTSTART;TZID=America/Los_Angeles:20251116T140000
DTEND;TZID=America/Los_Angeles:20251116T170000
DTSTAMP:20260425T124102
CREATED:20251009T200302Z
LAST-MODIFIED:20251112T141100Z
UID:10027188-1763301600-1763312400@clackamasartsalliance.org
SUMMARY:Chapel Theatre presents: Mr Burns\, A Post-Electric Play
DESCRIPTION:by Anne Washburn\nScore by Michael Friedman\nLyrics by Anne Washburn \nDirector: Illya deTorres\nChoreographer: Corinn deTorres\nMusic Director: James Liptak\nStage Manager: Amanda Healy\nLighting Designer: Dug Martell\nCostume Designer: MK Hobson \nCast:\nBonnie Auguston\nCristian Villaquiran\nIllya deTorres\nJessica Curtiss\nMagnolia Brown\nMatt Sunderland\nMishelle Apalategui \nAnne Washburn’s imaginative dark comedy – a play with music featuring songs by Washburn and Michael Friedman – propels us forward nearly a century\, following a new civilization stumbling into its future. \nAfter the collapse of civilization\, a group of survivors share a campfire and begin to piece together the plot of The Simpsons episode “Cape Feare” entirely from memory. Seven years later\, this and other snippets of pop culture (sitcom plots\, commercials\, jingles and pop songs) have become the live entertainment of a post-apocalyptic society\, sincerely trying to hold onto its past. Seventy-five years later\, these are the myths and legends from which new forms of performance are created. \nA paean to live theater\, and the resilience of Bart Simpson through the ages\, Mr. Burns is an animated exploration of how the pop culture of one era might evolve into the mythology of another.
URL:https://clackamasartsalliance.org/event/chapel-theatre-presents-mr-burns-a-post-electric-play/2025-11-16/
LOCATION:Chapel Theatre\, 4107 Harrison Street\, Milwaukie\, OR\, 97222\, United States
CATEGORIES:Performing
ORGANIZER;CN="Chapel Theatre Collective":MAILTO:corinn@chapeltheatremilwaukie.com
END:VEVENT
BEGIN:VEVENT
DTSTART;TZID=America/Los_Angeles:20251116T143000
DTEND;TZID=America/Los_Angeles:20251116T163000
DTSTAMP:20260425T124102
CREATED:20251104T203627Z
LAST-MODIFIED:20251104T203627Z
UID:10027729-1763303400-1763310600@clackamasartsalliance.org
SUMMARY:She Kills Monsters by Qui Nguyen
DESCRIPTION:Clackamas Community College Theatre presents their Fall 2025 Main Stage Production of She Kills Monsters by Qui Nguyen. \nWhen Agnes loses her younger\, teenage sister Tilly in an accident\, she joins Tilly’s Dungeons & Dragons campaign to try and connect with her lost sibling. But instead of simply playing a game\, she finds herself catapulted into an action-packed D&D world. In this high-octane dramatic comedy laden with homicidal fairies\, nasty ogres\, and 90s pop culture\, acclaimed playwright Qui Nguyen offers a heart-pounding homage to the geek and warrior within us all. It is presented by special arrangement with Concord Theatricals. \nNov. 13-23\, 2025 \nThur-Fri 7:30pm \nSat-Sun 2:30pm \nFriday\, Nov. 14 at 10am \nTicket Prices: \nAdults – $15 (online)\, $16 (at the box office)\nSeniors – $13 (online)\, $14 (at the box office)\nStudents – FREE
URL:https://clackamasartsalliance.org/event/she-kills-monsters-by-qui-nguyen/2025-11-16/
LOCATION:Clackamas Community College\, 19600 Molalla Avenue\, Oregon City\, OR\, 97045\, United States
CATEGORIES:Performing,Theater
GEO:45.3229707;-122.5743069
X-APPLE-STRUCTURED-LOCATION;VALUE=URI;X-ADDRESS=Clackamas Community College 19600 Molalla Avenue Oregon City OR 97045 United States;X-APPLE-RADIUS=500;X-TITLE=19600 Molalla Avenue:geo:-122.5743069,45.3229707
END:VEVENT
END:VCALENDAR