BEGIN:VCALENDAR
VERSION:2.0
PRODID:-//Clackamas County Arts Alliance - ECPv6.15.18//NONSGML v1.0//EN
CALSCALE:GREGORIAN
METHOD:PUBLISH
X-WR-CALNAME:Clackamas County Arts Alliance
X-ORIGINAL-URL:https://clackamasartsalliance.org
X-WR-CALDESC:Events for Clackamas County Arts Alliance
REFRESH-INTERVAL;VALUE=DURATION:PT1H
X-Robots-Tag:noindex
X-PUBLISHED-TTL:PT1H
BEGIN:VTIMEZONE
TZID:America/Los_Angeles
BEGIN:DAYLIGHT
TZOFFSETFROM:-0800
TZOFFSETTO:-0700
TZNAME:PDT
DTSTART:20240310T100000
END:DAYLIGHT
BEGIN:STANDARD
TZOFFSETFROM:-0700
TZOFFSETTO:-0800
TZNAME:PST
DTSTART:20241103T090000
END:STANDARD
BEGIN:DAYLIGHT
TZOFFSETFROM:-0800
TZOFFSETTO:-0700
TZNAME:PDT
DTSTART:20250309T100000
END:DAYLIGHT
BEGIN:STANDARD
TZOFFSETFROM:-0700
TZOFFSETTO:-0800
TZNAME:PST
DTSTART:20251102T090000
END:STANDARD
BEGIN:DAYLIGHT
TZOFFSETFROM:-0800
TZOFFSETTO:-0700
TZNAME:PDT
DTSTART:20260308T100000
END:DAYLIGHT
BEGIN:STANDARD
TZOFFSETFROM:-0700
TZOFFSETTO:-0800
TZNAME:PST
DTSTART:20261101T090000
END:STANDARD
END:VTIMEZONE
BEGIN:VEVENT
DTSTART;TZID=America/Los_Angeles:20251123T140000
DTEND;TZID=America/Los_Angeles:20251123T170000
DTSTAMP:20260425T123807
CREATED:20251125T122219Z
LAST-MODIFIED:20251125T122219Z
UID:10028222-1763906400-1763917200@clackamasartsalliance.org
SUMMARY:Miracle On 34th Street
DESCRIPTION:Set in New York City\, Miracle on 34th Street\, the play is a heartwarming holiday classic that follows the journey of Kris Kringle (Robert Lovitz)\, an older man released from a retirement home\, who gets a job working as Santa Claus for Macy’s holiday season. \nDoris Walker (Ariel Puls)\, a single mother who works at the same Macy’s\, doesn’t want her daughter\, Susan (Georgia Krugel)\, to believe in any romantic notions about Santa. Complications arise when neighbor and lawyer Fred Gayley (Conor Eifler) tries to win Doris over by taking Susan to see Santa Claus. Young Susan is enchanted by the experience\, but Doris remains doubtful. Kris surprises both customers and employees by claiming he truly is Santa Claus and begins directing parents to other stores to find the specific toy their child wants. \nSeen as deluded and dangerous by Sawyer (Jacob Bean-Watson)\, Macy’s vocational counselor\, Kris faces a court hearing overseen by Judge Harper (Mark Schwahn) to verify the validity of his claim and\, more importantly\, his authenticity. But what is truly at stake is one little girl’s belief in Santa and her mother’s willingness to give love another chance. \nThe talented ensemble features John T. Aney\, Dan Bahr\, Danny Caputo\, Caitlin Clarke\, Colleen Crabtree\, AJ Ericson\, William Francis\, Vicki Guthrie\, LeRoy Lee\, Sam Levi\, Wendy A.K. May\, Tom Mounsey\, Madelyn Moyes\, Gary Powell\, Melissa Standley\, RJ Tofte\, Jeffrey Weir\, and Selma Whitman. \nMiracle on 34th Street\, the Play is directed by Karlyn Love\, the Stage Manager is Grant M. Christnacht\, Music Coordinator is Melissa Harris\, Sound Design is by Marcus Storey\, Set Design is by John Gerth\, the Costume Designer is Janelle Sutton\, the Assistant Stage Manager is Katy Frazier\, Lighting Design is by Dug Martell\, Prop design is by Allen R. Phillips\, and the producer is Steve Knox. \nTitle Sponsors: Drs. Bill & Ricky Korach
URL:https://clackamasartsalliance.org/event/miracle-on-34th-street/2025-11-23/
LOCATION:Lakewood Center for the Arts\, 368 S. State Street\, Lake Oswego\, OR\, 97034\, United States
CATEGORIES:Family Friendly,Performing,Theater
GEO:45.4135063;-122.6646366
X-APPLE-STRUCTURED-LOCATION;VALUE=URI;X-ADDRESS=Lakewood Center for the Arts 368 S. State Street Lake Oswego OR 97034 United States;X-APPLE-RADIUS=500;X-TITLE=368 S. State Street:geo:-122.6646366,45.4135063
END:VEVENT
BEGIN:VEVENT
DTSTART;TZID=America/Los_Angeles:20251123T143000
DTEND;TZID=America/Los_Angeles:20251123T163000
DTSTAMP:20260425T123807
CREATED:20251104T203627Z
LAST-MODIFIED:20251104T203627Z
UID:10027733-1763908200-1763915400@clackamasartsalliance.org
SUMMARY:She Kills Monsters by Qui Nguyen
DESCRIPTION:Clackamas Community College Theatre presents their Fall 2025 Main Stage Production of She Kills Monsters by Qui Nguyen. \nWhen Agnes loses her younger\, teenage sister Tilly in an accident\, she joins Tilly’s Dungeons & Dragons campaign to try and connect with her lost sibling. But instead of simply playing a game\, she finds herself catapulted into an action-packed D&D world. In this high-octane dramatic comedy laden with homicidal fairies\, nasty ogres\, and 90s pop culture\, acclaimed playwright Qui Nguyen offers a heart-pounding homage to the geek and warrior within us all. It is presented by special arrangement with Concord Theatricals. \nNov. 13-23\, 2025 \nThur-Fri 7:30pm \nSat-Sun 2:30pm \nFriday\, Nov. 14 at 10am \nTicket Prices: \nAdults – $15 (online)\, $16 (at the box office)\nSeniors – $13 (online)\, $14 (at the box office)\nStudents – FREE
URL:https://clackamasartsalliance.org/event/she-kills-monsters-by-qui-nguyen/2025-11-23/
LOCATION:Clackamas Community College\, 19600 Molalla Avenue\, Oregon City\, OR\, 97045\, United States
CATEGORIES:Performing,Theater
GEO:45.3229707;-122.5743069
X-APPLE-STRUCTURED-LOCATION;VALUE=URI;X-ADDRESS=Clackamas Community College 19600 Molalla Avenue Oregon City OR 97045 United States;X-APPLE-RADIUS=500;X-TITLE=19600 Molalla Avenue:geo:-122.5743069,45.3229707
END:VEVENT
END:VCALENDAR