BEGIN:VCALENDAR
VERSION:2.0
PRODID:-//Clackamas County Arts Alliance - ECPv6.15.18//NONSGML v1.0//EN
CALSCALE:GREGORIAN
METHOD:PUBLISH
X-WR-CALNAME:Clackamas County Arts Alliance
X-ORIGINAL-URL:https://clackamasartsalliance.org
X-WR-CALDESC:Events for Clackamas County Arts Alliance
REFRESH-INTERVAL;VALUE=DURATION:PT1H
X-Robots-Tag:noindex
X-PUBLISHED-TTL:PT1H
BEGIN:VTIMEZONE
TZID:America/Los_Angeles
BEGIN:DAYLIGHT
TZOFFSETFROM:-0800
TZOFFSETTO:-0700
TZNAME:PDT
DTSTART:20240310T100000
END:DAYLIGHT
BEGIN:STANDARD
TZOFFSETFROM:-0700
TZOFFSETTO:-0800
TZNAME:PST
DTSTART:20241103T090000
END:STANDARD
BEGIN:DAYLIGHT
TZOFFSETFROM:-0800
TZOFFSETTO:-0700
TZNAME:PDT
DTSTART:20250309T100000
END:DAYLIGHT
BEGIN:STANDARD
TZOFFSETFROM:-0700
TZOFFSETTO:-0800
TZNAME:PST
DTSTART:20251102T090000
END:STANDARD
BEGIN:DAYLIGHT
TZOFFSETFROM:-0800
TZOFFSETTO:-0700
TZNAME:PDT
DTSTART:20260308T100000
END:DAYLIGHT
BEGIN:STANDARD
TZOFFSETFROM:-0700
TZOFFSETTO:-0800
TZNAME:PST
DTSTART:20261101T090000
END:STANDARD
END:VTIMEZONE
BEGIN:VEVENT
DTSTART;TZID=America/Los_Angeles:20251206T110000
DTEND;TZID=America/Los_Angeles:20251206T120000
DTSTAMP:20260425T105916
CREATED:20251112T062227Z
LAST-MODIFIED:20251112T062506Z
UID:10027761-1765018800-1765022400@clackamasartsalliance.org
SUMMARY:Peppermint Bear Asks Witch Way To Christmas?
DESCRIPTION:At this year’s North Pole pageant\, Dottie is crowned “Best Elf” and in her speech remembers how it all began. Through flash-back\, we see how Dottie the witch arrived at the North Pole to take back Christmas – something she had loaned to Santa for a couple thousand years. Now she wants it back\, expecting that with it\, she might finally get a life full of love and acceptance – just as Santa does. But\, the threat of losing Christmas makes the elves reject this scary witch – that is\, until Peppermint Bear uncovers what Dottie truly wants most and the elves teach her how easy it is to get it – without taking Christmas away. The story flashes-forward and everyone celebrates Dottie’s win\, happy to have her part of the Christmas family at the North Pole. \nThe Peppermint Bear show is a classic at Lakewood Theatre Company and it’s perfect for families and full of holiday cheer. Each year a new 45-minute episode is presented. A light continental breakfast with rolls\, muffins\, donuts\, fruit etc and juice\, and coffee is provided. It’s a show that is perfect for ages 3-103. Doors open 20 minutes before each show.
URL:https://clackamasartsalliance.org/event/peppermint-bear-asks-witch-way-to-christmas/2025-12-06/
LOCATION:Lakewood Center for the Arts\, 368 S. State Street\, Lake Oswego\, OR\, 97034\, United States
CATEGORIES:Family Friendly,Performing,Theater,Youth
GEO:45.4135063;-122.6646366
X-APPLE-STRUCTURED-LOCATION;VALUE=URI;X-ADDRESS=Lakewood Center for the Arts 368 S. State Street Lake Oswego OR 97034 United States;X-APPLE-RADIUS=500;X-TITLE=368 S. State Street:geo:-122.6646366,45.4135063
END:VEVENT
BEGIN:VEVENT
DTSTART;TZID=America/Los_Angeles:20251206T193000
DTEND;TZID=America/Los_Angeles:20251206T220000
DTSTAMP:20260425T105916
CREATED:20251125T122219Z
LAST-MODIFIED:20251125T122219Z
UID:10028228-1765049400-1765058400@clackamasartsalliance.org
SUMMARY:Miracle On 34th Street
DESCRIPTION:Set in New York City\, Miracle on 34th Street\, the play is a heartwarming holiday classic that follows the journey of Kris Kringle (Robert Lovitz)\, an older man released from a retirement home\, who gets a job working as Santa Claus for Macy’s holiday season. \nDoris Walker (Ariel Puls)\, a single mother who works at the same Macy’s\, doesn’t want her daughter\, Susan (Georgia Krugel)\, to believe in any romantic notions about Santa. Complications arise when neighbor and lawyer Fred Gayley (Conor Eifler) tries to win Doris over by taking Susan to see Santa Claus. Young Susan is enchanted by the experience\, but Doris remains doubtful. Kris surprises both customers and employees by claiming he truly is Santa Claus and begins directing parents to other stores to find the specific toy their child wants. \nSeen as deluded and dangerous by Sawyer (Jacob Bean-Watson)\, Macy’s vocational counselor\, Kris faces a court hearing overseen by Judge Harper (Mark Schwahn) to verify the validity of his claim and\, more importantly\, his authenticity. But what is truly at stake is one little girl’s belief in Santa and her mother’s willingness to give love another chance. \nThe talented ensemble features John T. Aney\, Dan Bahr\, Danny Caputo\, Caitlin Clarke\, Colleen Crabtree\, AJ Ericson\, William Francis\, Vicki Guthrie\, LeRoy Lee\, Sam Levi\, Wendy A.K. May\, Tom Mounsey\, Madelyn Moyes\, Gary Powell\, Melissa Standley\, RJ Tofte\, Jeffrey Weir\, and Selma Whitman. \nMiracle on 34th Street\, the Play is directed by Karlyn Love\, the Stage Manager is Grant M. Christnacht\, Music Coordinator is Melissa Harris\, Sound Design is by Marcus Storey\, Set Design is by John Gerth\, the Costume Designer is Janelle Sutton\, the Assistant Stage Manager is Katy Frazier\, Lighting Design is by Dug Martell\, Prop design is by Allen R. Phillips\, and the producer is Steve Knox. \nTitle Sponsors: Drs. Bill & Ricky Korach
URL:https://clackamasartsalliance.org/event/miracle-on-34th-street/2025-12-06/
LOCATION:Lakewood Center for the Arts\, 368 S. State Street\, Lake Oswego\, OR\, 97034\, United States
CATEGORIES:Family Friendly,Performing,Theater
GEO:45.4135063;-122.6646366
X-APPLE-STRUCTURED-LOCATION;VALUE=URI;X-ADDRESS=Lakewood Center for the Arts 368 S. State Street Lake Oswego OR 97034 United States;X-APPLE-RADIUS=500;X-TITLE=368 S. State Street:geo:-122.6646366,45.4135063
END:VEVENT
END:VCALENDAR