BEGIN:VCALENDAR
VERSION:2.0
PRODID:-//Clackamas County Arts Alliance - ECPv6.15.18//NONSGML v1.0//EN
CALSCALE:GREGORIAN
METHOD:PUBLISH
X-ORIGINAL-URL:https://clackamasartsalliance.org
X-WR-CALDESC:Events for Clackamas County Arts Alliance
REFRESH-INTERVAL;VALUE=DURATION:PT1H
X-Robots-Tag:noindex
X-PUBLISHED-TTL:PT1H
BEGIN:VTIMEZONE
TZID:America/Los_Angeles
BEGIN:DAYLIGHT
TZOFFSETFROM:-0800
TZOFFSETTO:-0700
TZNAME:PDT
DTSTART:20240310T100000
END:DAYLIGHT
BEGIN:STANDARD
TZOFFSETFROM:-0700
TZOFFSETTO:-0800
TZNAME:PST
DTSTART:20241103T090000
END:STANDARD
BEGIN:DAYLIGHT
TZOFFSETFROM:-0800
TZOFFSETTO:-0700
TZNAME:PDT
DTSTART:20250309T100000
END:DAYLIGHT
BEGIN:STANDARD
TZOFFSETFROM:-0700
TZOFFSETTO:-0800
TZNAME:PST
DTSTART:20251102T090000
END:STANDARD
BEGIN:DAYLIGHT
TZOFFSETFROM:-0800
TZOFFSETTO:-0700
TZNAME:PDT
DTSTART:20260308T100000
END:DAYLIGHT
BEGIN:STANDARD
TZOFFSETFROM:-0700
TZOFFSETTO:-0800
TZNAME:PST
DTSTART:20261101T090000
END:STANDARD
END:VTIMEZONE
BEGIN:VEVENT
DTSTART;TZID=America/Los_Angeles:20251230T100000
DTEND;TZID=America/Los_Angeles:20251230T140000
DTSTAMP:20260425T091811
CREATED:20250904T024217Z
LAST-MODIFIED:20250904T024217Z
UID:10023716-1767088800-1767103200@clackamasartsalliance.org
SUMMARY:A Despicable Christmas - Musical Theatre Camp
DESCRIPTION:A Despicable Christmas\nWinter Camp | Any Experience Level (ages 5-18) | $200 \nCalling all young performers! Join us for an exhilarating one-week musical theatre camp where kids of all experience levels can dive into the world of stage performance. In just one week\, our instructors will guide participants through the process of learning\, rehearsing\, and performing a one-act musical production. From building confidence to fostering teamwork\, this intensive yet fun-filled experience culminates in a spectacular showcase for friends and family at the end of the week. Unleash your child’s creativity and passion for the stage in this unforgettable week of music\, laughter\, and applause. \nPerforms Friday at 12:30pm and 2:30pm\nRegistration includes a camp shirt and two free admission tickets.\nAdditional tickets can be purchased at the door:\n$5.00 (cash/ check)\n$6.00 (debit/ credit)
URL:https://clackamasartsalliance.org/event/a-despicable-christmas-musical-theatre-camp/2025-12-30/
LOCATION:716\, OC Church of the Nazarene - 716 Taylor St\, Oregon City\, OR\, 97045\, United States
CATEGORIES:Auditions,Family Friendly,Performing,Theater,Workshops/Classes,Youth
ORGANIZER;CN="OREGON CITY CHILDREN'S THEATRE":MAILTO:OCCT.MICHELLE.LEIGH@GMAIL.COM
END:VEVENT
END:VCALENDAR