BEGIN:VCALENDAR
VERSION:2.0
PRODID:-//Clackamas County Arts Alliance - ECPv6.15.18//NONSGML v1.0//EN
CALSCALE:GREGORIAN
METHOD:PUBLISH
X-WR-CALNAME:Clackamas County Arts Alliance
X-ORIGINAL-URL:https://clackamasartsalliance.org
X-WR-CALDESC:Events for Clackamas County Arts Alliance
REFRESH-INTERVAL;VALUE=DURATION:PT1H
X-Robots-Tag:noindex
X-PUBLISHED-TTL:PT1H
BEGIN:VTIMEZONE
TZID:America/Los_Angeles
BEGIN:DAYLIGHT
TZOFFSETFROM:-0800
TZOFFSETTO:-0700
TZNAME:PDT
DTSTART:20250309T100000
END:DAYLIGHT
BEGIN:STANDARD
TZOFFSETFROM:-0700
TZOFFSETTO:-0800
TZNAME:PST
DTSTART:20251102T090000
END:STANDARD
BEGIN:DAYLIGHT
TZOFFSETFROM:-0800
TZOFFSETTO:-0700
TZNAME:PDT
DTSTART:20260308T100000
END:DAYLIGHT
BEGIN:STANDARD
TZOFFSETFROM:-0700
TZOFFSETTO:-0800
TZNAME:PST
DTSTART:20261101T090000
END:STANDARD
BEGIN:DAYLIGHT
TZOFFSETFROM:-0800
TZOFFSETTO:-0700
TZNAME:PDT
DTSTART:20270314T100000
END:DAYLIGHT
BEGIN:STANDARD
TZOFFSETFROM:-0700
TZOFFSETTO:-0800
TZNAME:PST
DTSTART:20271107T090000
END:STANDARD
END:VTIMEZONE
BEGIN:VEVENT
DTSTART;TZID=America/Los_Angeles:20260120T093000
DTEND;TZID=America/Los_Angeles:20260120T103000
DTSTAMP:20260425T091614
CREATED:20260109T212116Z
LAST-MODIFIED:20260109T212116Z
UID:10030298-1768901400-1768905000@clackamasartsalliance.org
SUMMARY:Wonderland Performances
DESCRIPTION:A live theatre one-act reimagining of Alice in Wonderland — for children\, by children. For years\, schools have asked us to provide daytime performances perfect for field trips—and now we finally can! Thanks to our partnership with Clackamas Community College\, we have the space to make this long-requested opportunity a reality. This exciting production features one of two casts made up of 7–8 talented young performers\, ages 10–18. Each actor takes on 2–5 different roles\, bringing energy\, creativity\, and fresh twists to this beloved classic. “Wonderland” is designed for all ages\, making it a wonderful introduction to live theatre. Students will be inspired as they see kids—just like them—taking the stage and bringing a timeless story to life in a whole new way
URL:https://clackamasartsalliance.org/event/wonderland-performances/2026-01-20/1/
LOCATION:Clackamas Community College Oregon City Campus\, 19600 Molalla Ave.\, Oregon City\, OR\, 97045\, United States
CATEGORIES:Family Friendly,Performing,Theater,Youth
ATTACH;FMTTYPE=image/png:https://clackamasartsalliance.org/wp-content/uploads/2026/01/Camps-Workshops-Square-Logo-2.png
ORGANIZER;CN="OREGON CITY CHILDREN'S THEATRE":MAILTO:OCCT.MICHELLE.LEIGH@GMAIL.COM
END:VEVENT
BEGIN:VEVENT
DTSTART;TZID=America/Los_Angeles:20260120T113000
DTEND;TZID=America/Los_Angeles:20260120T123000
DTSTAMP:20260425T091614
CREATED:20260109T212116Z
LAST-MODIFIED:20260109T212116Z
UID:10030299-1768908600-1768912200@clackamasartsalliance.org
SUMMARY:Wonderland Performances
DESCRIPTION:A live theatre one-act reimagining of Alice in Wonderland — for children\, by children. For years\, schools have asked us to provide daytime performances perfect for field trips—and now we finally can! Thanks to our partnership with Clackamas Community College\, we have the space to make this long-requested opportunity a reality. This exciting production features one of two casts made up of 7–8 talented young performers\, ages 10–18. Each actor takes on 2–5 different roles\, bringing energy\, creativity\, and fresh twists to this beloved classic. “Wonderland” is designed for all ages\, making it a wonderful introduction to live theatre. Students will be inspired as they see kids—just like them—taking the stage and bringing a timeless story to life in a whole new way
URL:https://clackamasartsalliance.org/event/wonderland-performances/2026-01-20/2/
LOCATION:Clackamas Community College Oregon City Campus\, 19600 Molalla Ave.\, Oregon City\, OR\, 97045\, United States
CATEGORIES:Family Friendly,Performing,Theater,Youth
ATTACH;FMTTYPE=image/png:https://clackamasartsalliance.org/wp-content/uploads/2026/01/Camps-Workshops-Square-Logo-2.png
ORGANIZER;CN="OREGON CITY CHILDREN'S THEATRE":MAILTO:OCCT.MICHELLE.LEIGH@GMAIL.COM
END:VEVENT
END:VCALENDAR