BEGIN:VCALENDAR
VERSION:2.0
PRODID:-//Clackamas County Arts Alliance - ECPv6.15.18//NONSGML v1.0//EN
CALSCALE:GREGORIAN
METHOD:PUBLISH
X-WR-CALNAME:Clackamas County Arts Alliance
X-ORIGINAL-URL:https://clackamasartsalliance.org
X-WR-CALDESC:Events for Clackamas County Arts Alliance
REFRESH-INTERVAL;VALUE=DURATION:PT1H
X-Robots-Tag:noindex
X-PUBLISHED-TTL:PT1H
BEGIN:VTIMEZONE
TZID:America/Los_Angeles
BEGIN:DAYLIGHT
TZOFFSETFROM:-0800
TZOFFSETTO:-0700
TZNAME:PDT
DTSTART:20250309T100000
END:DAYLIGHT
BEGIN:STANDARD
TZOFFSETFROM:-0700
TZOFFSETTO:-0800
TZNAME:PST
DTSTART:20251102T090000
END:STANDARD
BEGIN:DAYLIGHT
TZOFFSETFROM:-0800
TZOFFSETTO:-0700
TZNAME:PDT
DTSTART:20260308T100000
END:DAYLIGHT
BEGIN:STANDARD
TZOFFSETFROM:-0700
TZOFFSETTO:-0800
TZNAME:PST
DTSTART:20261101T090000
END:STANDARD
BEGIN:DAYLIGHT
TZOFFSETFROM:-0800
TZOFFSETTO:-0700
TZNAME:PDT
DTSTART:20270314T100000
END:DAYLIGHT
BEGIN:STANDARD
TZOFFSETFROM:-0700
TZOFFSETTO:-0800
TZNAME:PST
DTSTART:20271107T090000
END:STANDARD
END:VTIMEZONE
BEGIN:VEVENT
DTSTART;TZID=America/Los_Angeles:20260128T190000
DTEND;TZID=America/Los_Angeles:20260128T210000
DTSTAMP:20260425T072913
CREATED:20260109T211428Z
LAST-MODIFIED:20260109T211428Z
UID:10030314-1769626800-1769634000@clackamasartsalliance.org
SUMMARY:Tyler Boeh: Stand Up Comedy At Lakewood Theatre
DESCRIPTION:How do you go from being a nationally recognized vocal percussionist in a college acapella group to a nationally touring headlining comedian? Ask Tyler Boeh\, a comedian whose comedy has been described as high-energy\, intelligent\, physical\, and silly. His quick wit and award winning “beat-boxing” talent bring audiences to hysterical heights. \nTyler started his stand-up career in his hometown of Portland\, OR\, but after placing in the finals of comedy competitions in Seattle\, San Francisco\, Boston and at the World Series of Comedy in Las Vegas\, Tyler made his way to Los Angeles. Within a year of his move to Hollywood he had established himself at the top comedy clubs\, completed work on two television pilots\, and Tyler’s debut comedy album\, “Carpool Companion” was chosen as LaughSpin Magazine’s album of the year when it was released in 2012. In 2015 Tyler held his own with Craig Fergusson on his new show\, “Celebrity Name Game”\, was featured in numerous BuzzFeed videos\, and appeared in 3 episodes of “Laughs on Fox”. 2016 culminated with a college tour that took him to nearly 40 campuses across the country and a return visit to showcase for the third season of “Laughs” on Fox. In 2018 Tyler released his second album\, “Full Circle” which was selected in January as the SiruisXM 98 artist of the month and debuted at #2 on the Billboard Comedy Charts. In 2018 Tyler also released his Dry Bar Comedy special “Wait for it” which has already received over 5 million views online.
URL:https://clackamasartsalliance.org/event/tyler-boeh-stand-up-comedy-at-lakewood-theatre/
LOCATION:Lakewood Center for the Arts\, 368 S. State Street\, Lake Oswego\, OR\, 97034\, United States
CATEGORIES:Performing,Theater
ATTACH;FMTTYPE=image/jpeg:https://clackamasartsalliance.org/wp-content/uploads/2026/01/TylerBoeh_Clackamas-copy-2.jpeg
GEO:45.4135063;-122.6646366
X-APPLE-STRUCTURED-LOCATION;VALUE=URI;X-ADDRESS=Lakewood Center for the Arts 368 S. State Street Lake Oswego OR 97034 United States;X-APPLE-RADIUS=500;X-TITLE=368 S. State Street:geo:-122.6646366,45.4135063
END:VEVENT
END:VCALENDAR