BEGIN:VCALENDAR
VERSION:2.0
PRODID:-//Clackamas County Arts Alliance - ECPv6.15.18//NONSGML v1.0//EN
CALSCALE:GREGORIAN
METHOD:PUBLISH
X-ORIGINAL-URL:https://clackamasartsalliance.org
X-WR-CALDESC:Events for Clackamas County Arts Alliance
REFRESH-INTERVAL;VALUE=DURATION:PT1H
X-Robots-Tag:noindex
X-PUBLISHED-TTL:PT1H
BEGIN:VTIMEZONE
TZID:America/Los_Angeles
BEGIN:DAYLIGHT
TZOFFSETFROM:-0800
TZOFFSETTO:-0700
TZNAME:PDT
DTSTART:20250309T100000
END:DAYLIGHT
BEGIN:STANDARD
TZOFFSETFROM:-0700
TZOFFSETTO:-0800
TZNAME:PST
DTSTART:20251102T090000
END:STANDARD
BEGIN:DAYLIGHT
TZOFFSETFROM:-0800
TZOFFSETTO:-0700
TZNAME:PDT
DTSTART:20260308T100000
END:DAYLIGHT
BEGIN:STANDARD
TZOFFSETFROM:-0700
TZOFFSETTO:-0800
TZNAME:PST
DTSTART:20261101T090000
END:STANDARD
BEGIN:DAYLIGHT
TZOFFSETFROM:-0800
TZOFFSETTO:-0700
TZNAME:PDT
DTSTART:20270314T100000
END:DAYLIGHT
BEGIN:STANDARD
TZOFFSETFROM:-0700
TZOFFSETTO:-0800
TZNAME:PST
DTSTART:20271107T090000
END:STANDARD
END:VTIMEZONE
BEGIN:VEVENT
DTSTART;TZID=America/Los_Angeles:20260203T173000
DTEND;TZID=America/Los_Angeles:20260203T183000
DTSTAMP:20260425T091810
CREATED:20260203T003209Z
LAST-MODIFIED:20260203T003209Z
UID:10031007-1770139800-1770143400@clackamasartsalliance.org
SUMMARY:First Tuesday Music: The Art of Korean Traditional Music with Doyeon Lim
DESCRIPTION:HYBRID: First Tuesday Music: The Art of Korean Traditional Music with Doyeon Lim\nTuesday\, February 3\, 5:30 – 6:30 pm \nJoin us on the first Tuesday of the month at Lake Oswego Public Library for a free live concert by Doyeon Lim. Experience the expressive sound of the gayageum as Doyeon Lim\, the founder and director of the Korean Music Institute of Oregon\, performs Korean traditional music and shares the stories and meanings behind what you are hearing\, including the folk tradition of Arirang and its many regional variations.\nThis program is supported by the Friends of the Lake Oswego Public Library. Admission is free and no tickets are required. Please note\, seating is limited due to the size of the space. Seats will be available on a first-come\, first-served basis. A livestream will be available.\nLake Oswego Public Library is located at 706 Fourth Street\, Lake Oswego. For more information contact April Younglove at 503-534-5667 or ayounglove@lakeoswego.city.
URL:https://clackamasartsalliance.org/event/first-tuesday-music-the-art-of-korean-traditional-music-with-doyeon-lim/
LOCATION:Lake Oswego Public Library\, 380 A Avenue\, Lake Oswego\, OR\, 97034\, United States
CATEGORIES:Library,Music,Performing
ATTACH;FMTTYPE=image/png:https://clackamasartsalliance.org/wp-content/uploads/2026/01/2-3-2026-FTM-TV-Slide.png
END:VEVENT
END:VCALENDAR