BEGIN:VCALENDAR
VERSION:2.0
PRODID:-//Clackamas County Arts Alliance - ECPv6.15.18//NONSGML v1.0//EN
CALSCALE:GREGORIAN
METHOD:PUBLISH
X-WR-CALNAME:Clackamas County Arts Alliance
X-ORIGINAL-URL:https://clackamasartsalliance.org
X-WR-CALDESC:Events for Clackamas County Arts Alliance
REFRESH-INTERVAL;VALUE=DURATION:PT1H
X-Robots-Tag:noindex
X-PUBLISHED-TTL:PT1H
BEGIN:VTIMEZONE
TZID:America/Los_Angeles
BEGIN:DAYLIGHT
TZOFFSETFROM:-0800
TZOFFSETTO:-0700
TZNAME:PDT
DTSTART:20250309T100000
END:DAYLIGHT
BEGIN:STANDARD
TZOFFSETFROM:-0700
TZOFFSETTO:-0800
TZNAME:PST
DTSTART:20251102T090000
END:STANDARD
BEGIN:DAYLIGHT
TZOFFSETFROM:-0800
TZOFFSETTO:-0700
TZNAME:PDT
DTSTART:20260308T100000
END:DAYLIGHT
BEGIN:STANDARD
TZOFFSETFROM:-0700
TZOFFSETTO:-0800
TZNAME:PST
DTSTART:20261101T090000
END:STANDARD
BEGIN:DAYLIGHT
TZOFFSETFROM:-0800
TZOFFSETTO:-0700
TZNAME:PDT
DTSTART:20270314T100000
END:DAYLIGHT
BEGIN:STANDARD
TZOFFSETFROM:-0700
TZOFFSETTO:-0800
TZNAME:PST
DTSTART:20271107T090000
END:STANDARD
END:VTIMEZONE
BEGIN:VEVENT
DTSTART;TZID=America/Los_Angeles:20260214T193000
DTEND;TZID=America/Los_Angeles:20260214T210000
DTSTAMP:20260425T072912
CREATED:20260128T020558Z
LAST-MODIFIED:20260128T020558Z
UID:10030860-1771097400-1771102800@clackamasartsalliance.org
SUMMARY:Bridge City Improv presents Cliffbanger: Musical Improv... That Hits!
DESCRIPTION:This Valentine’s Day\, Bridge City Improv is excited to present Cliffbanger\, musical improv like you’ve never seen—raw\, unpredictable\, and unapologetically fun. No scripted storylines\, no predictable arcs—just razor-sharp comedy\, top-tier musicianship\, and on-the-spot songs that make you laugh til your stomach hurts. They take what’s funny\, crank it up to 11\, and let the music drive it home. Unpredictable\, high-energy\, and unlike anything else in Portland—this is musical improv with teeth. We’ll close it out with Bridge City founders Beau & Lisa Brousseau joining the stage for a shorter improvised set inspired by your suggestions. It’s gonna be a good time. Join us! \nDirected by Rachel Rosenthal\nMusical Direction by Mont Chris Hubbard \nFeaturing:\nRachel Rosenthal\nSam De Roest\nEmily Larkin\nLauren Van Kurin\nBradford Jordan\nLena Roper\nAnd Mont Chris Hubbard on keys! \nDoors at 7pm.\nBeer\, wine\, concessions.\nAll ages welcome\, though assume PG13 content.\nTIX $15 online until 5pm show date / $20 at door.
URL:https://clackamasartsalliance.org/event/bridge-city-improv-presents-cliffbanger-musical-improv-that-hits/
LOCATION:Chapel Theatre\, 4107 Harrison Street\, Milwaukie\, OR\, 97222\, United States
CATEGORIES:Performing,Theater
ATTACH;FMTTYPE=image/png:https://clackamasartsalliance.org/wp-content/uploads/2026/01/Cliffbanger-720.png
ORGANIZER;CN="Bridge City Improv":MAILTO:bridgecityimprov@gmail.com
END:VEVENT
END:VCALENDAR