BEGIN:VCALENDAR
VERSION:2.0
PRODID:-//Clackamas County Arts Alliance - ECPv6.15.18//NONSGML v1.0//EN
CALSCALE:GREGORIAN
METHOD:PUBLISH
X-WR-CALNAME:Clackamas County Arts Alliance
X-ORIGINAL-URL:https://clackamasartsalliance.org
X-WR-CALDESC:Events for Clackamas County Arts Alliance
REFRESH-INTERVAL;VALUE=DURATION:PT1H
X-Robots-Tag:noindex
X-PUBLISHED-TTL:PT1H
BEGIN:VTIMEZONE
TZID:America/Los_Angeles
BEGIN:DAYLIGHT
TZOFFSETFROM:-0800
TZOFFSETTO:-0700
TZNAME:PDT
DTSTART:20250309T100000
END:DAYLIGHT
BEGIN:STANDARD
TZOFFSETFROM:-0700
TZOFFSETTO:-0800
TZNAME:PST
DTSTART:20251102T090000
END:STANDARD
BEGIN:DAYLIGHT
TZOFFSETFROM:-0800
TZOFFSETTO:-0700
TZNAME:PDT
DTSTART:20260308T100000
END:DAYLIGHT
BEGIN:STANDARD
TZOFFSETFROM:-0700
TZOFFSETTO:-0800
TZNAME:PST
DTSTART:20261101T090000
END:STANDARD
BEGIN:DAYLIGHT
TZOFFSETFROM:-0800
TZOFFSETTO:-0700
TZNAME:PDT
DTSTART:20270314T100000
END:DAYLIGHT
BEGIN:STANDARD
TZOFFSETFROM:-0700
TZOFFSETTO:-0800
TZNAME:PST
DTSTART:20271107T090000
END:STANDARD
END:VTIMEZONE
BEGIN:VEVENT
DTSTART;TZID=America/Los_Angeles:20260423T100000
DTEND;TZID=America/Los_Angeles:20260423T170000
DTSTAMP:20260423T144237
CREATED:20260402T004933Z
LAST-MODIFIED:20260408T032711Z
UID:10032779-1776938400-1776963600@clackamasartsalliance.org
SUMMARY:Stairwell Gallery: The Artwork of Marie Lo
DESCRIPTION:Come view the paintings of artist and professor of Asian North American literature\, Marie Lo. Her oil paintings invite viewers to think about how we represent the world around us\, how we see ourselves\, and how we preserve the stories that shape our identities. The exhibition will be on view throughout April during regular library hours. Lake Oswego Public Library is located at 706 Fourth Street\, Lake Oswego. For more information\, contact April Younglove at 503-534-5667 or ayounglove@lakeoswego.city.
URL:https://clackamasartsalliance.org/event/stairwell-gallery-the-artwork-of-marie-lo/2026-04-23/
LOCATION:Lake Oswego Library\, 706 4th St.\, Lake Oswego\, OR\, 97034\, United States
CATEGORIES:Art,Exhibit,Free,Gallery,Library,Music
ATTACH;FMTTYPE=image/png:https://clackamasartsalliance.org/wp-content/uploads/2026/04/4-1-2026-Stairwell-Gallery-TV-slide.png
GEO:45.4239821;-122.6673796
X-APPLE-STRUCTURED-LOCATION;VALUE=URI;X-ADDRESS=Lake Oswego Library 706 4th St. Lake Oswego OR 97034 United States;X-APPLE-RADIUS=500;X-TITLE=706 4th St.:geo:-122.6673796,45.4239821
END:VEVENT
BEGIN:VEVENT
DTSTART;TZID=America/Los_Angeles:20260424T100000
DTEND;TZID=America/Los_Angeles:20260424T170000
DTSTAMP:20260423T144237
CREATED:20260402T004933Z
LAST-MODIFIED:20260408T032711Z
UID:10032780-1777024800-1777050000@clackamasartsalliance.org
SUMMARY:Stairwell Gallery: The Artwork of Marie Lo
DESCRIPTION:Come view the paintings of artist and professor of Asian North American literature\, Marie Lo. Her oil paintings invite viewers to think about how we represent the world around us\, how we see ourselves\, and how we preserve the stories that shape our identities. The exhibition will be on view throughout April during regular library hours. Lake Oswego Public Library is located at 706 Fourth Street\, Lake Oswego. For more information\, contact April Younglove at 503-534-5667 or ayounglove@lakeoswego.city.
URL:https://clackamasartsalliance.org/event/stairwell-gallery-the-artwork-of-marie-lo/2026-04-24/
LOCATION:Lake Oswego Library\, 706 4th St.\, Lake Oswego\, OR\, 97034\, United States
CATEGORIES:Art,Exhibit,Free,Gallery,Library,Music
ATTACH;FMTTYPE=image/png:https://clackamasartsalliance.org/wp-content/uploads/2026/04/4-1-2026-Stairwell-Gallery-TV-slide.png
GEO:45.4239821;-122.6673796
X-APPLE-STRUCTURED-LOCATION;VALUE=URI;X-ADDRESS=Lake Oswego Library 706 4th St. Lake Oswego OR 97034 United States;X-APPLE-RADIUS=500;X-TITLE=706 4th St.:geo:-122.6673796,45.4239821
END:VEVENT
BEGIN:VEVENT
DTSTART;TZID=America/Los_Angeles:20260427T100000
DTEND;TZID=America/Los_Angeles:20260427T170000
DTSTAMP:20260423T144237
CREATED:20260402T004933Z
LAST-MODIFIED:20260408T032711Z
UID:10032781-1777284000-1777309200@clackamasartsalliance.org
SUMMARY:Stairwell Gallery: The Artwork of Marie Lo
DESCRIPTION:Come view the paintings of artist and professor of Asian North American literature\, Marie Lo. Her oil paintings invite viewers to think about how we represent the world around us\, how we see ourselves\, and how we preserve the stories that shape our identities. The exhibition will be on view throughout April during regular library hours. Lake Oswego Public Library is located at 706 Fourth Street\, Lake Oswego. For more information\, contact April Younglove at 503-534-5667 or ayounglove@lakeoswego.city.
URL:https://clackamasartsalliance.org/event/stairwell-gallery-the-artwork-of-marie-lo/2026-04-27/
LOCATION:Lake Oswego Library\, 706 4th St.\, Lake Oswego\, OR\, 97034\, United States
CATEGORIES:Art,Exhibit,Free,Gallery,Library,Music
ATTACH;FMTTYPE=image/png:https://clackamasartsalliance.org/wp-content/uploads/2026/04/4-1-2026-Stairwell-Gallery-TV-slide.png
GEO:45.4239821;-122.6673796
X-APPLE-STRUCTURED-LOCATION;VALUE=URI;X-ADDRESS=Lake Oswego Library 706 4th St. Lake Oswego OR 97034 United States;X-APPLE-RADIUS=500;X-TITLE=706 4th St.:geo:-122.6673796,45.4239821
END:VEVENT
BEGIN:VEVENT
DTSTART;TZID=America/Los_Angeles:20260428T100000
DTEND;TZID=America/Los_Angeles:20260428T170000
DTSTAMP:20260423T144237
CREATED:20260402T004933Z
LAST-MODIFIED:20260408T032711Z
UID:10032782-1777370400-1777395600@clackamasartsalliance.org
SUMMARY:Stairwell Gallery: The Artwork of Marie Lo
DESCRIPTION:Come view the paintings of artist and professor of Asian North American literature\, Marie Lo. Her oil paintings invite viewers to think about how we represent the world around us\, how we see ourselves\, and how we preserve the stories that shape our identities. The exhibition will be on view throughout April during regular library hours. Lake Oswego Public Library is located at 706 Fourth Street\, Lake Oswego. For more information\, contact April Younglove at 503-534-5667 or ayounglove@lakeoswego.city.
URL:https://clackamasartsalliance.org/event/stairwell-gallery-the-artwork-of-marie-lo/2026-04-28/
LOCATION:Lake Oswego Library\, 706 4th St.\, Lake Oswego\, OR\, 97034\, United States
CATEGORIES:Art,Exhibit,Free,Gallery,Library,Music
ATTACH;FMTTYPE=image/png:https://clackamasartsalliance.org/wp-content/uploads/2026/04/4-1-2026-Stairwell-Gallery-TV-slide.png
GEO:45.4239821;-122.6673796
X-APPLE-STRUCTURED-LOCATION;VALUE=URI;X-ADDRESS=Lake Oswego Library 706 4th St. Lake Oswego OR 97034 United States;X-APPLE-RADIUS=500;X-TITLE=706 4th St.:geo:-122.6673796,45.4239821
END:VEVENT
BEGIN:VEVENT
DTSTART;TZID=America/Los_Angeles:20260429T100000
DTEND;TZID=America/Los_Angeles:20260429T170000
DTSTAMP:20260423T144237
CREATED:20260402T004933Z
LAST-MODIFIED:20260408T032711Z
UID:10032783-1777456800-1777482000@clackamasartsalliance.org
SUMMARY:Stairwell Gallery: The Artwork of Marie Lo
DESCRIPTION:Come view the paintings of artist and professor of Asian North American literature\, Marie Lo. Her oil paintings invite viewers to think about how we represent the world around us\, how we see ourselves\, and how we preserve the stories that shape our identities. The exhibition will be on view throughout April during regular library hours. Lake Oswego Public Library is located at 706 Fourth Street\, Lake Oswego. For more information\, contact April Younglove at 503-534-5667 or ayounglove@lakeoswego.city.
URL:https://clackamasartsalliance.org/event/stairwell-gallery-the-artwork-of-marie-lo/2026-04-29/
LOCATION:Lake Oswego Library\, 706 4th St.\, Lake Oswego\, OR\, 97034\, United States
CATEGORIES:Art,Exhibit,Free,Gallery,Library,Music
ATTACH;FMTTYPE=image/png:https://clackamasartsalliance.org/wp-content/uploads/2026/04/4-1-2026-Stairwell-Gallery-TV-slide.png
GEO:45.4239821;-122.6673796
X-APPLE-STRUCTURED-LOCATION;VALUE=URI;X-ADDRESS=Lake Oswego Library 706 4th St. Lake Oswego OR 97034 United States;X-APPLE-RADIUS=500;X-TITLE=706 4th St.:geo:-122.6673796,45.4239821
END:VEVENT
BEGIN:VEVENT
DTSTART;TZID=America/Los_Angeles:20260430T100000
DTEND;TZID=America/Los_Angeles:20260430T170000
DTSTAMP:20260423T144237
CREATED:20260402T004933Z
LAST-MODIFIED:20260408T032711Z
UID:10032784-1777543200-1777568400@clackamasartsalliance.org
SUMMARY:Stairwell Gallery: The Artwork of Marie Lo
DESCRIPTION:Come view the paintings of artist and professor of Asian North American literature\, Marie Lo. Her oil paintings invite viewers to think about how we represent the world around us\, how we see ourselves\, and how we preserve the stories that shape our identities. The exhibition will be on view throughout April during regular library hours. Lake Oswego Public Library is located at 706 Fourth Street\, Lake Oswego. For more information\, contact April Younglove at 503-534-5667 or ayounglove@lakeoswego.city.
URL:https://clackamasartsalliance.org/event/stairwell-gallery-the-artwork-of-marie-lo/2026-04-30/
LOCATION:Lake Oswego Library\, 706 4th St.\, Lake Oswego\, OR\, 97034\, United States
CATEGORIES:Art,Exhibit,Free,Gallery,Library,Music
ATTACH;FMTTYPE=image/png:https://clackamasartsalliance.org/wp-content/uploads/2026/04/4-1-2026-Stairwell-Gallery-TV-slide.png
GEO:45.4239821;-122.6673796
X-APPLE-STRUCTURED-LOCATION;VALUE=URI;X-ADDRESS=Lake Oswego Library 706 4th St. Lake Oswego OR 97034 United States;X-APPLE-RADIUS=500;X-TITLE=706 4th St.:geo:-122.6673796,45.4239821
END:VEVENT
END:VCALENDAR