BEGIN:VCALENDAR
VERSION:2.0
PRODID:-//Clackamas County Arts Alliance - ECPv6.15.18//NONSGML v1.0//EN
CALSCALE:GREGORIAN
METHOD:PUBLISH
X-ORIGINAL-URL:https://clackamasartsalliance.org
X-WR-CALDESC:Events for Clackamas County Arts Alliance
REFRESH-INTERVAL;VALUE=DURATION:PT1H
X-Robots-Tag:noindex
X-PUBLISHED-TTL:PT1H
BEGIN:VTIMEZONE
TZID:America/Los_Angeles
BEGIN:DAYLIGHT
TZOFFSETFROM:-0800
TZOFFSETTO:-0700
TZNAME:PDT
DTSTART:20240310T100000
END:DAYLIGHT
BEGIN:STANDARD
TZOFFSETFROM:-0700
TZOFFSETTO:-0800
TZNAME:PST
DTSTART:20241103T090000
END:STANDARD
BEGIN:DAYLIGHT
TZOFFSETFROM:-0800
TZOFFSETTO:-0700
TZNAME:PDT
DTSTART:20250309T100000
END:DAYLIGHT
BEGIN:STANDARD
TZOFFSETFROM:-0700
TZOFFSETTO:-0800
TZNAME:PST
DTSTART:20251102T090000
END:STANDARD
BEGIN:DAYLIGHT
TZOFFSETFROM:-0800
TZOFFSETTO:-0700
TZNAME:PDT
DTSTART:20260308T100000
END:DAYLIGHT
BEGIN:STANDARD
TZOFFSETFROM:-0700
TZOFFSETTO:-0800
TZNAME:PST
DTSTART:20261101T090000
END:STANDARD
END:VTIMEZONE
BEGIN:VEVENT
DTSTART;TZID=America/Los_Angeles:20251122T193000
DTEND;TZID=America/Los_Angeles:20251122T220000
DTSTAMP:20260424T180505
CREATED:20251009T200302Z
LAST-MODIFIED:20251112T141100Z
UID:10027192-1763839800-1763848800@clackamasartsalliance.org
SUMMARY:Chapel Theatre presents: Mr Burns\, A Post-Electric Play
DESCRIPTION:by Anne Washburn\nScore by Michael Friedman\nLyrics by Anne Washburn \nDirector: Illya deTorres\nChoreographer: Corinn deTorres\nMusic Director: James Liptak\nStage Manager: Amanda Healy\nLighting Designer: Dug Martell\nCostume Designer: MK Hobson \nCast:\nBonnie Auguston\nCristian Villaquiran\nIllya deTorres\nJessica Curtiss\nMagnolia Brown\nMatt Sunderland\nMishelle Apalategui \nAnne Washburn’s imaginative dark comedy – a play with music featuring songs by Washburn and Michael Friedman – propels us forward nearly a century\, following a new civilization stumbling into its future. \nAfter the collapse of civilization\, a group of survivors share a campfire and begin to piece together the plot of The Simpsons episode “Cape Feare” entirely from memory. Seven years later\, this and other snippets of pop culture (sitcom plots\, commercials\, jingles and pop songs) have become the live entertainment of a post-apocalyptic society\, sincerely trying to hold onto its past. Seventy-five years later\, these are the myths and legends from which new forms of performance are created. \nA paean to live theater\, and the resilience of Bart Simpson through the ages\, Mr. Burns is an animated exploration of how the pop culture of one era might evolve into the mythology of another.
URL:https://clackamasartsalliance.org/event/chapel-theatre-presents-mr-burns-a-post-electric-play/2025-11-22/2/
LOCATION:Chapel Theatre\, 4107 Harrison Street\, Milwaukie\, OR\, 97222\, United States
CATEGORIES:Performing
ORGANIZER;CN="Chapel Theatre Collective":MAILTO:corinn@chapeltheatremilwaukie.com
END:VEVENT
BEGIN:VEVENT
DTSTART;TZID=America/Los_Angeles:20251122T140000
DTEND;TZID=America/Los_Angeles:20251122T170000
DTSTAMP:20260424T180505
CREATED:20251009T200302Z
LAST-MODIFIED:20251112T141100Z
UID:10027191-1763820000-1763830800@clackamasartsalliance.org
SUMMARY:Chapel Theatre presents: Mr Burns\, A Post-Electric Play
DESCRIPTION:by Anne Washburn\nScore by Michael Friedman\nLyrics by Anne Washburn \nDirector: Illya deTorres\nChoreographer: Corinn deTorres\nMusic Director: James Liptak\nStage Manager: Amanda Healy\nLighting Designer: Dug Martell\nCostume Designer: MK Hobson \nCast:\nBonnie Auguston\nCristian Villaquiran\nIllya deTorres\nJessica Curtiss\nMagnolia Brown\nMatt Sunderland\nMishelle Apalategui \nAnne Washburn’s imaginative dark comedy – a play with music featuring songs by Washburn and Michael Friedman – propels us forward nearly a century\, following a new civilization stumbling into its future. \nAfter the collapse of civilization\, a group of survivors share a campfire and begin to piece together the plot of The Simpsons episode “Cape Feare” entirely from memory. Seven years later\, this and other snippets of pop culture (sitcom plots\, commercials\, jingles and pop songs) have become the live entertainment of a post-apocalyptic society\, sincerely trying to hold onto its past. Seventy-five years later\, these are the myths and legends from which new forms of performance are created. \nA paean to live theater\, and the resilience of Bart Simpson through the ages\, Mr. Burns is an animated exploration of how the pop culture of one era might evolve into the mythology of another.
URL:https://clackamasartsalliance.org/event/chapel-theatre-presents-mr-burns-a-post-electric-play/2025-11-22/1/
LOCATION:Chapel Theatre\, 4107 Harrison Street\, Milwaukie\, OR\, 97222\, United States
CATEGORIES:Performing
ORGANIZER;CN="Chapel Theatre Collective":MAILTO:corinn@chapeltheatremilwaukie.com
END:VEVENT
BEGIN:VEVENT
DTSTART;TZID=America/Los_Angeles:20251121T193000
DTEND;TZID=America/Los_Angeles:20251121T220000
DTSTAMP:20260424T180505
CREATED:20251009T200302Z
LAST-MODIFIED:20251112T141100Z
UID:10027190-1763753400-1763762400@clackamasartsalliance.org
SUMMARY:Chapel Theatre presents: Mr Burns\, A Post-Electric Play
DESCRIPTION:by Anne Washburn\nScore by Michael Friedman\nLyrics by Anne Washburn \nDirector: Illya deTorres\nChoreographer: Corinn deTorres\nMusic Director: James Liptak\nStage Manager: Amanda Healy\nLighting Designer: Dug Martell\nCostume Designer: MK Hobson \nCast:\nBonnie Auguston\nCristian Villaquiran\nIllya deTorres\nJessica Curtiss\nMagnolia Brown\nMatt Sunderland\nMishelle Apalategui \nAnne Washburn’s imaginative dark comedy – a play with music featuring songs by Washburn and Michael Friedman – propels us forward nearly a century\, following a new civilization stumbling into its future. \nAfter the collapse of civilization\, a group of survivors share a campfire and begin to piece together the plot of The Simpsons episode “Cape Feare” entirely from memory. Seven years later\, this and other snippets of pop culture (sitcom plots\, commercials\, jingles and pop songs) have become the live entertainment of a post-apocalyptic society\, sincerely trying to hold onto its past. Seventy-five years later\, these are the myths and legends from which new forms of performance are created. \nA paean to live theater\, and the resilience of Bart Simpson through the ages\, Mr. Burns is an animated exploration of how the pop culture of one era might evolve into the mythology of another.
URL:https://clackamasartsalliance.org/event/chapel-theatre-presents-mr-burns-a-post-electric-play/2025-11-21/
LOCATION:Chapel Theatre\, 4107 Harrison Street\, Milwaukie\, OR\, 97222\, United States
CATEGORIES:Performing
ORGANIZER;CN="Chapel Theatre Collective":MAILTO:corinn@chapeltheatremilwaukie.com
END:VEVENT
BEGIN:VEVENT
DTSTART;TZID=America/Los_Angeles:20251120T193000
DTEND;TZID=America/Los_Angeles:20251120T220000
DTSTAMP:20260424T180505
CREATED:20251009T200302Z
LAST-MODIFIED:20251112T141100Z
UID:10027189-1763667000-1763676000@clackamasartsalliance.org
SUMMARY:Chapel Theatre presents: Mr Burns\, A Post-Electric Play
DESCRIPTION:by Anne Washburn\nScore by Michael Friedman\nLyrics by Anne Washburn \nDirector: Illya deTorres\nChoreographer: Corinn deTorres\nMusic Director: James Liptak\nStage Manager: Amanda Healy\nLighting Designer: Dug Martell\nCostume Designer: MK Hobson \nCast:\nBonnie Auguston\nCristian Villaquiran\nIllya deTorres\nJessica Curtiss\nMagnolia Brown\nMatt Sunderland\nMishelle Apalategui \nAnne Washburn’s imaginative dark comedy – a play with music featuring songs by Washburn and Michael Friedman – propels us forward nearly a century\, following a new civilization stumbling into its future. \nAfter the collapse of civilization\, a group of survivors share a campfire and begin to piece together the plot of The Simpsons episode “Cape Feare” entirely from memory. Seven years later\, this and other snippets of pop culture (sitcom plots\, commercials\, jingles and pop songs) have become the live entertainment of a post-apocalyptic society\, sincerely trying to hold onto its past. Seventy-five years later\, these are the myths and legends from which new forms of performance are created. \nA paean to live theater\, and the resilience of Bart Simpson through the ages\, Mr. Burns is an animated exploration of how the pop culture of one era might evolve into the mythology of another.
URL:https://clackamasartsalliance.org/event/chapel-theatre-presents-mr-burns-a-post-electric-play/2025-11-20/
LOCATION:Chapel Theatre\, 4107 Harrison Street\, Milwaukie\, OR\, 97222\, United States
CATEGORIES:Performing
ORGANIZER;CN="Chapel Theatre Collective":MAILTO:corinn@chapeltheatremilwaukie.com
END:VEVENT
BEGIN:VEVENT
DTSTART;TZID=America/Los_Angeles:20251116T140000
DTEND;TZID=America/Los_Angeles:20251116T170000
DTSTAMP:20260424T180505
CREATED:20251009T200302Z
LAST-MODIFIED:20251112T141100Z
UID:10027188-1763301600-1763312400@clackamasartsalliance.org
SUMMARY:Chapel Theatre presents: Mr Burns\, A Post-Electric Play
DESCRIPTION:by Anne Washburn\nScore by Michael Friedman\nLyrics by Anne Washburn \nDirector: Illya deTorres\nChoreographer: Corinn deTorres\nMusic Director: James Liptak\nStage Manager: Amanda Healy\nLighting Designer: Dug Martell\nCostume Designer: MK Hobson \nCast:\nBonnie Auguston\nCristian Villaquiran\nIllya deTorres\nJessica Curtiss\nMagnolia Brown\nMatt Sunderland\nMishelle Apalategui \nAnne Washburn’s imaginative dark comedy – a play with music featuring songs by Washburn and Michael Friedman – propels us forward nearly a century\, following a new civilization stumbling into its future. \nAfter the collapse of civilization\, a group of survivors share a campfire and begin to piece together the plot of The Simpsons episode “Cape Feare” entirely from memory. Seven years later\, this and other snippets of pop culture (sitcom plots\, commercials\, jingles and pop songs) have become the live entertainment of a post-apocalyptic society\, sincerely trying to hold onto its past. Seventy-five years later\, these are the myths and legends from which new forms of performance are created. \nA paean to live theater\, and the resilience of Bart Simpson through the ages\, Mr. Burns is an animated exploration of how the pop culture of one era might evolve into the mythology of another.
URL:https://clackamasartsalliance.org/event/chapel-theatre-presents-mr-burns-a-post-electric-play/2025-11-16/
LOCATION:Chapel Theatre\, 4107 Harrison Street\, Milwaukie\, OR\, 97222\, United States
CATEGORIES:Performing
ORGANIZER;CN="Chapel Theatre Collective":MAILTO:corinn@chapeltheatremilwaukie.com
END:VEVENT
BEGIN:VEVENT
DTSTART;TZID=America/Los_Angeles:20251115T193000
DTEND;TZID=America/Los_Angeles:20251115T220000
DTSTAMP:20260424T180505
CREATED:20251009T200302Z
LAST-MODIFIED:20251112T141100Z
UID:10027187-1763235000-1763244000@clackamasartsalliance.org
SUMMARY:Chapel Theatre presents: Mr Burns\, A Post-Electric Play
DESCRIPTION:by Anne Washburn\nScore by Michael Friedman\nLyrics by Anne Washburn \nDirector: Illya deTorres\nChoreographer: Corinn deTorres\nMusic Director: James Liptak\nStage Manager: Amanda Healy\nLighting Designer: Dug Martell\nCostume Designer: MK Hobson \nCast:\nBonnie Auguston\nCristian Villaquiran\nIllya deTorres\nJessica Curtiss\nMagnolia Brown\nMatt Sunderland\nMishelle Apalategui \nAnne Washburn’s imaginative dark comedy – a play with music featuring songs by Washburn and Michael Friedman – propels us forward nearly a century\, following a new civilization stumbling into its future. \nAfter the collapse of civilization\, a group of survivors share a campfire and begin to piece together the plot of The Simpsons episode “Cape Feare” entirely from memory. Seven years later\, this and other snippets of pop culture (sitcom plots\, commercials\, jingles and pop songs) have become the live entertainment of a post-apocalyptic society\, sincerely trying to hold onto its past. Seventy-five years later\, these are the myths and legends from which new forms of performance are created. \nA paean to live theater\, and the resilience of Bart Simpson through the ages\, Mr. Burns is an animated exploration of how the pop culture of one era might evolve into the mythology of another.
URL:https://clackamasartsalliance.org/event/chapel-theatre-presents-mr-burns-a-post-electric-play/2025-11-15/
LOCATION:Chapel Theatre\, 4107 Harrison Street\, Milwaukie\, OR\, 97222\, United States
CATEGORIES:Performing
ORGANIZER;CN="Chapel Theatre Collective":MAILTO:corinn@chapeltheatremilwaukie.com
END:VEVENT
BEGIN:VEVENT
DTSTART;TZID=America/Los_Angeles:20251114T193000
DTEND;TZID=America/Los_Angeles:20251114T220000
DTSTAMP:20260424T180505
CREATED:20251009T200302Z
LAST-MODIFIED:20251112T141100Z
UID:10027186-1763148600-1763157600@clackamasartsalliance.org
SUMMARY:Chapel Theatre presents: Mr Burns\, A Post-Electric Play
DESCRIPTION:by Anne Washburn\nScore by Michael Friedman\nLyrics by Anne Washburn \nDirector: Illya deTorres\nChoreographer: Corinn deTorres\nMusic Director: James Liptak\nStage Manager: Amanda Healy\nLighting Designer: Dug Martell\nCostume Designer: MK Hobson \nCast:\nBonnie Auguston\nCristian Villaquiran\nIllya deTorres\nJessica Curtiss\nMagnolia Brown\nMatt Sunderland\nMishelle Apalategui \nAnne Washburn’s imaginative dark comedy – a play with music featuring songs by Washburn and Michael Friedman – propels us forward nearly a century\, following a new civilization stumbling into its future. \nAfter the collapse of civilization\, a group of survivors share a campfire and begin to piece together the plot of The Simpsons episode “Cape Feare” entirely from memory. Seven years later\, this and other snippets of pop culture (sitcom plots\, commercials\, jingles and pop songs) have become the live entertainment of a post-apocalyptic society\, sincerely trying to hold onto its past. Seventy-five years later\, these are the myths and legends from which new forms of performance are created. \nA paean to live theater\, and the resilience of Bart Simpson through the ages\, Mr. Burns is an animated exploration of how the pop culture of one era might evolve into the mythology of another.
URL:https://clackamasartsalliance.org/event/chapel-theatre-presents-mr-burns-a-post-electric-play/2025-11-14/
LOCATION:Chapel Theatre\, 4107 Harrison Street\, Milwaukie\, OR\, 97222\, United States
CATEGORIES:Performing
ORGANIZER;CN="Chapel Theatre Collective":MAILTO:corinn@chapeltheatremilwaukie.com
END:VEVENT
BEGIN:VEVENT
DTSTART;TZID=America/Los_Angeles:20251113T193000
DTEND;TZID=America/Los_Angeles:20251113T220000
DTSTAMP:20260424T180505
CREATED:20251009T200302Z
LAST-MODIFIED:20251112T141100Z
UID:10027185-1763062200-1763071200@clackamasartsalliance.org
SUMMARY:Chapel Theatre presents: Mr Burns\, A Post-Electric Play
DESCRIPTION:by Anne Washburn\nScore by Michael Friedman\nLyrics by Anne Washburn \nDirector: Illya deTorres\nChoreographer: Corinn deTorres\nMusic Director: James Liptak\nStage Manager: Amanda Healy\nLighting Designer: Dug Martell\nCostume Designer: MK Hobson \nCast:\nBonnie Auguston\nCristian Villaquiran\nIllya deTorres\nJessica Curtiss\nMagnolia Brown\nMatt Sunderland\nMishelle Apalategui \nAnne Washburn’s imaginative dark comedy – a play with music featuring songs by Washburn and Michael Friedman – propels us forward nearly a century\, following a new civilization stumbling into its future. \nAfter the collapse of civilization\, a group of survivors share a campfire and begin to piece together the plot of The Simpsons episode “Cape Feare” entirely from memory. Seven years later\, this and other snippets of pop culture (sitcom plots\, commercials\, jingles and pop songs) have become the live entertainment of a post-apocalyptic society\, sincerely trying to hold onto its past. Seventy-five years later\, these are the myths and legends from which new forms of performance are created. \nA paean to live theater\, and the resilience of Bart Simpson through the ages\, Mr. Burns is an animated exploration of how the pop culture of one era might evolve into the mythology of another.
URL:https://clackamasartsalliance.org/event/chapel-theatre-presents-mr-burns-a-post-electric-play/2025-11-13/
LOCATION:Chapel Theatre\, 4107 Harrison Street\, Milwaukie\, OR\, 97222\, United States
CATEGORIES:Performing
ORGANIZER;CN="Chapel Theatre Collective":MAILTO:corinn@chapeltheatremilwaukie.com
END:VEVENT
BEGIN:VEVENT
DTSTART;TZID=America/Los_Angeles:20251109T140000
DTEND;TZID=America/Los_Angeles:20251109T170000
DTSTAMP:20260424T180505
CREATED:20251009T200302Z
LAST-MODIFIED:20251112T141100Z
UID:10027184-1762696800-1762707600@clackamasartsalliance.org
SUMMARY:Chapel Theatre presents: Mr Burns\, A Post-Electric Play
DESCRIPTION:by Anne Washburn\nScore by Michael Friedman\nLyrics by Anne Washburn \nDirector: Illya deTorres\nChoreographer: Corinn deTorres\nMusic Director: James Liptak\nStage Manager: Amanda Healy\nLighting Designer: Dug Martell\nCostume Designer: MK Hobson \nCast:\nBonnie Auguston\nCristian Villaquiran\nIllya deTorres\nJessica Curtiss\nMagnolia Brown\nMatt Sunderland\nMishelle Apalategui \nAnne Washburn’s imaginative dark comedy – a play with music featuring songs by Washburn and Michael Friedman – propels us forward nearly a century\, following a new civilization stumbling into its future. \nAfter the collapse of civilization\, a group of survivors share a campfire and begin to piece together the plot of The Simpsons episode “Cape Feare” entirely from memory. Seven years later\, this and other snippets of pop culture (sitcom plots\, commercials\, jingles and pop songs) have become the live entertainment of a post-apocalyptic society\, sincerely trying to hold onto its past. Seventy-five years later\, these are the myths and legends from which new forms of performance are created. \nA paean to live theater\, and the resilience of Bart Simpson through the ages\, Mr. Burns is an animated exploration of how the pop culture of one era might evolve into the mythology of another.
URL:https://clackamasartsalliance.org/event/chapel-theatre-presents-mr-burns-a-post-electric-play/2025-11-09/
LOCATION:Chapel Theatre\, 4107 Harrison Street\, Milwaukie\, OR\, 97222\, United States
CATEGORIES:Performing
ORGANIZER;CN="Chapel Theatre Collective":MAILTO:corinn@chapeltheatremilwaukie.com
END:VEVENT
BEGIN:VEVENT
DTSTART;TZID=America/Los_Angeles:20251108T193000
DTEND;TZID=America/Los_Angeles:20251108T220000
DTSTAMP:20260424T180505
CREATED:20251009T200302Z
LAST-MODIFIED:20251112T141100Z
UID:10027183-1762630200-1762639200@clackamasartsalliance.org
SUMMARY:Chapel Theatre presents: Mr Burns\, A Post-Electric Play
DESCRIPTION:by Anne Washburn\nScore by Michael Friedman\nLyrics by Anne Washburn \nDirector: Illya deTorres\nChoreographer: Corinn deTorres\nMusic Director: James Liptak\nStage Manager: Amanda Healy\nLighting Designer: Dug Martell\nCostume Designer: MK Hobson \nCast:\nBonnie Auguston\nCristian Villaquiran\nIllya deTorres\nJessica Curtiss\nMagnolia Brown\nMatt Sunderland\nMishelle Apalategui \nAnne Washburn’s imaginative dark comedy – a play with music featuring songs by Washburn and Michael Friedman – propels us forward nearly a century\, following a new civilization stumbling into its future. \nAfter the collapse of civilization\, a group of survivors share a campfire and begin to piece together the plot of The Simpsons episode “Cape Feare” entirely from memory. Seven years later\, this and other snippets of pop culture (sitcom plots\, commercials\, jingles and pop songs) have become the live entertainment of a post-apocalyptic society\, sincerely trying to hold onto its past. Seventy-five years later\, these are the myths and legends from which new forms of performance are created. \nA paean to live theater\, and the resilience of Bart Simpson through the ages\, Mr. Burns is an animated exploration of how the pop culture of one era might evolve into the mythology of another.
URL:https://clackamasartsalliance.org/event/chapel-theatre-presents-mr-burns-a-post-electric-play/2025-11-08/
LOCATION:Chapel Theatre\, 4107 Harrison Street\, Milwaukie\, OR\, 97222\, United States
CATEGORIES:Performing
ORGANIZER;CN="Chapel Theatre Collective":MAILTO:corinn@chapeltheatremilwaukie.com
END:VEVENT
BEGIN:VEVENT
DTSTART;TZID=America/Los_Angeles:20251107T193000
DTEND;TZID=America/Los_Angeles:20251107T220000
DTSTAMP:20260424T180505
CREATED:20251009T200302Z
LAST-MODIFIED:20251112T141100Z
UID:10027182-1762543800-1762552800@clackamasartsalliance.org
SUMMARY:Chapel Theatre presents: Mr Burns\, A Post-Electric Play
DESCRIPTION:by Anne Washburn\nScore by Michael Friedman\nLyrics by Anne Washburn \nDirector: Illya deTorres\nChoreographer: Corinn deTorres\nMusic Director: James Liptak\nStage Manager: Amanda Healy\nLighting Designer: Dug Martell\nCostume Designer: MK Hobson \nCast:\nBonnie Auguston\nCristian Villaquiran\nIllya deTorres\nJessica Curtiss\nMagnolia Brown\nMatt Sunderland\nMishelle Apalategui \nAnne Washburn’s imaginative dark comedy – a play with music featuring songs by Washburn and Michael Friedman – propels us forward nearly a century\, following a new civilization stumbling into its future. \nAfter the collapse of civilization\, a group of survivors share a campfire and begin to piece together the plot of The Simpsons episode “Cape Feare” entirely from memory. Seven years later\, this and other snippets of pop culture (sitcom plots\, commercials\, jingles and pop songs) have become the live entertainment of a post-apocalyptic society\, sincerely trying to hold onto its past. Seventy-five years later\, these are the myths and legends from which new forms of performance are created. \nA paean to live theater\, and the resilience of Bart Simpson through the ages\, Mr. Burns is an animated exploration of how the pop culture of one era might evolve into the mythology of another.
URL:https://clackamasartsalliance.org/event/chapel-theatre-presents-mr-burns-a-post-electric-play/2025-11-07/
LOCATION:Chapel Theatre\, 4107 Harrison Street\, Milwaukie\, OR\, 97222\, United States
CATEGORIES:Performing
ORGANIZER;CN="Chapel Theatre Collective":MAILTO:corinn@chapeltheatremilwaukie.com
END:VEVENT
END:VCALENDAR