BEGIN:VCALENDAR
VERSION:2.0
PRODID:-//Clackamas County Arts Alliance - ECPv6.15.18//NONSGML v1.0//EN
CALSCALE:GREGORIAN
METHOD:PUBLISH
X-WR-CALNAME:Clackamas County Arts Alliance
X-ORIGINAL-URL:https://clackamasartsalliance.org
X-WR-CALDESC:Events for Clackamas County Arts Alliance
REFRESH-INTERVAL;VALUE=DURATION:PT1H
X-Robots-Tag:noindex
X-PUBLISHED-TTL:PT1H
BEGIN:VTIMEZONE
TZID:America/Los_Angeles
BEGIN:DAYLIGHT
TZOFFSETFROM:-0800
TZOFFSETTO:-0700
TZNAME:PDT
DTSTART:20250309T100000
END:DAYLIGHT
BEGIN:STANDARD
TZOFFSETFROM:-0700
TZOFFSETTO:-0800
TZNAME:PST
DTSTART:20251102T090000
END:STANDARD
BEGIN:DAYLIGHT
TZOFFSETFROM:-0800
TZOFFSETTO:-0700
TZNAME:PDT
DTSTART:20260308T100000
END:DAYLIGHT
BEGIN:STANDARD
TZOFFSETFROM:-0700
TZOFFSETTO:-0800
TZNAME:PST
DTSTART:20261101T090000
END:STANDARD
BEGIN:DAYLIGHT
TZOFFSETFROM:-0800
TZOFFSETTO:-0700
TZNAME:PDT
DTSTART:20270314T100000
END:DAYLIGHT
BEGIN:STANDARD
TZOFFSETFROM:-0700
TZOFFSETTO:-0800
TZNAME:PST
DTSTART:20271107T090000
END:STANDARD
END:VTIMEZONE
BEGIN:VEVENT
DTSTART;TZID=America/Los_Angeles:20260725T110000
DTEND;TZID=America/Los_Angeles:20260725T180000
DTSTAMP:20260424T033519
CREATED:20260325T070837Z
LAST-MODIFIED:20260325T070837Z
UID:10032481-1784977200-1785002400@clackamasartsalliance.org
SUMMARY:Arts at the Creek 2026
DESCRIPTION:The Estacada Area Arts Commission is holding our 4th Annual Arts at the Creek this summer on July 25th! This event will be an all ages art and music festival\, and will feature youth and adult art vendors\, local food carts\, as well as a great music lineup.
URL:https://clackamasartsalliance.org/event/arts-at-the-creek-2026/
LOCATION:Wade Creek Park\, 747 NW Wade St\, Estacada\, Oregon\, 97023
CATEGORIES:Art,Concert,Craft,Family Friendly,Festivals,Free,Music,Youth
ATTACH;FMTTYPE=image/png:https://clackamasartsalliance.org/wp-content/uploads/2026/03/2026-4th-Annual-Arts-at-the-Creek-Posters-Portrait-34-1.png
ORGANIZER;CN="Estacada Area Arts Commission":MAILTO:artscommission@cityofestacada.org
END:VEVENT
END:VCALENDAR