BEGIN:VCALENDAR
VERSION:2.0
PRODID:-//Clackamas County Arts Alliance - ECPv6.15.18//NONSGML v1.0//EN
CALSCALE:GREGORIAN
METHOD:PUBLISH
X-WR-CALNAME:Clackamas County Arts Alliance
X-ORIGINAL-URL:https://clackamasartsalliance.org
X-WR-CALDESC:Events for Clackamas County Arts Alliance
REFRESH-INTERVAL;VALUE=DURATION:PT1H
X-Robots-Tag:noindex
X-PUBLISHED-TTL:PT1H
BEGIN:VTIMEZONE
TZID:America/Los_Angeles
BEGIN:DAYLIGHT
TZOFFSETFROM:-0800
TZOFFSETTO:-0700
TZNAME:PDT
DTSTART:20240310T100000
END:DAYLIGHT
BEGIN:STANDARD
TZOFFSETFROM:-0700
TZOFFSETTO:-0800
TZNAME:PST
DTSTART:20241103T090000
END:STANDARD
BEGIN:DAYLIGHT
TZOFFSETFROM:-0800
TZOFFSETTO:-0700
TZNAME:PDT
DTSTART:20250309T100000
END:DAYLIGHT
BEGIN:STANDARD
TZOFFSETFROM:-0700
TZOFFSETTO:-0800
TZNAME:PST
DTSTART:20251102T090000
END:STANDARD
BEGIN:DAYLIGHT
TZOFFSETFROM:-0800
TZOFFSETTO:-0700
TZNAME:PDT
DTSTART:20260308T100000
END:DAYLIGHT
BEGIN:STANDARD
TZOFFSETFROM:-0700
TZOFFSETTO:-0800
TZNAME:PST
DTSTART:20261101T090000
END:STANDARD
END:VTIMEZONE
BEGIN:VEVENT
DTSTART;TZID=America/Los_Angeles:20251213T110000
DTEND;TZID=America/Los_Angeles:20251213T130000
DTSTAMP:20260424T155819
CREATED:20251129T054930Z
LAST-MODIFIED:20251129T054944Z
UID:10029701-1765623600-1765630800@clackamasartsalliance.org
SUMMARY:Fused Glass Christmas Tree Tea Light Holder
DESCRIPTION:Fused Glass Christmas Tree Tealight Holders\na workshop by Sweet Lomy Art \nSaturday\, December 13th\n11:00am-1:00pm\nHappy Valley Library\nCommunity Room B\n13793 SE Sieben Park Way\, Happy Valley OR 97015\nAges 10+\n(under 12yrs must be accompanied by adult)\nCost: $50 per student \nAdd a little sparkle to your holiday season! In this festive class\, you’ll design and create 2 cheerful fused glass Christmas tree tealight holders\, perfect for decorating your home or giving as a handmade gift. Choose your favorite colors\, textures\, and accents to make your tree truly one-of-a-kind. \nAges 10 and up (children under 12 with an adult). No experience needed\, just bring your holiday spirit and get ready for some creative fun! \nAfter your pieces have been fired at the Sweet Lomy studio\, you’ll be able to pick up your finished pieces at Happy Valley City Hall.
URL:https://clackamasartsalliance.org/event/fused-glass-christmas-tree-tea-light-holder/
LOCATION:Happy Valley Library\, 13793 SE Sieben Park Way\, Happy Valley\, OR\, 97015\, United States
CATEGORIES:Craft,Family Friendly,Workshops/Classes
ORGANIZER;CN="Happy Valley Parks and Recreation":MAILTO:INFO@HAPPYVALLEYOR.GOV
GEO:45.422616;-122.5129855
X-APPLE-STRUCTURED-LOCATION;VALUE=URI;X-ADDRESS=Happy Valley Library 13793 SE Sieben Park Way Happy Valley OR 97015 United States;X-APPLE-RADIUS=500;X-TITLE=13793 SE Sieben Park Way:geo:-122.5129855,45.422616
END:VEVENT
BEGIN:VEVENT
DTSTART;TZID=America/Los_Angeles:20251204T173000
DTEND;TZID=America/Los_Angeles:20251204T200000
DTSTAMP:20260424T155819
CREATED:20251129T054757Z
LAST-MODIFIED:20251129T054818Z
UID:10029700-1764869400-1764878400@clackamasartsalliance.org
SUMMARY:Fused Glass Snowflakes
DESCRIPTION:Fused Glass Snowflakes\na workshop by Sweet Lomy Art \nThursday\, December 4th\n5:30pm – 8:00pm\nHappy Valley Library\nCommunity Room B\n13793 SE Sieben Park Way\, Happy Valley OR 97015\nAges 12+\nCost: $55 per student \nCreate Magical Glass Snowflake Ornaments! \nGet into the festive spirit with a glass fusing workshop that’s perfect for the whole family! Craft your own beautiful glass snowflake ornaments while enjoying the sounds of your favorite Christmas carols. Whether you’re decorating your home or creating heartfelt gifts for loved ones\, these unique handmade ornaments will add a personal touch to the season. Master the basics of glass fusing while making something truly special. \nSpaces are limited\, so don’t miss out on this joy-filled holiday class! Bring your family\, friends\, or come solo and get ready to create holiday memories together. Sign up now and get ready to deck the halls with your own handmade glass snowflakes! \nAfter your pieces have been fired at the Sweet Lomy studio\, you’ll be able to pick up your finished pieces at Happy Valley City Hall. \nHappy Valley Parks and Recreation (HVPR) Cancellation/Refund Policy: \nIf the City of Happy Valley Parks & Recreation (HVPR) cancels a class\, activity\, or event\, a full refund is issued to each participant. \nIf a program partner cancels a class\, activity\, or event\, a full refund is issued to each participant. \nIf HVPR is notified three days before the first day of class\, activity\, or event\, a refund will be given less a $5 processing fee. If notified within three (3) days of a class\, activity\, or event\, no refund will be given. Exceptions to the refund policy may be made at staff’s discretion depending upon extenuating circumstances. \nAll Parks and Recreation classes\, camps\, and special events are subject to space availability. \nMost programs require a minimum number of participants to proceed. If the minimum enrollment requirement is not met\, the class or activity may be canceled. In this case\, a refund will be provided\, or credit will be given toward another program.
URL:https://clackamasartsalliance.org/event/fused-glass-snowflakes/
LOCATION:Happy Valley Library\, 13793 SE Sieben Park Way\, Happy Valley\, OR\, 97015\, United States
CATEGORIES:Craft,Workshops/Classes
ORGANIZER;CN="Happy Valley Parks and Recreation":MAILTO:INFO@HAPPYVALLEYOR.GOV
GEO:45.422616;-122.5129855
X-APPLE-STRUCTURED-LOCATION;VALUE=URI;X-ADDRESS=Happy Valley Library 13793 SE Sieben Park Way Happy Valley OR 97015 United States;X-APPLE-RADIUS=500;X-TITLE=13793 SE Sieben Park Way:geo:-122.5129855,45.422616
END:VEVENT
END:VCALENDAR