BEGIN:VCALENDAR
VERSION:2.0
PRODID:-//Clackamas County Arts Alliance - ECPv6.15.18//NONSGML v1.0//EN
CALSCALE:GREGORIAN
METHOD:PUBLISH
X-ORIGINAL-URL:https://clackamasartsalliance.org
X-WR-CALDESC:Events for Clackamas County Arts Alliance
REFRESH-INTERVAL;VALUE=DURATION:PT1H
X-Robots-Tag:noindex
X-PUBLISHED-TTL:PT1H
BEGIN:VTIMEZONE
TZID:America/Los_Angeles
BEGIN:DAYLIGHT
TZOFFSETFROM:-0800
TZOFFSETTO:-0700
TZNAME:PDT
DTSTART:20240310T100000
END:DAYLIGHT
BEGIN:STANDARD
TZOFFSETFROM:-0700
TZOFFSETTO:-0800
TZNAME:PST
DTSTART:20241103T090000
END:STANDARD
BEGIN:DAYLIGHT
TZOFFSETFROM:-0800
TZOFFSETTO:-0700
TZNAME:PDT
DTSTART:20250309T100000
END:DAYLIGHT
BEGIN:STANDARD
TZOFFSETFROM:-0700
TZOFFSETTO:-0800
TZNAME:PST
DTSTART:20251102T090000
END:STANDARD
BEGIN:DAYLIGHT
TZOFFSETFROM:-0800
TZOFFSETTO:-0700
TZNAME:PDT
DTSTART:20260308T100000
END:DAYLIGHT
BEGIN:STANDARD
TZOFFSETFROM:-0700
TZOFFSETTO:-0800
TZNAME:PST
DTSTART:20261101T090000
END:STANDARD
END:VTIMEZONE
BEGIN:VEVENT
DTSTART;TZID=America/Los_Angeles:20251203T120000
DTEND;TZID=America/Los_Angeles:20251203T170000
DTSTAMP:20260424T174336
CREATED:20251125T125826Z
LAST-MODIFIED:20251125T131928Z
UID:10028236-1764763200-1764781200@clackamasartsalliance.org
SUMMARY:2025 Holiday Marketplace
DESCRIPTION:A market of holiday cheer! Vendors will be posted throughout the lovely Colonial Revivial style house offering a wide variety of goods. Among the artists that will he hand are \, Atelier\, Carmen Rusca Art\, Collett Woodwork\, Crown Miniatures\, Donald Guenther Wood \, Turned Bowls Granny Fi’s Shortbread\, Ha Austin Ceramics and many perfect for gifting items. Santa Claus will be on hand from 3:00 PM – 5:00 PM for photos\, and guests are encouraged to bring nonperishable food donations for the Lake Oswego Food Pantry.
URL:https://clackamasartsalliance.org/event/2025-holiday-marketplace/
LOCATION:Oswego Heritage House & Museum\, 398 10th Street\, Lake Oswego\, OR\, 97034\, United States
CATEGORIES:Art
GEO:45.4206122;-122.6761147
X-APPLE-STRUCTURED-LOCATION;VALUE=URI;X-ADDRESS=Oswego Heritage House & Museum 398 10th Street Lake Oswego OR 97034 United States;X-APPLE-RADIUS=500;X-TITLE=398 10th Street:geo:-122.6761147,45.4206122
END:VEVENT
END:VCALENDAR