BEGIN:VCALENDAR
VERSION:2.0
PRODID:-//Clackamas County Arts Alliance - ECPv6.15.18//NONSGML v1.0//EN
CALSCALE:GREGORIAN
METHOD:PUBLISH
X-WR-CALNAME:Clackamas County Arts Alliance
X-ORIGINAL-URL:https://clackamasartsalliance.org
X-WR-CALDESC:Events for Clackamas County Arts Alliance
REFRESH-INTERVAL;VALUE=DURATION:PT1H
X-Robots-Tag:noindex
X-PUBLISHED-TTL:PT1H
BEGIN:VTIMEZONE
TZID:America/Los_Angeles
BEGIN:DAYLIGHT
TZOFFSETFROM:-0800
TZOFFSETTO:-0700
TZNAME:PDT
DTSTART:20240310T100000
END:DAYLIGHT
BEGIN:STANDARD
TZOFFSETFROM:-0700
TZOFFSETTO:-0800
TZNAME:PST
DTSTART:20241103T090000
END:STANDARD
BEGIN:DAYLIGHT
TZOFFSETFROM:-0800
TZOFFSETTO:-0700
TZNAME:PDT
DTSTART:20250309T100000
END:DAYLIGHT
BEGIN:STANDARD
TZOFFSETFROM:-0700
TZOFFSETTO:-0800
TZNAME:PST
DTSTART:20251102T090000
END:STANDARD
BEGIN:DAYLIGHT
TZOFFSETFROM:-0800
TZOFFSETTO:-0700
TZNAME:PDT
DTSTART:20260308T100000
END:DAYLIGHT
BEGIN:STANDARD
TZOFFSETFROM:-0700
TZOFFSETTO:-0800
TZNAME:PST
DTSTART:20261101T090000
END:STANDARD
END:VTIMEZONE
BEGIN:VEVENT
DTSTART;TZID=America/Los_Angeles:20251206T090000
DTEND;TZID=America/Los_Angeles:20251206T150000
DTSTAMP:20260424T155714
CREATED:20251125T130332Z
LAST-MODIFIED:20251125T130332Z
UID:10028239-1765011600-1765033200@clackamasartsalliance.org
SUMMARY:Holiday Bazaar at the Pioneer Community Center
DESCRIPTION:Get ready to kick off the season at one of Oregon City’s favorite festive traditions! Join us at the Pioneer Community Center on Saturday\, December 6 from 9:00 AM–3:00 PM for a joyful day of holiday shopping\, community connection\, and local creativity.\nExplore 40+ local vendors featuring handmade gifts\, artisan crafts\, seasonal treats\, food items\, and vintage treasures — perfect for holiday giving or a little something special for yourself.\nPioneer Community Center\n615 5th Street\, Oregon City\, OR 97045\nWe can’t wait to celebrate the season with you!
URL:https://clackamasartsalliance.org/event/holiday-bazaar-at-the-pioneer-community-center/
CATEGORIES:Art,Craft,Free,Fundraiser,Sale
ORGANIZER;CN="Pioneer Community Center":MAILTO:pioneercc@orcity.org
END:VEVENT
END:VCALENDAR