BEGIN:VCALENDAR
VERSION:2.0
PRODID:-//Clackamas County Arts Alliance - ECPv6.15.18//NONSGML v1.0//EN
CALSCALE:GREGORIAN
METHOD:PUBLISH
X-ORIGINAL-URL:https://clackamasartsalliance.org
X-WR-CALDESC:Events for Clackamas County Arts Alliance
REFRESH-INTERVAL;VALUE=DURATION:PT1H
X-Robots-Tag:noindex
X-PUBLISHED-TTL:PT1H
BEGIN:VTIMEZONE
TZID:America/Los_Angeles
BEGIN:DAYLIGHT
TZOFFSETFROM:-0800
TZOFFSETTO:-0700
TZNAME:PDT
DTSTART:20240310T100000
END:DAYLIGHT
BEGIN:STANDARD
TZOFFSETFROM:-0700
TZOFFSETTO:-0800
TZNAME:PST
DTSTART:20241103T090000
END:STANDARD
BEGIN:DAYLIGHT
TZOFFSETFROM:-0800
TZOFFSETTO:-0700
TZNAME:PDT
DTSTART:20250309T100000
END:DAYLIGHT
BEGIN:STANDARD
TZOFFSETFROM:-0700
TZOFFSETTO:-0800
TZNAME:PST
DTSTART:20251102T090000
END:STANDARD
BEGIN:DAYLIGHT
TZOFFSETFROM:-0800
TZOFFSETTO:-0700
TZNAME:PDT
DTSTART:20260308T100000
END:DAYLIGHT
BEGIN:STANDARD
TZOFFSETFROM:-0700
TZOFFSETTO:-0800
TZNAME:PST
DTSTART:20261101T090000
END:STANDARD
END:VTIMEZONE
BEGIN:VEVENT
DTSTART;TZID=America/Los_Angeles:20251125T163000
DTEND;TZID=America/Los_Angeles:20251125T190000
DTSTAMP:20260424T210417
CREATED:20251119T033153Z
LAST-MODIFIED:20251119T033153Z
UID:10028171-1764088200-1764097200@clackamasartsalliance.org
SUMMARY:Rain Spark Gallery Holiday Exhibition Opening Reception
DESCRIPTION:Rain Spark Gallery Art Decked In Opening Reception-4:30-7:00pm \nMusic by Maria Olaya
URL:https://clackamasartsalliance.org/event/rain-spark-gallery-holiday-exhibition-opening-reception-2/
LOCATION:Lakewood Center for the Arts\, 368 S. State Street\, Lake Oswego\, 97035\, United States
CATEGORIES:Art
ORGANIZER;CN="Rain Spark Gallery":MAILTO:janrimerman@gmail.com
GEO:45.4135353;-122.6646463
X-APPLE-STRUCTURED-LOCATION;VALUE=URI;X-ADDRESS=Lakewood Center for the Arts 368 S. State Street Lake Oswego 97035 United States;X-APPLE-RADIUS=500;X-TITLE=368 S. State Street:geo:-122.6646463,45.4135353
END:VEVENT
END:VCALENDAR