BEGIN:VCALENDAR
VERSION:2.0
PRODID:-//Clackamas County Arts Alliance - ECPv6.15.18//NONSGML v1.0//EN
CALSCALE:GREGORIAN
METHOD:PUBLISH
X-WR-CALNAME:Clackamas County Arts Alliance
X-ORIGINAL-URL:https://clackamasartsalliance.org
X-WR-CALDESC:Events for Clackamas County Arts Alliance
REFRESH-INTERVAL;VALUE=DURATION:PT1H
X-Robots-Tag:noindex
X-PUBLISHED-TTL:PT1H
BEGIN:VTIMEZONE
TZID:America/Los_Angeles
BEGIN:DAYLIGHT
TZOFFSETFROM:-0800
TZOFFSETTO:-0700
TZNAME:PDT
DTSTART:20240310T100000
END:DAYLIGHT
BEGIN:STANDARD
TZOFFSETFROM:-0700
TZOFFSETTO:-0800
TZNAME:PST
DTSTART:20241103T090000
END:STANDARD
BEGIN:DAYLIGHT
TZOFFSETFROM:-0800
TZOFFSETTO:-0700
TZNAME:PDT
DTSTART:20250309T100000
END:DAYLIGHT
BEGIN:STANDARD
TZOFFSETFROM:-0700
TZOFFSETTO:-0800
TZNAME:PST
DTSTART:20251102T090000
END:STANDARD
BEGIN:DAYLIGHT
TZOFFSETFROM:-0800
TZOFFSETTO:-0700
TZNAME:PDT
DTSTART:20260308T100000
END:DAYLIGHT
BEGIN:STANDARD
TZOFFSETFROM:-0700
TZOFFSETTO:-0800
TZNAME:PST
DTSTART:20261101T090000
END:STANDARD
END:VTIMEZONE
BEGIN:VEVENT
DTSTART;TZID=America/Los_Angeles:20251129T100000
DTEND;TZID=America/Los_Angeles:20251129T190000
DTSTAMP:20260424T173915
CREATED:20251119T040159Z
LAST-MODIFIED:20251119T040414Z
UID:10028187-1764410400-1764442800@clackamasartsalliance.org
SUMMARY:Rain Spark Gallery Holiday Exhibition
DESCRIPTION:Rain Spark Gallery is a seasonal gallery of artists that inhabit different locations in Lake Oswego each holiday season. This is the third year that rain Spark Gallery has partnered with the Lakewood Center for the Arts in the Dee Denton Gallery. The Rain Spark Gallery will be open to the public November 25 through December 23 during Lakewood Center 11:00am-7:00pm and before and after theatre performances. https://lakewood-center.org/
URL:https://clackamasartsalliance.org/event/rain-spark-gallery-holiday-exhibition/2025-11-29/
LOCATION:Lakewood Center for the Arts\, 368 S. State Street\, Lake Oswego\, 97035\, United States
CATEGORIES:Art
ORGANIZER;CN="Rain Spark Gallery":MAILTO:janrimerman@gmail.com
GEO:45.4135353;-122.6646463
X-APPLE-STRUCTURED-LOCATION;VALUE=URI;X-ADDRESS=Lakewood Center for the Arts 368 S. State Street Lake Oswego 97035 United States;X-APPLE-RADIUS=500;X-TITLE=368 S. State Street:geo:-122.6646463,45.4135353
END:VEVENT
BEGIN:VEVENT
DTSTART;TZID=America/Los_Angeles:20251128T100000
DTEND;TZID=America/Los_Angeles:20251128T190000
DTSTAMP:20260424T173915
CREATED:20251119T040159Z
LAST-MODIFIED:20251119T040414Z
UID:10028186-1764324000-1764356400@clackamasartsalliance.org
SUMMARY:Rain Spark Gallery Holiday Exhibition
DESCRIPTION:Rain Spark Gallery is a seasonal gallery of artists that inhabit different locations in Lake Oswego each holiday season. This is the third year that rain Spark Gallery has partnered with the Lakewood Center for the Arts in the Dee Denton Gallery. The Rain Spark Gallery will be open to the public November 25 through December 23 during Lakewood Center 11:00am-7:00pm and before and after theatre performances. https://lakewood-center.org/
URL:https://clackamasartsalliance.org/event/rain-spark-gallery-holiday-exhibition/2025-11-28/
LOCATION:Lakewood Center for the Arts\, 368 S. State Street\, Lake Oswego\, 97035\, United States
CATEGORIES:Art
ORGANIZER;CN="Rain Spark Gallery":MAILTO:janrimerman@gmail.com
GEO:45.4135353;-122.6646463
X-APPLE-STRUCTURED-LOCATION;VALUE=URI;X-ADDRESS=Lakewood Center for the Arts 368 S. State Street Lake Oswego 97035 United States;X-APPLE-RADIUS=500;X-TITLE=368 S. State Street:geo:-122.6646463,45.4135353
END:VEVENT
BEGIN:VEVENT
DTSTART;TZID=America/Los_Angeles:20251127T100000
DTEND;TZID=America/Los_Angeles:20251127T190000
DTSTAMP:20260424T173915
CREATED:20251119T040159Z
LAST-MODIFIED:20251119T040414Z
UID:10028185-1764237600-1764270000@clackamasartsalliance.org
SUMMARY:Rain Spark Gallery Holiday Exhibition
DESCRIPTION:Rain Spark Gallery is a seasonal gallery of artists that inhabit different locations in Lake Oswego each holiday season. This is the third year that rain Spark Gallery has partnered with the Lakewood Center for the Arts in the Dee Denton Gallery. The Rain Spark Gallery will be open to the public November 25 through December 23 during Lakewood Center 11:00am-7:00pm and before and after theatre performances. https://lakewood-center.org/
URL:https://clackamasartsalliance.org/event/rain-spark-gallery-holiday-exhibition/2025-11-27/
LOCATION:Lakewood Center for the Arts\, 368 S. State Street\, Lake Oswego\, 97035\, United States
CATEGORIES:Art
ORGANIZER;CN="Rain Spark Gallery":MAILTO:janrimerman@gmail.com
GEO:45.4135353;-122.6646463
X-APPLE-STRUCTURED-LOCATION;VALUE=URI;X-ADDRESS=Lakewood Center for the Arts 368 S. State Street Lake Oswego 97035 United States;X-APPLE-RADIUS=500;X-TITLE=368 S. State Street:geo:-122.6646463,45.4135353
END:VEVENT
BEGIN:VEVENT
DTSTART;TZID=America/Los_Angeles:20251126T100000
DTEND;TZID=America/Los_Angeles:20251126T190000
DTSTAMP:20260424T173915
CREATED:20251119T040159Z
LAST-MODIFIED:20251119T040414Z
UID:10028184-1764151200-1764183600@clackamasartsalliance.org
SUMMARY:Rain Spark Gallery Holiday Exhibition
DESCRIPTION:Rain Spark Gallery is a seasonal gallery of artists that inhabit different locations in Lake Oswego each holiday season. This is the third year that rain Spark Gallery has partnered with the Lakewood Center for the Arts in the Dee Denton Gallery. The Rain Spark Gallery will be open to the public November 25 through December 23 during Lakewood Center 11:00am-7:00pm and before and after theatre performances. https://lakewood-center.org/
URL:https://clackamasartsalliance.org/event/rain-spark-gallery-holiday-exhibition/2025-11-26/
LOCATION:Lakewood Center for the Arts\, 368 S. State Street\, Lake Oswego\, 97035\, United States
CATEGORIES:Art
ORGANIZER;CN="Rain Spark Gallery":MAILTO:janrimerman@gmail.com
GEO:45.4135353;-122.6646463
X-APPLE-STRUCTURED-LOCATION;VALUE=URI;X-ADDRESS=Lakewood Center for the Arts 368 S. State Street Lake Oswego 97035 United States;X-APPLE-RADIUS=500;X-TITLE=368 S. State Street:geo:-122.6646463,45.4135353
END:VEVENT
BEGIN:VEVENT
DTSTART;TZID=America/Los_Angeles:20251125T100000
DTEND;TZID=America/Los_Angeles:20251125T190000
DTSTAMP:20260424T173915
CREATED:20251119T040159Z
LAST-MODIFIED:20251119T040414Z
UID:10028172-1764064800-1764097200@clackamasartsalliance.org
SUMMARY:Rain Spark Gallery Holiday Exhibition
DESCRIPTION:Rain Spark Gallery is a seasonal gallery of artists that inhabit different locations in Lake Oswego each holiday season. This is the third year that rain Spark Gallery has partnered with the Lakewood Center for the Arts in the Dee Denton Gallery. The Rain Spark Gallery will be open to the public November 25 through December 23 during Lakewood Center 11:00am-7:00pm and before and after theatre performances. https://lakewood-center.org/
URL:https://clackamasartsalliance.org/event/rain-spark-gallery-holiday-exhibition/2025-11-25/
LOCATION:Lakewood Center for the Arts\, 368 S. State Street\, Lake Oswego\, 97035\, United States
CATEGORIES:Art
ORGANIZER;CN="Rain Spark Gallery":MAILTO:janrimerman@gmail.com
GEO:45.4135353;-122.6646463
X-APPLE-STRUCTURED-LOCATION;VALUE=URI;X-ADDRESS=Lakewood Center for the Arts 368 S. State Street Lake Oswego 97035 United States;X-APPLE-RADIUS=500;X-TITLE=368 S. State Street:geo:-122.6646463,45.4135353
END:VEVENT
END:VCALENDAR