BEGIN:VCALENDAR
VERSION:2.0
PRODID:-//Clackamas County Arts Alliance - ECPv6.15.18//NONSGML v1.0//EN
CALSCALE:GREGORIAN
METHOD:PUBLISH
X-WR-CALNAME:Clackamas County Arts Alliance
X-ORIGINAL-URL:https://clackamasartsalliance.org
X-WR-CALDESC:Events for Clackamas County Arts Alliance
REFRESH-INTERVAL;VALUE=DURATION:PT1H
X-Robots-Tag:noindex
X-PUBLISHED-TTL:PT1H
BEGIN:VTIMEZONE
TZID:America/Los_Angeles
BEGIN:DAYLIGHT
TZOFFSETFROM:-0800
TZOFFSETTO:-0700
TZNAME:PDT
DTSTART:20240310T100000
END:DAYLIGHT
BEGIN:STANDARD
TZOFFSETFROM:-0700
TZOFFSETTO:-0800
TZNAME:PST
DTSTART:20241103T090000
END:STANDARD
BEGIN:DAYLIGHT
TZOFFSETFROM:-0800
TZOFFSETTO:-0700
TZNAME:PDT
DTSTART:20250309T100000
END:DAYLIGHT
BEGIN:STANDARD
TZOFFSETFROM:-0700
TZOFFSETTO:-0800
TZNAME:PST
DTSTART:20251102T090000
END:STANDARD
BEGIN:DAYLIGHT
TZOFFSETFROM:-0800
TZOFFSETTO:-0700
TZNAME:PDT
DTSTART:20260308T100000
END:DAYLIGHT
BEGIN:STANDARD
TZOFFSETFROM:-0700
TZOFFSETTO:-0800
TZNAME:PST
DTSTART:20261101T090000
END:STANDARD
END:VTIMEZONE
BEGIN:VEVENT
DTSTART;TZID=America/Los_Angeles:20251030T100000
DTEND;TZID=America/Los_Angeles:20251030T180000
DTSTAMP:20260424T154249
CREATED:20250922T141605Z
LAST-MODIFIED:20250923T162239Z
UID:10026359-1761818400-1761847200@clackamasartsalliance.org
SUMMARY:West Linn Library "Fall Into Art" Show
DESCRIPTION:West Linn “Fall Into Art” Show\nArt Displayed at the West Linn Library \nThe show is on display from October 2 – 30.\nPlease check library hours to see the show during open hours.
URL:https://clackamasartsalliance.org/event/west-linn-fall-into-art-show/2025-10-30/
LOCATION:West Linn Library\, 1595 Burns Street\, West Linn\, OR\, 97068\, United States
CATEGORIES:Art
GEO:45.3674671;-122.6139653
X-APPLE-STRUCTURED-LOCATION;VALUE=URI;X-ADDRESS=West Linn Library 1595 Burns Street West Linn OR 97068 United States;X-APPLE-RADIUS=500;X-TITLE=1595 Burns Street:geo:-122.6139653,45.3674671
END:VEVENT
BEGIN:VEVENT
DTSTART;TZID=America/Los_Angeles:20251029T100000
DTEND;TZID=America/Los_Angeles:20251029T180000
DTSTAMP:20260424T154249
CREATED:20250922T141605Z
LAST-MODIFIED:20250923T162239Z
UID:10026358-1761732000-1761760800@clackamasartsalliance.org
SUMMARY:West Linn Library "Fall Into Art" Show
DESCRIPTION:West Linn “Fall Into Art” Show\nArt Displayed at the West Linn Library \nThe show is on display from October 2 – 30.\nPlease check library hours to see the show during open hours.
URL:https://clackamasartsalliance.org/event/west-linn-fall-into-art-show/2025-10-29/
LOCATION:West Linn Library\, 1595 Burns Street\, West Linn\, OR\, 97068\, United States
CATEGORIES:Art
GEO:45.3674671;-122.6139653
X-APPLE-STRUCTURED-LOCATION;VALUE=URI;X-ADDRESS=West Linn Library 1595 Burns Street West Linn OR 97068 United States;X-APPLE-RADIUS=500;X-TITLE=1595 Burns Street:geo:-122.6139653,45.3674671
END:VEVENT
BEGIN:VEVENT
DTSTART;TZID=America/Los_Angeles:20251028T100000
DTEND;TZID=America/Los_Angeles:20251028T180000
DTSTAMP:20260424T154249
CREATED:20250922T141605Z
LAST-MODIFIED:20250923T162239Z
UID:10026357-1761645600-1761674400@clackamasartsalliance.org
SUMMARY:West Linn Library "Fall Into Art" Show
DESCRIPTION:West Linn “Fall Into Art” Show\nArt Displayed at the West Linn Library \nThe show is on display from October 2 – 30.\nPlease check library hours to see the show during open hours.
URL:https://clackamasartsalliance.org/event/west-linn-fall-into-art-show/2025-10-28/
LOCATION:West Linn Library\, 1595 Burns Street\, West Linn\, OR\, 97068\, United States
CATEGORIES:Art
GEO:45.3674671;-122.6139653
X-APPLE-STRUCTURED-LOCATION;VALUE=URI;X-ADDRESS=West Linn Library 1595 Burns Street West Linn OR 97068 United States;X-APPLE-RADIUS=500;X-TITLE=1595 Burns Street:geo:-122.6139653,45.3674671
END:VEVENT
BEGIN:VEVENT
DTSTART;TZID=America/Los_Angeles:20251027T100000
DTEND;TZID=America/Los_Angeles:20251027T180000
DTSTAMP:20260424T154249
CREATED:20250922T141605Z
LAST-MODIFIED:20250923T162239Z
UID:10026356-1761559200-1761588000@clackamasartsalliance.org
SUMMARY:West Linn Library "Fall Into Art" Show
DESCRIPTION:West Linn “Fall Into Art” Show\nArt Displayed at the West Linn Library \nThe show is on display from October 2 – 30.\nPlease check library hours to see the show during open hours.
URL:https://clackamasartsalliance.org/event/west-linn-fall-into-art-show/2025-10-27/
LOCATION:West Linn Library\, 1595 Burns Street\, West Linn\, OR\, 97068\, United States
CATEGORIES:Art
GEO:45.3674671;-122.6139653
X-APPLE-STRUCTURED-LOCATION;VALUE=URI;X-ADDRESS=West Linn Library 1595 Burns Street West Linn OR 97068 United States;X-APPLE-RADIUS=500;X-TITLE=1595 Burns Street:geo:-122.6139653,45.3674671
END:VEVENT
BEGIN:VEVENT
DTSTART;TZID=America/Los_Angeles:20251026T100000
DTEND;TZID=America/Los_Angeles:20251026T180000
DTSTAMP:20260424T154249
CREATED:20250922T141605Z
LAST-MODIFIED:20250923T162239Z
UID:10026355-1761472800-1761501600@clackamasartsalliance.org
SUMMARY:West Linn Library "Fall Into Art" Show
DESCRIPTION:West Linn “Fall Into Art” Show\nArt Displayed at the West Linn Library \nThe show is on display from October 2 – 30.\nPlease check library hours to see the show during open hours.
URL:https://clackamasartsalliance.org/event/west-linn-fall-into-art-show/2025-10-26/
LOCATION:West Linn Library\, 1595 Burns Street\, West Linn\, OR\, 97068\, United States
CATEGORIES:Art
GEO:45.3674671;-122.6139653
X-APPLE-STRUCTURED-LOCATION;VALUE=URI;X-ADDRESS=West Linn Library 1595 Burns Street West Linn OR 97068 United States;X-APPLE-RADIUS=500;X-TITLE=1595 Burns Street:geo:-122.6139653,45.3674671
END:VEVENT
BEGIN:VEVENT
DTSTART;TZID=America/Los_Angeles:20251025T100000
DTEND;TZID=America/Los_Angeles:20251025T180000
DTSTAMP:20260424T154249
CREATED:20250922T141605Z
LAST-MODIFIED:20250923T162239Z
UID:10026354-1761386400-1761415200@clackamasartsalliance.org
SUMMARY:West Linn Library "Fall Into Art" Show
DESCRIPTION:West Linn “Fall Into Art” Show\nArt Displayed at the West Linn Library \nThe show is on display from October 2 – 30.\nPlease check library hours to see the show during open hours.
URL:https://clackamasartsalliance.org/event/west-linn-fall-into-art-show/2025-10-25/
LOCATION:West Linn Library\, 1595 Burns Street\, West Linn\, OR\, 97068\, United States
CATEGORIES:Art
GEO:45.3674671;-122.6139653
X-APPLE-STRUCTURED-LOCATION;VALUE=URI;X-ADDRESS=West Linn Library 1595 Burns Street West Linn OR 97068 United States;X-APPLE-RADIUS=500;X-TITLE=1595 Burns Street:geo:-122.6139653,45.3674671
END:VEVENT
BEGIN:VEVENT
DTSTART;TZID=America/Los_Angeles:20251024T100000
DTEND;TZID=America/Los_Angeles:20251024T180000
DTSTAMP:20260424T154249
CREATED:20250922T141605Z
LAST-MODIFIED:20250923T162239Z
UID:10026353-1761300000-1761328800@clackamasartsalliance.org
SUMMARY:West Linn Library "Fall Into Art" Show
DESCRIPTION:West Linn “Fall Into Art” Show\nArt Displayed at the West Linn Library \nThe show is on display from October 2 – 30.\nPlease check library hours to see the show during open hours.
URL:https://clackamasartsalliance.org/event/west-linn-fall-into-art-show/2025-10-24/
LOCATION:West Linn Library\, 1595 Burns Street\, West Linn\, OR\, 97068\, United States
CATEGORIES:Art
GEO:45.3674671;-122.6139653
X-APPLE-STRUCTURED-LOCATION;VALUE=URI;X-ADDRESS=West Linn Library 1595 Burns Street West Linn OR 97068 United States;X-APPLE-RADIUS=500;X-TITLE=1595 Burns Street:geo:-122.6139653,45.3674671
END:VEVENT
END:VCALENDAR