BEGIN:VCALENDAR
VERSION:2.0
PRODID:-//Clackamas County Arts Alliance - ECPv6.15.18//NONSGML v1.0//EN
CALSCALE:GREGORIAN
METHOD:PUBLISH
X-ORIGINAL-URL:https://clackamasartsalliance.org
X-WR-CALDESC:Events for Clackamas County Arts Alliance
REFRESH-INTERVAL;VALUE=DURATION:PT1H
X-Robots-Tag:noindex
X-PUBLISHED-TTL:PT1H
BEGIN:VTIMEZONE
TZID:America/Los_Angeles
BEGIN:DAYLIGHT
TZOFFSETFROM:-0800
TZOFFSETTO:-0700
TZNAME:PDT
DTSTART:20240310T100000
END:DAYLIGHT
BEGIN:STANDARD
TZOFFSETFROM:-0700
TZOFFSETTO:-0800
TZNAME:PST
DTSTART:20241103T090000
END:STANDARD
BEGIN:DAYLIGHT
TZOFFSETFROM:-0800
TZOFFSETTO:-0700
TZNAME:PDT
DTSTART:20250309T100000
END:DAYLIGHT
BEGIN:STANDARD
TZOFFSETFROM:-0700
TZOFFSETTO:-0800
TZNAME:PST
DTSTART:20251102T090000
END:STANDARD
BEGIN:DAYLIGHT
TZOFFSETFROM:-0800
TZOFFSETTO:-0700
TZNAME:PDT
DTSTART:20260308T100000
END:DAYLIGHT
BEGIN:STANDARD
TZOFFSETFROM:-0700
TZOFFSETTO:-0800
TZNAME:PST
DTSTART:20261101T090000
END:STANDARD
END:VTIMEZONE
BEGIN:VEVENT
DTSTART;TZID=America/Los_Angeles:20251115T160000
DTEND;TZID=America/Los_Angeles:20251115T170000
DTSTAMP:20260424T174239
CREATED:20251111T171047Z
LAST-MODIFIED:20251111T171047Z
UID:10027750-1763222400-1763226000@clackamasartsalliance.org
SUMMARY:The West Linn Radio hour
DESCRIPTION:Old time radio show featuring West Linn in 1956. Segments include: Roundup of the News; West Linn History on Parade; “As the Willamette Flows” Soap Opera; and KWL Community Calendar.
URL:https://clackamasartsalliance.org/event/the-west-linn-radio-hour-2/
LOCATION:Youth Music Project Meteor Lounge\, 2015 8th Ave.\, West Linn\, OR\, 97068\, United States
CATEGORIES:Family Friendly,Heritage,Performing
ORGANIZER;CN="West Linn Historical Society":MAILTO:info@westlinnhistory.org
GEO:45.345756;-122.6524408
X-APPLE-STRUCTURED-LOCATION;VALUE=URI;X-ADDRESS=Youth Music Project Meteor Lounge 2015 8th Ave. West Linn OR 97068 United States;X-APPLE-RADIUS=500;X-TITLE=2015 8th Ave.:geo:-122.6524408,45.345756
END:VEVENT
END:VCALENDAR