BEGIN:VCALENDAR
VERSION:2.0
PRODID:-//Clackamas County Arts Alliance - ECPv6.15.18//NONSGML v1.0//EN
CALSCALE:GREGORIAN
METHOD:PUBLISH
X-WR-CALNAME:Clackamas County Arts Alliance
X-ORIGINAL-URL:https://clackamasartsalliance.org
X-WR-CALDESC:Events for Clackamas County Arts Alliance
REFRESH-INTERVAL;VALUE=DURATION:PT1H
X-Robots-Tag:noindex
X-PUBLISHED-TTL:PT1H
BEGIN:VTIMEZONE
TZID:America/Los_Angeles
BEGIN:DAYLIGHT
TZOFFSETFROM:-0800
TZOFFSETTO:-0700
TZNAME:PDT
DTSTART:20240310T100000
END:DAYLIGHT
BEGIN:STANDARD
TZOFFSETFROM:-0700
TZOFFSETTO:-0800
TZNAME:PST
DTSTART:20241103T090000
END:STANDARD
BEGIN:DAYLIGHT
TZOFFSETFROM:-0800
TZOFFSETTO:-0700
TZNAME:PDT
DTSTART:20250309T100000
END:DAYLIGHT
BEGIN:STANDARD
TZOFFSETFROM:-0700
TZOFFSETTO:-0800
TZNAME:PST
DTSTART:20251102T090000
END:STANDARD
BEGIN:DAYLIGHT
TZOFFSETFROM:-0800
TZOFFSETTO:-0700
TZNAME:PDT
DTSTART:20260308T100000
END:DAYLIGHT
BEGIN:STANDARD
TZOFFSETFROM:-0700
TZOFFSETTO:-0800
TZNAME:PST
DTSTART:20261101T090000
END:STANDARD
BEGIN:DAYLIGHT
TZOFFSETFROM:-0800
TZOFFSETTO:-0700
TZNAME:PDT
DTSTART:20270314T100000
END:DAYLIGHT
BEGIN:STANDARD
TZOFFSETFROM:-0700
TZOFFSETTO:-0800
TZNAME:PST
DTSTART:20271107T090000
END:STANDARD
END:VTIMEZONE
BEGIN:VEVENT
DTSTART;TZID=America/Los_Angeles:20260410T100000
DTEND;TZID=America/Los_Angeles:20260410T150000
DTSTAMP:20260424T051757
CREATED:20260304T225526Z
LAST-MODIFIED:20260304T225526Z
UID:10032231-1775815200-1775833200@clackamasartsalliance.org
SUMMARY:Learn Pallet Knife Painting
DESCRIPTION:We are going to learn the art of palette knife painting -which is one of the best techniques to add texture and interest to your painting. I will have new source material to create from. This is a wonderful opportunity to observe other artists’ mediums\, styles and listen to my guidance as artists render their paintings. For those who may not know~ I provide art guidance/critique for many local artists through the North Clackamas Arts Guild.\n**This class fills up fast so secure your spot 🎨 \n(acrylic\, oil\, watercolor & mixed media) \nClass Description flyer attached below.\nMany students already have the supplies needed for painting or creating.\nBring what you have and we will attempt to utilize them. We share many supplies so please do not worry if you cannot find all the items. If you need a supply list please email me. \nRequired supplies: canvas no bigger than 16×20\, brushes\, palette knife\, some paints\, palette paper/palette\, pencil\, water or medium container\, paper\, and paper towels are necessary. I start right on time -and you will not want to miss the settling and release exercise. Please allow time for parking and setup 10 minutes.\nBring a lunch and drink\, microwave and fridge available. Eat protein for energy. \nClass Cost $100-this secures your spot.\nPlease provide mail a check to\nMy address is\nLouisa Moutos\n6032 Se Robhil drive\nMilwaukie Oregon 97222\n503.888.1184 \nFriday\, April 10\n10:00am-3:00 pm\nBrush and Palette building\n4962 SE Jennings Avenue\nMilwaukie\, Oregon 97222 \nYou need to access the building from the cross streets SE Hull Ave.and Se Abernethy lane .The building is down Se Abernethy lane. Park in gravel areas. Use the ramp\, I will watch for students as they arrive. \nPlease confirm your attendance as I set up a station for each student – \nThank you for your dedication to learning art as a group of emerging artists. -Louisa Moutos \nClass reviews from current students- \nDuring the last couple of years\, I have taken several classes from Louisa: Beginning Watercolor\, Mixed Media\, as well as several of her one day offerings. Each class has been unique\, well planned\, and an opportunity for growth and development. Louisa is an excellent teacher. Class-time always includes both learning and doing and having fun. While taking classes I have not only improved my skills but more importantly my creativity has blossomed\, and I feel more confident in both areas even if my pieces do not turn out as expected\, \nI am taking another class this term with Louisa and I am excited to work with her and learn from her\, continuing my skill development and enhancing my creativity. \nSusan B. \nLouisa is the ultimate Art Painting Instructor! I say this because she is an amazingly gifted artist. She is a scholastic instructor with the ability to motivate and convey the skills and nuances of painting to the individual needs of each student. I’m new to oil painting and so very grateful to have Louisa as my instructor. She inspires me and I look forward to continue taking art classes under her expert guidance. LO Parks & Rec is lucky to have her as an instructor! \n—Denise M. \nLouisa’s watercolor class is the most insightful I have taken. Her passion and enthusiasm is contagious! She has taught me to understand color theory and various watercolor application techniques. As a class\, we share our work with each other and Louisa provides positive and helpful suggestions. What stood out to me the most\, is the one-on-one check ins and advice throughout the class. She is always kind and encouraging\, asking if you would like help before offering it. She has inspired me to make watercolor painting a regular part of my life and keep learning! I would absolutely recommend to anyone who has been wanting to learn this craft to take her classes. I will be taking more of Louisa’s classes in the future! \nCathy \n“Louisa Moutos masterfully nurtures both new and practicing artists in their craft. Her easy manner and passion for painting inspires everyone to take the journey in discovering and expressing their own style. Using examples from classic art\, photography and everyday observations\, she conveys the fundamentals of recognizing color values\, shapes and composition\, allowing students to engage their artistic eye and confidently approach any subject. \nIn this relaxed and encouraging studio environment\, Louisa takes time with each student\, providing helpful demonstrations on color mixing and brush techniques which benefit all learners to get their painting to the next level. I highly recommend Louisa’s class to anyone interested in learning how to paint or artists looking to work in a new medium.” \n-Joy C \nI never took an oil painting class prior to enrolling in Louisa’s class but really wanted to learn how to paint with oils. I learned so much in this class and had a lot of fun doing it. Louisa is a very patient and knowledgeable teacher\, in addition to being a wonderful artist. \nShe incorporates theory\, technique and even some art history into the class making for a very interesting and satisfying curriculum. But the best part is the hands on painting instruction that she offers and her keen eye for helping aspiring artists get the most from our canvas! I could see my paintings improve and my confidence grow with each lesson. \nElizabeth M.
URL:https://clackamasartsalliance.org/event/learn-pallet-knife-painting/
LOCATION:Brush and Palette \, corner of Jennings and 99\, 4962 SE Jennings\, Milwaukie\, OR\, 97267\, United States
CATEGORIES:Workshops/Classes
ATTACH;FMTTYPE=image/jpeg:https://clackamasartsalliance.org/wp-content/uploads/2026/03/IMG_2427.jpeg
ORGANIZER;CN="Brush and Palette Art Assoc":MAILTO:jacmacpdx@gmail.com
END:VEVENT
BEGIN:VEVENT
DTSTART;TZID=America/Los_Angeles:20260116T100000
DTEND;TZID=America/Los_Angeles:20260116T150000
DTSTAMP:20260424T051757
CREATED:20260107T040434Z
LAST-MODIFIED:20260107T040434Z
UID:10029894-1768557600-1768575600@clackamasartsalliance.org
SUMMARY:Fundamentals of Painting
DESCRIPTION:Welcome to the ART Lab\nLouisa Moutos ~ Art Instructor\nAre you longing to be creative\, learn a new skill\, share creative ideas in a friendly environment? If so\, this is your opportunity to Learn the Fundamentals of Painting from an experienced local artist. Louisa teaches oil\, acrylics\, watercolor\, mixed media and ceramics in a variety of local settings.\nUnleash your Creative Spark (Acrylics\, Oils\, Watercolor)\nLearn the fundamentals of painting -color\, composition\, value\, brushwork and perspective to help you become a well-rounded artist. These fundamentals are universal across various mediums and styles. No experience necessary.\n• Meet local new and emerging artists\n• Share creative ideas and solutions\n• Advance and gain new skills\n• Experience JOY!\nWherever you are on your art or creative journey – or if this is your first workshop you’re in the right place.\nSupply list is provided after registration and payment is received. Easels are provided and remain at the facility.\nLocation:\nBrush and Palette building\n4962 SE Jennings Avenue\nMilwaukie\, Oregon 97222 (corner of Jennings and Highway 99)\nParking in back of building with ramp\, and on street\nWorkshop Dates and Time:\nJanuary 16\, 2026 10am-3pm Friday Costs: $100 (9 participants required to run workshop)\nEmail: Louisa Moutos at Imoutos@gmail.com with registration confirmation\nEmail Subject Line: Fundamentals of Painting\nSupply list will be provided after registration and confirmation is received.\nPayment: Cash or Check payable to Louisa Moutos (address provided with email confirmation)
URL:https://clackamasartsalliance.org/event/fundamentals-of-painting-2/
LOCATION:Brush and Palette \, corner of Jennings and 99\, 4962 SE Jennings\, Milwaukie\, OR\, 97267\, United States
CATEGORIES:Workshops/Classes
ATTACH;FMTTYPE=image/jpeg:https://clackamasartsalliance.org/wp-content/uploads/2026/01/IMG_0560.jpeg
END:VEVENT
BEGIN:VEVENT
DTSTART;TZID=America/Los_Angeles:20251205T100000
DTEND;TZID=America/Los_Angeles:20251205T150000
DTSTAMP:20260424T051757
CREATED:20251104T043039Z
LAST-MODIFIED:20251104T043700Z
UID:10027718-1764928800-1764946800@clackamasartsalliance.org
SUMMARY:Fundamentals of Painting
DESCRIPTION:Art Friends\, \nWe have a green light for our next art class. Friday\, December 5\, 25.\nLet’s apply the creative knowledge we have learned and end the year with a brush in our hand and paint on our canvas. \nI will have new source material for those who need a new subject to create from. Or you may bring a painting you would like assistance with. This is a wonderful opportunity to observe other artists’ mediums\, styles and listen to my guidance as artists render their paintings. For those who may not know~ I provide art guidance/critique for many local artists through the North Clackamas Arts Guild. \n(acrylic\, oil\, watercolor & mixed media) \nClass Description flyer attached below.\nMany students already have the supplies needed for painting or creating.\nBring what you have and we will attempt to utilize them. We share many supplies so please do not worry if you cannot find all the items. If you need a supply list please email me. \nRequired supplies: canvas no bigger than 16×20\, brushes\, palette knife\, some paints\, palette paper/palette\, pencil\, water or medium container\, paper\, and paper towels are necessary. I start right on time -and you will not want to miss the settling and release exercise. Please allow time for parking and setup 10 minutes.\nBring a lunch and drink\, microwave and fridge available. Eat protein for energy. \nClass Cost $100-this secures your spot.\nPlease provide mail a check to\nMy address is\nLouisa Moutos\n6032 Se Robhil drive\nMilwaukie Oregon 97222\n503.888.1184 \nFriday\, December 5\, 25\n10:00am-3:00 pm\nBrush and Palette building\n4962 SE Jennings Avenue\nMilwaukie\, Oregon 97222 \nYou need to access the building from the cross streets SE Hull Ave.and Se Abernethy lane .The building is down Se Abernethy lane. Park in gravel areas. Use the ramp\, I will watch for students as they arrive. \nPlease confirm your attendance as I set up a station for each student – \nThank you for your dedication to learning art as a group of emerging artists. -Louisa Moutos \nClass reviews from current students- \nLouisa is the ultimate Art Painting Instructor! I say this because she is an amazingly gifted artist. She is a scholastic instructor with the ability to motivate and convey the skills and nuances of painting to the individual needs of each student. I’m new to oil painting and so very grateful to have Louisa as my instructor. She inspires me and I look forward to continue taking art classes under her expert guidance. LO Parks & Rec is lucky to have her as an instructor! \n—Denise M. \nLouisa’s watercolor class is the most insightful I have taken. Her passion and enthusiasm is contagious! She has taught me to understand color theory and various watercolor application techniques. As a class\, we share our work with each other and Louisa provides positive and helpful suggestions. What stood out to me the most\, is the one-on-one check ins and advice throughout the class. She is always kind and encouraging\, asking if you would like help before offering it. She has inspired me to make watercolor painting a regular part of my life and keep learning! I would absolutely recommend to anyone who has been wanting to learn this craft to take her classes. I will be taking more of Louisa’s classes in the future! \nCathy \n“Louisa Moutos masterfully nurtures both new and practicing artists in their craft. Her easy manner and passion for painting inspires everyone to take the journey in discovering and expressing their own style. Using examples from classic art\, photography and everyday observations\, she conveys the fundamentals of recognizing color values\, shapes and composition\, allowing students to engage their artistic eye and confidently approach any subject. \nIn this relaxed and encouraging studio environment\, Louisa takes time with each student\, providing helpful demonstrations on color mixing and brush techniques which benefit all learners to get their painting to the next level. I highly recommend Louisa’s class to anyone interested in learning how to paint or artists looking to work in a new medium.” \n-Joy C \nI never took an oil painting class prior to enrolling in Louisa’s class but really wanted to learn how to paint with oils. I learned so much in this class and had a lot of fun doing it. Louisa is a very patient and knowledgeable teacher\, in addition to being a wonderful artist. \nShe incorporates theory\, technique and even some art history into the class making for a very interesting and satisfying curriculum. But the best part is the hands on painting instruction that she offers and her keen eye for helping aspiring artists get the most from our canvas! I could see my paintings improve and my confidence grow with each lesson. \nElizabeth M. \nI was coming out of a dark place in my life and decided I needed to try something new. I’ve always been moved by art so thought l’d give painting a whirl.I met Louisa Moutos at Fundamentals of Painting with Oil in Lake Oswego. Louisa was the breath of fresh air I needed\, not just as an instructor but as an inspiration on how to view and live life. Louisa is warm\, engaging\, a bright light\, optimistic and full of positivity and has lived her life abundantly. However\, nothing matches her unbridled passion for art and painting. \nShe teaches that you don’t have to have an innate talent or be uniquely gifted to be a painter.\nIt takes work\, thoughtfulness\, planning and preparation to be great. It’s not just slapping paint on a canvas. There is light\, shape\, value\, color\, mood and more. Color mixing is one of the favorite things l’ve learned and Louisa will joke that if you are lost in the woods with just a stick and the three primary colors\, you could make all the colors and the most beautiful painting.\nLouisa’s encouragement has kept me coming back again and again to her 10 week classes and her monthly workshops. Her enthusiasm is contagious and she will embellish your skills and patiently work with you on your weakness without you knowing you have any weaknesses Both the classes and workshops are a wonderful way to meet other artists at every stage of their artistic journey and share ideas and works. Many of Louisa’s students have started showing their paintings. I am proud to say Louisa Moutos is my instructor\, has become a cherished friend and I love her dearly! And if Louisa exclaims she has goosebumps after viewing your work\, you have arrived!\nTJ
URL:https://clackamasartsalliance.org/event/fundamentals-of-painting/
LOCATION:Brush and Palette \, corner of Jennings and 99\, 4962 SE Jennings\, Milwaukie\, OR\, 97267\, United States
CATEGORIES:Workshops/Classes
END:VEVENT
END:VCALENDAR