BEGIN:VCALENDAR
VERSION:2.0
PRODID:-//Clackamas County Arts Alliance - ECPv6.15.18//NONSGML v1.0//EN
CALSCALE:GREGORIAN
METHOD:PUBLISH
X-WR-CALNAME:Clackamas County Arts Alliance
X-ORIGINAL-URL:https://clackamasartsalliance.org
X-WR-CALDESC:Events for Clackamas County Arts Alliance
REFRESH-INTERVAL;VALUE=DURATION:PT1H
X-Robots-Tag:noindex
X-PUBLISHED-TTL:PT1H
BEGIN:VTIMEZONE
TZID:America/Los_Angeles
BEGIN:DAYLIGHT
TZOFFSETFROM:-0800
TZOFFSETTO:-0700
TZNAME:PDT
DTSTART:20240310T100000
END:DAYLIGHT
BEGIN:STANDARD
TZOFFSETFROM:-0700
TZOFFSETTO:-0800
TZNAME:PST
DTSTART:20241103T090000
END:STANDARD
BEGIN:DAYLIGHT
TZOFFSETFROM:-0800
TZOFFSETTO:-0700
TZNAME:PDT
DTSTART:20250309T100000
END:DAYLIGHT
BEGIN:STANDARD
TZOFFSETFROM:-0700
TZOFFSETTO:-0800
TZNAME:PST
DTSTART:20251102T090000
END:STANDARD
BEGIN:DAYLIGHT
TZOFFSETFROM:-0800
TZOFFSETTO:-0700
TZNAME:PDT
DTSTART:20260308T100000
END:DAYLIGHT
BEGIN:STANDARD
TZOFFSETFROM:-0700
TZOFFSETTO:-0800
TZNAME:PST
DTSTART:20261101T090000
END:STANDARD
END:VTIMEZONE
BEGIN:VEVENT
DTSTART;TZID=America/Los_Angeles:20251120T193000
DTEND;TZID=America/Los_Angeles:20251120T213000
DTSTAMP:20260424T162519
CREATED:20251104T203627Z
LAST-MODIFIED:20251104T203627Z
UID:10027730-1763667000-1763674200@clackamasartsalliance.org
SUMMARY:She Kills Monsters by Qui Nguyen
DESCRIPTION:Clackamas Community College Theatre presents their Fall 2025 Main Stage Production of She Kills Monsters by Qui Nguyen. \nWhen Agnes loses her younger\, teenage sister Tilly in an accident\, she joins Tilly’s Dungeons & Dragons campaign to try and connect with her lost sibling. But instead of simply playing a game\, she finds herself catapulted into an action-packed D&D world. In this high-octane dramatic comedy laden with homicidal fairies\, nasty ogres\, and 90s pop culture\, acclaimed playwright Qui Nguyen offers a heart-pounding homage to the geek and warrior within us all. It is presented by special arrangement with Concord Theatricals. \nNov. 13-23\, 2025 \nThur-Fri 7:30pm \nSat-Sun 2:30pm \nFriday\, Nov. 14 at 10am \nTicket Prices: \nAdults – $15 (online)\, $16 (at the box office)\nSeniors – $13 (online)\, $14 (at the box office)\nStudents – FREE
URL:https://clackamasartsalliance.org/event/she-kills-monsters-by-qui-nguyen/2025-11-20/
LOCATION:Clackamas Community College\, 19600 Molalla Avenue\, Oregon City\, OR\, 97045\, United States
CATEGORIES:Performing,Theater
GEO:45.3229707;-122.5743069
X-APPLE-STRUCTURED-LOCATION;VALUE=URI;X-ADDRESS=Clackamas Community College 19600 Molalla Avenue Oregon City OR 97045 United States;X-APPLE-RADIUS=500;X-TITLE=19600 Molalla Avenue:geo:-122.5743069,45.3229707
END:VEVENT
BEGIN:VEVENT
DTSTART;TZID=America/Los_Angeles:20251116T143000
DTEND;TZID=America/Los_Angeles:20251116T163000
DTSTAMP:20260424T162519
CREATED:20251104T203627Z
LAST-MODIFIED:20251104T203627Z
UID:10027729-1763303400-1763310600@clackamasartsalliance.org
SUMMARY:She Kills Monsters by Qui Nguyen
DESCRIPTION:Clackamas Community College Theatre presents their Fall 2025 Main Stage Production of She Kills Monsters by Qui Nguyen. \nWhen Agnes loses her younger\, teenage sister Tilly in an accident\, she joins Tilly’s Dungeons & Dragons campaign to try and connect with her lost sibling. But instead of simply playing a game\, she finds herself catapulted into an action-packed D&D world. In this high-octane dramatic comedy laden with homicidal fairies\, nasty ogres\, and 90s pop culture\, acclaimed playwright Qui Nguyen offers a heart-pounding homage to the geek and warrior within us all. It is presented by special arrangement with Concord Theatricals. \nNov. 13-23\, 2025 \nThur-Fri 7:30pm \nSat-Sun 2:30pm \nFriday\, Nov. 14 at 10am \nTicket Prices: \nAdults – $15 (online)\, $16 (at the box office)\nSeniors – $13 (online)\, $14 (at the box office)\nStudents – FREE
URL:https://clackamasartsalliance.org/event/she-kills-monsters-by-qui-nguyen/2025-11-16/
LOCATION:Clackamas Community College\, 19600 Molalla Avenue\, Oregon City\, OR\, 97045\, United States
CATEGORIES:Performing,Theater
GEO:45.3229707;-122.5743069
X-APPLE-STRUCTURED-LOCATION;VALUE=URI;X-ADDRESS=Clackamas Community College 19600 Molalla Avenue Oregon City OR 97045 United States;X-APPLE-RADIUS=500;X-TITLE=19600 Molalla Avenue:geo:-122.5743069,45.3229707
END:VEVENT
BEGIN:VEVENT
DTSTART;TZID=America/Los_Angeles:20251115T143000
DTEND;TZID=America/Los_Angeles:20251115T163000
DTSTAMP:20260424T162519
CREATED:20251104T203627Z
LAST-MODIFIED:20251104T203627Z
UID:10027728-1763217000-1763224200@clackamasartsalliance.org
SUMMARY:She Kills Monsters by Qui Nguyen
DESCRIPTION:Clackamas Community College Theatre presents their Fall 2025 Main Stage Production of She Kills Monsters by Qui Nguyen. \nWhen Agnes loses her younger\, teenage sister Tilly in an accident\, she joins Tilly’s Dungeons & Dragons campaign to try and connect with her lost sibling. But instead of simply playing a game\, she finds herself catapulted into an action-packed D&D world. In this high-octane dramatic comedy laden with homicidal fairies\, nasty ogres\, and 90s pop culture\, acclaimed playwright Qui Nguyen offers a heart-pounding homage to the geek and warrior within us all. It is presented by special arrangement with Concord Theatricals. \nNov. 13-23\, 2025 \nThur-Fri 7:30pm \nSat-Sun 2:30pm \nFriday\, Nov. 14 at 10am \nTicket Prices: \nAdults – $15 (online)\, $16 (at the box office)\nSeniors – $13 (online)\, $14 (at the box office)\nStudents – FREE
URL:https://clackamasartsalliance.org/event/she-kills-monsters-by-qui-nguyen/2025-11-15/
LOCATION:Clackamas Community College\, 19600 Molalla Avenue\, Oregon City\, OR\, 97045\, United States
CATEGORIES:Performing,Theater
GEO:45.3229707;-122.5743069
X-APPLE-STRUCTURED-LOCATION;VALUE=URI;X-ADDRESS=Clackamas Community College 19600 Molalla Avenue Oregon City OR 97045 United States;X-APPLE-RADIUS=500;X-TITLE=19600 Molalla Avenue:geo:-122.5743069,45.3229707
END:VEVENT
BEGIN:VEVENT
DTSTART;TZID=America/Los_Angeles:20251114T193000
DTEND;TZID=America/Los_Angeles:20251114T213000
DTSTAMP:20260424T162519
CREATED:20251104T203627Z
LAST-MODIFIED:20251104T203627Z
UID:10027727-1763148600-1763155800@clackamasartsalliance.org
SUMMARY:She Kills Monsters by Qui Nguyen
DESCRIPTION:Clackamas Community College Theatre presents their Fall 2025 Main Stage Production of She Kills Monsters by Qui Nguyen. \nWhen Agnes loses her younger\, teenage sister Tilly in an accident\, she joins Tilly’s Dungeons & Dragons campaign to try and connect with her lost sibling. But instead of simply playing a game\, she finds herself catapulted into an action-packed D&D world. In this high-octane dramatic comedy laden with homicidal fairies\, nasty ogres\, and 90s pop culture\, acclaimed playwright Qui Nguyen offers a heart-pounding homage to the geek and warrior within us all. It is presented by special arrangement with Concord Theatricals. \nNov. 13-23\, 2025 \nThur-Fri 7:30pm \nSat-Sun 2:30pm \nFriday\, Nov. 14 at 10am \nTicket Prices: \nAdults – $15 (online)\, $16 (at the box office)\nSeniors – $13 (online)\, $14 (at the box office)\nStudents – FREE
URL:https://clackamasartsalliance.org/event/she-kills-monsters-by-qui-nguyen/2025-11-14/2/
LOCATION:Clackamas Community College\, 19600 Molalla Avenue\, Oregon City\, OR\, 97045\, United States
CATEGORIES:Performing,Theater
GEO:45.3229707;-122.5743069
X-APPLE-STRUCTURED-LOCATION;VALUE=URI;X-ADDRESS=Clackamas Community College 19600 Molalla Avenue Oregon City OR 97045 United States;X-APPLE-RADIUS=500;X-TITLE=19600 Molalla Avenue:geo:-122.5743069,45.3229707
END:VEVENT
BEGIN:VEVENT
DTSTART;TZID=America/Los_Angeles:20251114T100000
DTEND;TZID=America/Los_Angeles:20251114T120000
DTSTAMP:20260424T162519
CREATED:20251104T203627Z
LAST-MODIFIED:20251104T203627Z
UID:10027726-1763114400-1763121600@clackamasartsalliance.org
SUMMARY:She Kills Monsters by Qui Nguyen
DESCRIPTION:Clackamas Community College Theatre presents their Fall 2025 Main Stage Production of She Kills Monsters by Qui Nguyen. \nWhen Agnes loses her younger\, teenage sister Tilly in an accident\, she joins Tilly’s Dungeons & Dragons campaign to try and connect with her lost sibling. But instead of simply playing a game\, she finds herself catapulted into an action-packed D&D world. In this high-octane dramatic comedy laden with homicidal fairies\, nasty ogres\, and 90s pop culture\, acclaimed playwright Qui Nguyen offers a heart-pounding homage to the geek and warrior within us all. It is presented by special arrangement with Concord Theatricals. \nNov. 13-23\, 2025 \nThur-Fri 7:30pm \nSat-Sun 2:30pm \nFriday\, Nov. 14 at 10am \nTicket Prices: \nAdults – $15 (online)\, $16 (at the box office)\nSeniors – $13 (online)\, $14 (at the box office)\nStudents – FREE
URL:https://clackamasartsalliance.org/event/she-kills-monsters-by-qui-nguyen/2025-11-14/1/
LOCATION:Clackamas Community College\, 19600 Molalla Avenue\, Oregon City\, OR\, 97045\, United States
CATEGORIES:Performing,Theater
GEO:45.3229707;-122.5743069
X-APPLE-STRUCTURED-LOCATION;VALUE=URI;X-ADDRESS=Clackamas Community College 19600 Molalla Avenue Oregon City OR 97045 United States;X-APPLE-RADIUS=500;X-TITLE=19600 Molalla Avenue:geo:-122.5743069,45.3229707
END:VEVENT
BEGIN:VEVENT
DTSTART;TZID=America/Los_Angeles:20251113T193000
DTEND;TZID=America/Los_Angeles:20251113T213000
DTSTAMP:20260424T162519
CREATED:20251104T203627Z
LAST-MODIFIED:20251104T203627Z
UID:10027720-1763062200-1763069400@clackamasartsalliance.org
SUMMARY:She Kills Monsters by Qui Nguyen
DESCRIPTION:Clackamas Community College Theatre presents their Fall 2025 Main Stage Production of She Kills Monsters by Qui Nguyen. \nWhen Agnes loses her younger\, teenage sister Tilly in an accident\, she joins Tilly’s Dungeons & Dragons campaign to try and connect with her lost sibling. But instead of simply playing a game\, she finds herself catapulted into an action-packed D&D world. In this high-octane dramatic comedy laden with homicidal fairies\, nasty ogres\, and 90s pop culture\, acclaimed playwright Qui Nguyen offers a heart-pounding homage to the geek and warrior within us all. It is presented by special arrangement with Concord Theatricals. \nNov. 13-23\, 2025 \nThur-Fri 7:30pm \nSat-Sun 2:30pm \nFriday\, Nov. 14 at 10am \nTicket Prices: \nAdults – $15 (online)\, $16 (at the box office)\nSeniors – $13 (online)\, $14 (at the box office)\nStudents – FREE
URL:https://clackamasartsalliance.org/event/she-kills-monsters-by-qui-nguyen/2025-11-13/
LOCATION:Clackamas Community College\, 19600 Molalla Avenue\, Oregon City\, OR\, 97045\, United States
CATEGORIES:Performing,Theater
GEO:45.3229707;-122.5743069
X-APPLE-STRUCTURED-LOCATION;VALUE=URI;X-ADDRESS=Clackamas Community College 19600 Molalla Avenue Oregon City OR 97045 United States;X-APPLE-RADIUS=500;X-TITLE=19600 Molalla Avenue:geo:-122.5743069,45.3229707
END:VEVENT
END:VCALENDAR