BEGIN:VCALENDAR
VERSION:2.0
PRODID:-//Clackamas County Arts Alliance - ECPv6.15.18//NONSGML v1.0//EN
CALSCALE:GREGORIAN
METHOD:PUBLISH
X-ORIGINAL-URL:https://clackamasartsalliance.org
X-WR-CALDESC:Events for Clackamas County Arts Alliance
REFRESH-INTERVAL;VALUE=DURATION:PT1H
X-Robots-Tag:noindex
X-PUBLISHED-TTL:PT1H
BEGIN:VTIMEZONE
TZID:America/Los_Angeles
BEGIN:DAYLIGHT
TZOFFSETFROM:-0800
TZOFFSETTO:-0700
TZNAME:PDT
DTSTART:20250309T100000
END:DAYLIGHT
BEGIN:STANDARD
TZOFFSETFROM:-0700
TZOFFSETTO:-0800
TZNAME:PST
DTSTART:20251102T090000
END:STANDARD
BEGIN:DAYLIGHT
TZOFFSETFROM:-0800
TZOFFSETTO:-0700
TZNAME:PDT
DTSTART:20260308T100000
END:DAYLIGHT
BEGIN:STANDARD
TZOFFSETFROM:-0700
TZOFFSETTO:-0800
TZNAME:PST
DTSTART:20261101T090000
END:STANDARD
BEGIN:DAYLIGHT
TZOFFSETFROM:-0800
TZOFFSETTO:-0700
TZNAME:PDT
DTSTART:20270314T100000
END:DAYLIGHT
BEGIN:STANDARD
TZOFFSETFROM:-0700
TZOFFSETTO:-0800
TZNAME:PST
DTSTART:20271107T090000
END:STANDARD
BEGIN:DAYLIGHT
TZOFFSETFROM:-0800
TZOFFSETTO:-0700
TZNAME:PDT
DTSTART:20280312T100000
END:DAYLIGHT
BEGIN:STANDARD
TZOFFSETFROM:-0700
TZOFFSETTO:-0800
TZNAME:PST
DTSTART:20281105T090000
END:STANDARD
END:VTIMEZONE
BEGIN:VEVENT
DTSTART;TZID=America/Los_Angeles:20261113T100000
DTEND;TZID=America/Los_Angeles:20261113T120000
DTSTAMP:20260424T123923
CREATED:20260121T015534Z
LAST-MODIFIED:20260121T015534Z
UID:10030776-1794564000-1794571200@clackamasartsalliance.org
SUMMARY:Knit Happens – A Monthly Knitting Circle
DESCRIPTION:All knitters welcome—from first stitches to seasoned pros! Bring your yarn\, your needles\, and your creativity to our cozy tea house. This monthly gathering is all about slowing down\, sipping tea\, sharing projects\, and getting to know your fellow knitters. \nCome for the stitches\, stay for the stories—together we’ll weave community\, one row at a time.
URL:https://clackamasartsalliance.org/event/knit-happens-a-monthly-knitting-circle/2026-11-13/
LOCATION:Cup of Tea\, 10117 SE Sunnyside Rd\, Clackamas\, OR\, 97015\, United States
CATEGORIES:Networking,Textiles
ATTACH;FMTTYPE=image/jpeg:https://clackamasartsalliance.org/wp-content/uploads/2026/01/knitting_group_976kb.jpg
END:VEVENT
BEGIN:VEVENT
DTSTART;TZID=America/Los_Angeles:20261119T183000
DTEND;TZID=America/Los_Angeles:20261119T203000
DTSTAMP:20260424T123923
CREATED:20251210T062959Z
LAST-MODIFIED:20251210T062959Z
UID:10029751-1795113000-1795120200@clackamasartsalliance.org
SUMMARY:Intro To The Myth of Tea
DESCRIPTION:Introduction to the 5 major tea types and ceremonial tea.\nJoin us for an introduction to the five major types of tea; green\, white\, oolong\, black\, and dark tea. Together we will explore the origins of Camellia sinensis\, trace its history and cultural roots\, and experience the art of gongfu ceremonial tea service. This class is an invitation to step into the magic\, wonder\, and devotion that tea inspires\, while learning how its many expressions continue to connect us to the natural world and our human nature. \nThis gathering is offered with a suggested contribution of $35. In the spirit of inclusivity and balance\, you are welcome to offer what feels right for you\, whether that is $35\, $25\, or more if you have the means. Contributions above the suggested amount help make this experience accessible to those with financial need and sustain the ongoing care and energy poured into holding spaces like this. Every offering\, whether financial or energetic\, affirms the value of community supported education. \nWe also acknowledge the systemic barriers that have long limited access for BIPOC communities. To honor this\, a $15 option is available for BIPOC participants who would benefit from it. This is one way we commit to equity\, ensuring that diversity is not only welcomed but integral to the richness of the experience. \nIf the listed prices are still a barrier\, please reach out directly. I am more than willing to work with you to ensure that tea remains within reach for all who feel called to share in it. \nAll are welcome here. You are invited to arrive exactly as you are and take part in a space rooted in openness\, care\, and community\, a living space where each presence is honored and where we grow together through the deep\, transformative beauty of tea. \nTo help us hold a mindful and welcoming space\, we ask participants to be considerate of sensory sensitivities by avoiding strong fragrances. This is a space of gentle awareness\, where we honor our own needs as well as those of others. By showing up with openness\, care\, and respect for each other’s boundaries\, we create a collective meditative atmosphere where\, tea\, and community belonging can flourish. \nIn the spirit of reciprocity and uplifting community together\, five dollars from each participant will be donated to Q Center\, a nonprofit that supports LGBTQ2SIA+ communities through advocacy\, resources\, and safe spaces\, embodying tea’s spirit of connection\, reflection\, healing\, and belonging. \nThis class is led by D’Guar (they/them)\, a trans person of color\, tea guide\, and community builder based in Portland\, Oregon. D’Guar has devoted their path to exploring the spirit of Camellia sinensis through mindful practice\, storytelling\, and connection. Through their project Water Fairy Tea\, they create spaces where tea becomes a bridge between nature\, presence\, and belonging. Their offerings weave education with devotion\, inviting participants to meet tea not only as a beverage\, but as a living companion in self discovery and community care with nature and the world around. \nWe acknowledge that this work takes place on the traditional lands of the Multnomah\, Clackamas\, Chinook\, Kathlamet\, Tualatin\, Kalapuya\, Molalla\, and many other Indigenous ancestors and communities. We honor their enduring presence\, care\, and wisdom\, and offer gratitude to the land and to the people who have tended it since time immemorial.
URL:https://clackamasartsalliance.org/event/intro-to-the-myth-of-tea/2026-11-19/
LOCATION:Cup of Tea\, 10117 SE Sunnyside Rd\, Clackamas\, OR\, 97015\, United States
CATEGORIES:Workshops/Classes
ORGANIZER;CN="Cup of Tea":MAILTO:hello@cupoftea-oregon.com
END:VEVENT
BEGIN:VEVENT
DTSTART;TZID=America/Los_Angeles:20261211T100000
DTEND;TZID=America/Los_Angeles:20261211T120000
DTSTAMP:20260424T123923
CREATED:20260121T015534Z
LAST-MODIFIED:20260121T015534Z
UID:10030777-1796983200-1796990400@clackamasartsalliance.org
SUMMARY:Knit Happens – A Monthly Knitting Circle
DESCRIPTION:All knitters welcome—from first stitches to seasoned pros! Bring your yarn\, your needles\, and your creativity to our cozy tea house. This monthly gathering is all about slowing down\, sipping tea\, sharing projects\, and getting to know your fellow knitters. \nCome for the stitches\, stay for the stories—together we’ll weave community\, one row at a time.
URL:https://clackamasartsalliance.org/event/knit-happens-a-monthly-knitting-circle/2026-12-11/
LOCATION:Cup of Tea\, 10117 SE Sunnyside Rd\, Clackamas\, OR\, 97015\, United States
CATEGORIES:Networking,Textiles
ATTACH;FMTTYPE=image/jpeg:https://clackamasartsalliance.org/wp-content/uploads/2026/01/knitting_group_976kb.jpg
END:VEVENT
BEGIN:VEVENT
DTSTART;TZID=America/Los_Angeles:20261217T183000
DTEND;TZID=America/Los_Angeles:20261217T203000
DTSTAMP:20260424T123923
CREATED:20251210T062959Z
LAST-MODIFIED:20251210T062959Z
UID:10029752-1797532200-1797539400@clackamasartsalliance.org
SUMMARY:Intro To The Myth of Tea
DESCRIPTION:Introduction to the 5 major tea types and ceremonial tea.\nJoin us for an introduction to the five major types of tea; green\, white\, oolong\, black\, and dark tea. Together we will explore the origins of Camellia sinensis\, trace its history and cultural roots\, and experience the art of gongfu ceremonial tea service. This class is an invitation to step into the magic\, wonder\, and devotion that tea inspires\, while learning how its many expressions continue to connect us to the natural world and our human nature. \nThis gathering is offered with a suggested contribution of $35. In the spirit of inclusivity and balance\, you are welcome to offer what feels right for you\, whether that is $35\, $25\, or more if you have the means. Contributions above the suggested amount help make this experience accessible to those with financial need and sustain the ongoing care and energy poured into holding spaces like this. Every offering\, whether financial or energetic\, affirms the value of community supported education. \nWe also acknowledge the systemic barriers that have long limited access for BIPOC communities. To honor this\, a $15 option is available for BIPOC participants who would benefit from it. This is one way we commit to equity\, ensuring that diversity is not only welcomed but integral to the richness of the experience. \nIf the listed prices are still a barrier\, please reach out directly. I am more than willing to work with you to ensure that tea remains within reach for all who feel called to share in it. \nAll are welcome here. You are invited to arrive exactly as you are and take part in a space rooted in openness\, care\, and community\, a living space where each presence is honored and where we grow together through the deep\, transformative beauty of tea. \nTo help us hold a mindful and welcoming space\, we ask participants to be considerate of sensory sensitivities by avoiding strong fragrances. This is a space of gentle awareness\, where we honor our own needs as well as those of others. By showing up with openness\, care\, and respect for each other’s boundaries\, we create a collective meditative atmosphere where\, tea\, and community belonging can flourish. \nIn the spirit of reciprocity and uplifting community together\, five dollars from each participant will be donated to Q Center\, a nonprofit that supports LGBTQ2SIA+ communities through advocacy\, resources\, and safe spaces\, embodying tea’s spirit of connection\, reflection\, healing\, and belonging. \nThis class is led by D’Guar (they/them)\, a trans person of color\, tea guide\, and community builder based in Portland\, Oregon. D’Guar has devoted their path to exploring the spirit of Camellia sinensis through mindful practice\, storytelling\, and connection. Through their project Water Fairy Tea\, they create spaces where tea becomes a bridge between nature\, presence\, and belonging. Their offerings weave education with devotion\, inviting participants to meet tea not only as a beverage\, but as a living companion in self discovery and community care with nature and the world around. \nWe acknowledge that this work takes place on the traditional lands of the Multnomah\, Clackamas\, Chinook\, Kathlamet\, Tualatin\, Kalapuya\, Molalla\, and many other Indigenous ancestors and communities. We honor their enduring presence\, care\, and wisdom\, and offer gratitude to the land and to the people who have tended it since time immemorial.
URL:https://clackamasartsalliance.org/event/intro-to-the-myth-of-tea/2026-12-17/
LOCATION:Cup of Tea\, 10117 SE Sunnyside Rd\, Clackamas\, OR\, 97015\, United States
CATEGORIES:Workshops/Classes
ORGANIZER;CN="Cup of Tea":MAILTO:hello@cupoftea-oregon.com
END:VEVENT
BEGIN:VEVENT
DTSTART;TZID=America/Los_Angeles:20270108T100000
DTEND;TZID=America/Los_Angeles:20270108T120000
DTSTAMP:20260424T123923
CREATED:20260121T015534Z
LAST-MODIFIED:20260121T015534Z
UID:10030778-1799402400-1799409600@clackamasartsalliance.org
SUMMARY:Knit Happens – A Monthly Knitting Circle
DESCRIPTION:All knitters welcome—from first stitches to seasoned pros! Bring your yarn\, your needles\, and your creativity to our cozy tea house. This monthly gathering is all about slowing down\, sipping tea\, sharing projects\, and getting to know your fellow knitters. \nCome for the stitches\, stay for the stories—together we’ll weave community\, one row at a time.
URL:https://clackamasartsalliance.org/event/knit-happens-a-monthly-knitting-circle/2027-01-08/
LOCATION:Cup of Tea\, 10117 SE Sunnyside Rd\, Clackamas\, OR\, 97015\, United States
CATEGORIES:Networking,Textiles
ATTACH;FMTTYPE=image/jpeg:https://clackamasartsalliance.org/wp-content/uploads/2026/01/knitting_group_976kb.jpg
END:VEVENT
END:VCALENDAR