BEGIN:VCALENDAR
VERSION:2.0
PRODID:-//Clackamas County Arts Alliance - ECPv6.15.18//NONSGML v1.0//EN
CALSCALE:GREGORIAN
METHOD:PUBLISH
X-ORIGINAL-URL:https://clackamasartsalliance.org
X-WR-CALDESC:Events for Clackamas County Arts Alliance
REFRESH-INTERVAL;VALUE=DURATION:PT1H
X-Robots-Tag:noindex
X-PUBLISHED-TTL:PT1H
BEGIN:VTIMEZONE
TZID:America/Los_Angeles
BEGIN:DAYLIGHT
TZOFFSETFROM:-0800
TZOFFSETTO:-0700
TZNAME:PDT
DTSTART:20240310T100000
END:DAYLIGHT
BEGIN:STANDARD
TZOFFSETFROM:-0700
TZOFFSETTO:-0800
TZNAME:PST
DTSTART:20241103T090000
END:STANDARD
BEGIN:DAYLIGHT
TZOFFSETFROM:-0800
TZOFFSETTO:-0700
TZNAME:PDT
DTSTART:20250309T100000
END:DAYLIGHT
BEGIN:STANDARD
TZOFFSETFROM:-0700
TZOFFSETTO:-0800
TZNAME:PST
DTSTART:20251102T090000
END:STANDARD
BEGIN:DAYLIGHT
TZOFFSETFROM:-0800
TZOFFSETTO:-0700
TZNAME:PDT
DTSTART:20260308T100000
END:DAYLIGHT
BEGIN:STANDARD
TZOFFSETFROM:-0700
TZOFFSETTO:-0800
TZNAME:PST
DTSTART:20261101T090000
END:STANDARD
END:VTIMEZONE
BEGIN:VEVENT
DTSTART;TZID=America/Los_Angeles:20251025T140000
DTEND;TZID=America/Los_Angeles:20251025T153000
DTSTAMP:20260424T153116
CREATED:20251013T142140Z
LAST-MODIFIED:20251013T142140Z
UID:10027201-1761400800-1761406200@clackamasartsalliance.org
SUMMARY:Cooking Class: Pozole
DESCRIPTION:Learn how to make homemade pozole with Araceli de la Cruz\, owner of La Popular. Limited to 25 participants. While this program is intended for adults\, it is open to patrons of all ages. \nThis project is supported in part by a grant from the Clackamas County Cultural Coalition (managed by Clackamas County Arts Alliance) and made possible by funding from the Oregon Cultural Trust.
URL:https://clackamasartsalliance.org/event/cooking-class-pozole/
LOCATION:Estacada Public Library
GEO:45.2969088;-122.3386332
END:VEVENT
END:VCALENDAR