BEGIN:VCALENDAR
VERSION:2.0
PRODID:-//Clackamas County Arts Alliance - ECPv6.15.18//NONSGML v1.0//EN
CALSCALE:GREGORIAN
METHOD:PUBLISH
X-ORIGINAL-URL:https://clackamasartsalliance.org
X-WR-CALDESC:Events for Clackamas County Arts Alliance
REFRESH-INTERVAL;VALUE=DURATION:PT1H
X-Robots-Tag:noindex
X-PUBLISHED-TTL:PT1H
BEGIN:VTIMEZONE
TZID:America/Los_Angeles
BEGIN:DAYLIGHT
TZOFFSETFROM:-0800
TZOFFSETTO:-0700
TZNAME:PDT
DTSTART:20250309T100000
END:DAYLIGHT
BEGIN:STANDARD
TZOFFSETFROM:-0700
TZOFFSETTO:-0800
TZNAME:PST
DTSTART:20251102T090000
END:STANDARD
BEGIN:DAYLIGHT
TZOFFSETFROM:-0800
TZOFFSETTO:-0700
TZNAME:PDT
DTSTART:20260308T100000
END:DAYLIGHT
BEGIN:STANDARD
TZOFFSETFROM:-0700
TZOFFSETTO:-0800
TZNAME:PST
DTSTART:20261101T090000
END:STANDARD
BEGIN:DAYLIGHT
TZOFFSETFROM:-0800
TZOFFSETTO:-0700
TZNAME:PDT
DTSTART:20270314T100000
END:DAYLIGHT
BEGIN:STANDARD
TZOFFSETFROM:-0700
TZOFFSETTO:-0800
TZNAME:PST
DTSTART:20271107T090000
END:STANDARD
END:VTIMEZONE
BEGIN:VEVENT
DTSTART;TZID=America/Los_Angeles:20260516T090000
DTEND;TZID=America/Los_Angeles:20260516T150000
DTSTAMP:20260423T205933
CREATED:20260224T045849Z
LAST-MODIFIED:20260224T045849Z
UID:10032119-1778922000-1778943600@clackamasartsalliance.org
SUMMARY:SPRING MARKET - Gladstone
DESCRIPTION:Gladstone Community Center Spring Market\n📅 Saturday\, May 16 • ⏰ 9:00 AM – 3:00 PM\n📍 Gladstone Community Center – 1050 Portland Ave.\, Gladstone\, OR 97027\nGet ready for a fun day of shopping\, food\, and community connections at the annual Spring Market! With over 60 local vendors offering a vibrant mix of:\n• Handmade crafts & art\n• Home décor\n• Jewelry & accessories\n• Live plants & garden goodies\n• Baked treats & specialty foods\n• Unique gifts and more!\n🍔 Food trucks on site will be serving up delicious bites — perfect for fueling your market stroll.\nWhile you’re here… make it a full day of service and sustainability!\nHead over to Gladstone Civic Center at 18505 Portland Ave\, Gladstone\, OR 97027:\n✔ Annual Shred-It Day — Safely shred old documents\n✔ Electronic Recycling with Kraxberger Gearheads Robotics Club\n✔ Prescription Drug Take-Back — Dispose of unused medications responsibly\n📲 Follow this event for updates and more details as the date approaches!\nVendors go online to apply and pay:\nhttps://www.ci.gladstone.or.us/sc/page/spring-market\n🚨 Spring Market Vendor Update – Please Read 🚨\nWe are excited about the upcoming Gladstone Spring Market and want to share an important reminder for all vendors:\n✅ There are ONLY two official ways to become a vendor:\n1️⃣ Register in person at the Gladstone Community Center\n2️⃣ Register and pay directly through the official City of Gladstone website\n❌ We will NEVER ask vendors to:\n• Send payment through social media\n• Respond to comments asking you to “PM for details”\n• Register through third-party links or personal messages \nUnfortunately\, there are scams circulating where individuals pose as event organizers. Please do not engage with or send money to anyone claiming otherwise.\nIf you see a comment asking vendors to message them or offering vendor spots\, it is not legitimate.\n📍 If you have questions\, please contact the Gladstone Community Center directly or use the City of Gladstone’s official website.\nThank you for helping us keep this event safe\, organized\, and successful—we can’t wait to see you at the Spring Market!
URL:https://clackamasartsalliance.org/event/spring-market-gladstone/
LOCATION:Gladstone Community Center\, 1050 Portland Ave\, Gladstone\, Oregon\, 97027
CATEGORIES:Art,Craft,Culture,Family Friendly,Festivals,Free,Library,Music,Networking,Sale
ATTACH;FMTTYPE=image/jpeg:https://clackamasartsalliance.org/wp-content/uploads/2026/02/Spring-Market.jpg
ORGANIZER;CN="Gladstone Community Center":MAILTO:prusso@ci.gladstone.or.us
END:VEVENT
END:VCALENDAR