BEGIN:VCALENDAR
VERSION:2.0
PRODID:-//Clackamas County Arts Alliance - ECPv6.15.18//NONSGML v1.0//EN
CALSCALE:GREGORIAN
METHOD:PUBLISH
X-ORIGINAL-URL:https://clackamasartsalliance.org
X-WR-CALDESC:Events for Clackamas County Arts Alliance
REFRESH-INTERVAL;VALUE=DURATION:PT1H
X-Robots-Tag:noindex
X-PUBLISHED-TTL:PT1H
BEGIN:VTIMEZONE
TZID:America/Los_Angeles
BEGIN:DAYLIGHT
TZOFFSETFROM:-0800
TZOFFSETTO:-0700
TZNAME:PDT
DTSTART:20250309T100000
END:DAYLIGHT
BEGIN:STANDARD
TZOFFSETFROM:-0700
TZOFFSETTO:-0800
TZNAME:PST
DTSTART:20251102T090000
END:STANDARD
BEGIN:DAYLIGHT
TZOFFSETFROM:-0800
TZOFFSETTO:-0700
TZNAME:PDT
DTSTART:20260308T100000
END:DAYLIGHT
BEGIN:STANDARD
TZOFFSETFROM:-0700
TZOFFSETTO:-0800
TZNAME:PST
DTSTART:20261101T090000
END:STANDARD
BEGIN:DAYLIGHT
TZOFFSETFROM:-0800
TZOFFSETTO:-0700
TZNAME:PDT
DTSTART:20270314T100000
END:DAYLIGHT
BEGIN:STANDARD
TZOFFSETFROM:-0700
TZOFFSETTO:-0800
TZNAME:PST
DTSTART:20271107T090000
END:STANDARD
END:VTIMEZONE
BEGIN:VEVENT
DTSTART;TZID=America/Los_Angeles:20260516T140000
DTEND;TZID=America/Los_Angeles:20260516T160000
DTSTAMP:20260423T211941
CREATED:20260202T235329Z
LAST-MODIFIED:20260202T235329Z
UID:10030948-1778940000-1778947200@clackamasartsalliance.org
SUMMARY:Adult Coloring
DESCRIPTION:Take a break from the daily routine and join us for Adult Coloring at the library! We’ll provide coloring pages\, pencils\, and markers. Coloring is a relaxing\, low-pressure way to de-stress\, spark creativity\, and enjoy time with others in a welcoming space. For ages 18 and up. No registration required.
URL:https://clackamasartsalliance.org/event/adult-coloring-4/2026-05-16/
LOCATION:Gladstone Library
CATEGORIES:Art
ATTACH;FMTTYPE=image/jpeg:https://clackamasartsalliance.org/wp-content/uploads/2026/01/adult-coloring.jpg
END:VEVENT
BEGIN:VEVENT
DTSTART;TZID=America/Los_Angeles:20260620T140000
DTEND;TZID=America/Los_Angeles:20260620T160000
DTSTAMP:20260423T211941
CREATED:20260202T235329Z
LAST-MODIFIED:20260202T235329Z
UID:10030949-1781964000-1781971200@clackamasartsalliance.org
SUMMARY:Adult Coloring
DESCRIPTION:Take a break from the daily routine and join us for Adult Coloring at the library! We’ll provide coloring pages\, pencils\, and markers. Coloring is a relaxing\, low-pressure way to de-stress\, spark creativity\, and enjoy time with others in a welcoming space. For ages 18 and up. No registration required.
URL:https://clackamasartsalliance.org/event/adult-coloring-4/2026-06-20/
LOCATION:Gladstone Library
CATEGORIES:Art
ATTACH;FMTTYPE=image/jpeg:https://clackamasartsalliance.org/wp-content/uploads/2026/01/adult-coloring.jpg
END:VEVENT
BEGIN:VEVENT
DTSTART;TZID=America/Los_Angeles:20260718T140000
DTEND;TZID=America/Los_Angeles:20260718T160000
DTSTAMP:20260423T211941
CREATED:20260202T235329Z
LAST-MODIFIED:20260202T235329Z
UID:10030950-1784383200-1784390400@clackamasartsalliance.org
SUMMARY:Adult Coloring
DESCRIPTION:Take a break from the daily routine and join us for Adult Coloring at the library! We’ll provide coloring pages\, pencils\, and markers. Coloring is a relaxing\, low-pressure way to de-stress\, spark creativity\, and enjoy time with others in a welcoming space. For ages 18 and up. No registration required.
URL:https://clackamasartsalliance.org/event/adult-coloring-4/2026-07-18/
LOCATION:Gladstone Library
CATEGORIES:Art
ATTACH;FMTTYPE=image/jpeg:https://clackamasartsalliance.org/wp-content/uploads/2026/01/adult-coloring.jpg
END:VEVENT
BEGIN:VEVENT
DTSTART;TZID=America/Los_Angeles:20260815T140000
DTEND;TZID=America/Los_Angeles:20260815T160000
DTSTAMP:20260423T211941
CREATED:20260202T235329Z
LAST-MODIFIED:20260202T235329Z
UID:10030951-1786802400-1786809600@clackamasartsalliance.org
SUMMARY:Adult Coloring
DESCRIPTION:Take a break from the daily routine and join us for Adult Coloring at the library! We’ll provide coloring pages\, pencils\, and markers. Coloring is a relaxing\, low-pressure way to de-stress\, spark creativity\, and enjoy time with others in a welcoming space. For ages 18 and up. No registration required.
URL:https://clackamasartsalliance.org/event/adult-coloring-4/2026-08-15/
LOCATION:Gladstone Library
CATEGORIES:Art
ATTACH;FMTTYPE=image/jpeg:https://clackamasartsalliance.org/wp-content/uploads/2026/01/adult-coloring.jpg
END:VEVENT
BEGIN:VEVENT
DTSTART;TZID=America/Los_Angeles:20260919T140000
DTEND;TZID=America/Los_Angeles:20260919T160000
DTSTAMP:20260423T211941
CREATED:20260202T235329Z
LAST-MODIFIED:20260202T235329Z
UID:10030952-1789826400-1789833600@clackamasartsalliance.org
SUMMARY:Adult Coloring
DESCRIPTION:Take a break from the daily routine and join us for Adult Coloring at the library! We’ll provide coloring pages\, pencils\, and markers. Coloring is a relaxing\, low-pressure way to de-stress\, spark creativity\, and enjoy time with others in a welcoming space. For ages 18 and up. No registration required.
URL:https://clackamasartsalliance.org/event/adult-coloring-4/2026-09-19/
LOCATION:Gladstone Library
CATEGORIES:Art
ATTACH;FMTTYPE=image/jpeg:https://clackamasartsalliance.org/wp-content/uploads/2026/01/adult-coloring.jpg
END:VEVENT
BEGIN:VEVENT
DTSTART;TZID=America/Los_Angeles:20261017T140000
DTEND;TZID=America/Los_Angeles:20261017T160000
DTSTAMP:20260423T211941
CREATED:20260202T235329Z
LAST-MODIFIED:20260202T235329Z
UID:10030953-1792245600-1792252800@clackamasartsalliance.org
SUMMARY:Adult Coloring
DESCRIPTION:Take a break from the daily routine and join us for Adult Coloring at the library! We’ll provide coloring pages\, pencils\, and markers. Coloring is a relaxing\, low-pressure way to de-stress\, spark creativity\, and enjoy time with others in a welcoming space. For ages 18 and up. No registration required.
URL:https://clackamasartsalliance.org/event/adult-coloring-4/2026-10-17/
LOCATION:Gladstone Library
CATEGORIES:Art
ATTACH;FMTTYPE=image/jpeg:https://clackamasartsalliance.org/wp-content/uploads/2026/01/adult-coloring.jpg
END:VEVENT
BEGIN:VEVENT
DTSTART;TZID=America/Los_Angeles:20261121T140000
DTEND;TZID=America/Los_Angeles:20261121T160000
DTSTAMP:20260423T211941
CREATED:20260202T235329Z
LAST-MODIFIED:20260202T235329Z
UID:10030954-1795269600-1795276800@clackamasartsalliance.org
SUMMARY:Adult Coloring
DESCRIPTION:Take a break from the daily routine and join us for Adult Coloring at the library! We’ll provide coloring pages\, pencils\, and markers. Coloring is a relaxing\, low-pressure way to de-stress\, spark creativity\, and enjoy time with others in a welcoming space. For ages 18 and up. No registration required.
URL:https://clackamasartsalliance.org/event/adult-coloring-4/2026-11-21/
LOCATION:Gladstone Library
CATEGORIES:Art
ATTACH;FMTTYPE=image/jpeg:https://clackamasartsalliance.org/wp-content/uploads/2026/01/adult-coloring.jpg
END:VEVENT
BEGIN:VEVENT
DTSTART;TZID=America/Los_Angeles:20261219T140000
DTEND;TZID=America/Los_Angeles:20261219T160000
DTSTAMP:20260423T211941
CREATED:20260202T235329Z
LAST-MODIFIED:20260202T235329Z
UID:10030955-1797688800-1797696000@clackamasartsalliance.org
SUMMARY:Adult Coloring
DESCRIPTION:Take a break from the daily routine and join us for Adult Coloring at the library! We’ll provide coloring pages\, pencils\, and markers. Coloring is a relaxing\, low-pressure way to de-stress\, spark creativity\, and enjoy time with others in a welcoming space. For ages 18 and up. No registration required.
URL:https://clackamasartsalliance.org/event/adult-coloring-4/2026-12-19/
LOCATION:Gladstone Library
CATEGORIES:Art
ATTACH;FMTTYPE=image/jpeg:https://clackamasartsalliance.org/wp-content/uploads/2026/01/adult-coloring.jpg
END:VEVENT
END:VCALENDAR