BEGIN:VCALENDAR
VERSION:2.0
PRODID:-//Clackamas County Arts Alliance - ECPv6.15.18//NONSGML v1.0//EN
CALSCALE:GREGORIAN
METHOD:PUBLISH
X-WR-CALNAME:Clackamas County Arts Alliance
X-ORIGINAL-URL:https://clackamasartsalliance.org
X-WR-CALDESC:Events for Clackamas County Arts Alliance
REFRESH-INTERVAL;VALUE=DURATION:PT1H
X-Robots-Tag:noindex
X-PUBLISHED-TTL:PT1H
BEGIN:VTIMEZONE
TZID:America/Los_Angeles
BEGIN:DAYLIGHT
TZOFFSETFROM:-0800
TZOFFSETTO:-0700
TZNAME:PDT
DTSTART:20240310T100000
END:DAYLIGHT
BEGIN:STANDARD
TZOFFSETFROM:-0700
TZOFFSETTO:-0800
TZNAME:PST
DTSTART:20241103T090000
END:STANDARD
BEGIN:DAYLIGHT
TZOFFSETFROM:-0800
TZOFFSETTO:-0700
TZNAME:PDT
DTSTART:20250309T100000
END:DAYLIGHT
BEGIN:STANDARD
TZOFFSETFROM:-0700
TZOFFSETTO:-0800
TZNAME:PST
DTSTART:20251102T090000
END:STANDARD
BEGIN:DAYLIGHT
TZOFFSETFROM:-0800
TZOFFSETTO:-0700
TZNAME:PDT
DTSTART:20260308T100000
END:DAYLIGHT
BEGIN:STANDARD
TZOFFSETFROM:-0700
TZOFFSETTO:-0800
TZNAME:PST
DTSTART:20261101T090000
END:STANDARD
END:VTIMEZONE
BEGIN:VEVENT
DTSTART;TZID=America/Los_Angeles:20251122T100000
DTEND;TZID=America/Los_Angeles:20251122T160000
DTSTAMP:20260425T160006
CREATED:20251106T161856Z
LAST-MODIFIED:20251106T161856Z
UID:10027738-1763805600-1763827200@clackamasartsalliance.org
SUMMARY:LOHS Holiday BAZARR with Ha Austin Ceramics
DESCRIPTION:⭐️Join me and over 80 local artists and Makers for the annual Lake Oswego High School Holiday Bazaar! Kick off your holiday shopping season on Small Business Saturday. \nI will have functional Sgraffito and crystalline glazed ceramics. As well as many holiday gift ideas created just for the holidays. A perfect time to get a jump start and find that special one-of-a-kind treasure for your loved ones and for yourself.
URL:https://clackamasartsalliance.org/event/lohs-holiday-bazarr-with-ha-austin-ceramics/
LOCATION:Lake Oswego High School\, 2501 Country Club Road\, Lake Oswego\, OR 97034\, Lake Oswego\, OR\, 97034\, United States
CATEGORIES:Art
END:VEVENT
END:VCALENDAR