BEGIN:VCALENDAR
VERSION:2.0
PRODID:-//Clackamas County Arts Alliance - ECPv6.15.18//NONSGML v1.0//EN
CALSCALE:GREGORIAN
METHOD:PUBLISH
X-WR-CALNAME:Clackamas County Arts Alliance
X-ORIGINAL-URL:https://clackamasartsalliance.org
X-WR-CALDESC:Events for Clackamas County Arts Alliance
REFRESH-INTERVAL;VALUE=DURATION:PT1H
X-Robots-Tag:noindex
X-PUBLISHED-TTL:PT1H
BEGIN:VTIMEZONE
TZID:America/Los_Angeles
BEGIN:DAYLIGHT
TZOFFSETFROM:-0800
TZOFFSETTO:-0700
TZNAME:PDT
DTSTART:20240310T100000
END:DAYLIGHT
BEGIN:STANDARD
TZOFFSETFROM:-0700
TZOFFSETTO:-0800
TZNAME:PST
DTSTART:20241103T090000
END:STANDARD
BEGIN:DAYLIGHT
TZOFFSETFROM:-0800
TZOFFSETTO:-0700
TZNAME:PDT
DTSTART:20250309T100000
END:DAYLIGHT
BEGIN:STANDARD
TZOFFSETFROM:-0700
TZOFFSETTO:-0800
TZNAME:PST
DTSTART:20251102T090000
END:STANDARD
BEGIN:DAYLIGHT
TZOFFSETFROM:-0800
TZOFFSETTO:-0700
TZNAME:PDT
DTSTART:20260308T100000
END:DAYLIGHT
BEGIN:STANDARD
TZOFFSETFROM:-0700
TZOFFSETTO:-0800
TZNAME:PST
DTSTART:20261101T090000
END:STANDARD
BEGIN:DAYLIGHT
TZOFFSETFROM:-0800
TZOFFSETTO:-0700
TZNAME:PDT
DTSTART:20270314T100000
END:DAYLIGHT
BEGIN:STANDARD
TZOFFSETFROM:-0700
TZOFFSETTO:-0800
TZNAME:PST
DTSTART:20271107T090000
END:STANDARD
END:VTIMEZONE
BEGIN:VEVENT
DTSTART;TZID=America/Los_Angeles:20260412T143000
DTEND;TZID=America/Los_Angeles:20260412T163000
DTSTAMP:20260425T123820
CREATED:20260331T013616Z
LAST-MODIFIED:20260331T013616Z
UID:10032682-1776004200-1776011400@clackamasartsalliance.org
SUMMARY:Milwaukie Creatives Meetup
DESCRIPTION:Calling all Milwaukie artists! Come connect with other local creatives\, make new friends and share ideas for future meetups\, collaborations\, or art events. This is a casual event\, pop in anytime between 2:30-4:30. Light refreshments will be provided. \nSunday\, April 12 2:30-4:30 pm\nMilwaukie Ledding Library \n-Hosted by Sheryl Riley\, Sandra Alderman and Robin Phillips Occhipinti \nWe hope to see you! Please share this event.
URL:https://clackamasartsalliance.org/event/milwaukie-creatives-meetup/
LOCATION:Milwaukie Ledding Library\, 10660 SE 21st Ave.\, Milwaukie\, OR\, 97222\, United States
CATEGORIES:Art,Networking
ATTACH;FMTTYPE=image/jpeg:https://clackamasartsalliance.org/wp-content/uploads/2026/03/Milwaukie-Creatives-Meetup.jpg
GEO:45.4461288;-122.6403619
X-APPLE-STRUCTURED-LOCATION;VALUE=URI;X-ADDRESS=Milwaukie Ledding Library 10660 SE 21st Ave. Milwaukie OR 97222 United States;X-APPLE-RADIUS=500;X-TITLE=10660 SE 21st Ave.:geo:-122.6403619,45.4461288
END:VEVENT
BEGIN:VEVENT
DTSTART;TZID=America/Los_Angeles:20260318T183000
DTEND;TZID=America/Los_Angeles:20260318T193000
DTSTAMP:20260425T123820
CREATED:20260310T034427Z
LAST-MODIFIED:20260310T034427Z
UID:10032298-1773858600-1773862200@clackamasartsalliance.org
SUMMARY:Author Talk: Kate Schatz
DESCRIPTION:KATE SCHATZ is an author\, educator\, and public speaker. She’s the New York Times-bestselling author of the “Rad Women” book series\, and Do the Work: An Anti-Racist Activity Book\, co-written with “United Shades of America” host W. Kamau Bell. \nHer new historical fiction novel\, Where the Girls Were\, is a coming-of-age tale about a pregnant teenager sent to live in a home for unwed mothers\, set in San Francisco during the tumultuous 1960s. \nInterested in meeting the author and having her sign your book? Our friends at Spoke & Word Books with be hosting Kate for a free author meet-and-greet\, 5:00 – 6:00 PM. To pre-order Kate’s book\, visit this link: https://withfriends.co/event/27637086/
URL:https://clackamasartsalliance.org/event/author-talk-kate-schatz/
LOCATION:Milwaukie Ledding Library\, 10660 SE 21st Ave.\, Milwaukie\, OR\, 97222\, United States
CATEGORIES:Library,Literary
ATTACH;FMTTYPE=image/png:https://clackamasartsalliance.org/wp-content/uploads/2026/03/Author-Talk-Kate-Schatz-Self-Check.png
ORGANIZER;CN="The Ledding Library":MAILTO:ledding@milwaukieoregon.gov
GEO:45.4461288;-122.6403619
X-APPLE-STRUCTURED-LOCATION;VALUE=URI;X-ADDRESS=Milwaukie Ledding Library 10660 SE 21st Ave. Milwaukie OR 97222 United States;X-APPLE-RADIUS=500;X-TITLE=10660 SE 21st Ave.:geo:-122.6403619,45.4461288
END:VEVENT
BEGIN:VEVENT
DTSTART;TZID=America/Los_Angeles:20251116T150000
DTEND;TZID=America/Los_Angeles:20251116T163000
DTSTAMP:20260425T123821
CREATED:20251114T052802Z
LAST-MODIFIED:20251114T052802Z
UID:10028166-1763305200-1763310600@clackamasartsalliance.org
SUMMARY:Milwaukie Poetry Series Fall  Poetry Reading and Open Mic.
DESCRIPTION:On Sunday\, November 16 the Milwaukie Poetry Series will sponsor our Fall Poetry reading and Open Mic. The event will be in the Community Room of the Ledding Library in Milwaukie at 3 PM and available on Zoom. A theme will be thanksgiving and gratitude but all poems do not need to be on that subject. Our Featured Readers for this event will be Cathy Cain and Bill Siverly. They will read for approximately 40 minutes. Then there will be the Open Mic.
URL:https://clackamasartsalliance.org/event/milwaukie-poetry-series-fall-poetry-reading-and-open-mic/
LOCATION:Milwaukie Ledding Library\, 10660 SE 21st Ave.\, Milwaukie\, OR\, 97222\, United States
CATEGORIES:Literary
GEO:45.4461288;-122.6403619
X-APPLE-STRUCTURED-LOCATION;VALUE=URI;X-ADDRESS=Milwaukie Ledding Library 10660 SE 21st Ave. Milwaukie OR 97222 United States;X-APPLE-RADIUS=500;X-TITLE=10660 SE 21st Ave.:geo:-122.6403619,45.4461288
END:VEVENT
BEGIN:VEVENT
DTSTART;TZID=America/Los_Angeles:20251112T180000
DTEND;TZID=America/Los_Angeles:20251112T193000
DTSTAMP:20260425T123821
CREATED:20251111T154934Z
LAST-MODIFIED:20251111T154934Z
UID:10027759-1762970400-1762975800@clackamasartsalliance.org
SUMMARY:The Milwaukie Poetry Series: A poetry reading by Carlos Reyes at the Ledding Library
DESCRIPTION:The Milwaukie Poetry Series is delighted to continue our Nineteenth Season with a\nreading by Carlos Reyes Wednesday\, November 12\, 2025 in the Community Room at the\nLedding Library of Milwaukie at 10660 SE 21. In Milwaukie\,st OR 97222 at 6 PM. It will\nalso be livestreamed on the Ledding Library YouTube Channel. The reading will then be\navailable for viewing on demand on the Ledding LibraryYouTube Channel.
URL:https://clackamasartsalliance.org/event/the-milwaukie-poetry-series-a-poetry-reading-by-carlos-reyes-at-the-ledding-library/
LOCATION:Milwaukie Ledding Library\, 10660 SE 21st Ave.\, Milwaukie\, OR\, 97222\, United States
CATEGORIES:Literary
GEO:45.4461288;-122.6403619
X-APPLE-STRUCTURED-LOCATION;VALUE=URI;X-ADDRESS=Milwaukie Ledding Library 10660 SE 21st Ave. Milwaukie OR 97222 United States;X-APPLE-RADIUS=500;X-TITLE=10660 SE 21st Ave.:geo:-122.6403619,45.4461288
END:VEVENT
BEGIN:VEVENT
DTSTART;TZID=America/Los_Angeles:20251029T180000
DTEND;TZID=America/Los_Angeles:20251029T193000
DTSTAMP:20260425T123821
CREATED:20250904T024933Z
LAST-MODIFIED:20250904T024933Z
UID:10024752-1761760800-1761766200@clackamasartsalliance.org
SUMMARY:Author Talk - Emma Pattee
DESCRIPTION:Emma Pattee imagines the impact of an anticipated 9.0 magnitude earthquake on the 700-mile Cascadia fault line in her breathtaking first novel\, Tilt. \nAnnie is nine months pregnant and shopping for a crib at IKEA when a massive earthquake hits Portland\, Oregon. With no way to reach her husband\, no phone or money\, and a city left in chaos\, there’s nothing to do but walk. Making her way across the wreckage of Portland\, Annie experiences both human desperation and kindness. \nEmma is a climate journalist and fiction writer. Her work has been published in The Atlantic\, The New York Times\, The Washington Post\, The Guardian\, and elsewhere. She lives in Oregon. \nThe Fall Author Series is co-sponsored by Spoke & Word Books. Special thanks to the Friends of the Ledding Library for providing the funding that makes this program possible.
URL:https://clackamasartsalliance.org/event/author-talk-emma-pattee/
LOCATION:Milwaukie Ledding Library\, 10660 SE 21st Ave.\, Milwaukie\, OR\, 97222\, United States
CATEGORIES:Free
ORGANIZER;CN="The Ledding Library":MAILTO:ledding@milwaukieoregon.gov
GEO:45.4461288;-122.6403619
X-APPLE-STRUCTURED-LOCATION;VALUE=URI;X-ADDRESS=Milwaukie Ledding Library 10660 SE 21st Ave. Milwaukie OR 97222 United States;X-APPLE-RADIUS=500;X-TITLE=10660 SE 21st Ave.:geo:-122.6403619,45.4461288
END:VEVENT
END:VCALENDAR