BEGIN:VCALENDAR
VERSION:2.0
PRODID:-//Clackamas County Arts Alliance - ECPv6.15.18//NONSGML v1.0//EN
CALSCALE:GREGORIAN
METHOD:PUBLISH
X-ORIGINAL-URL:https://clackamasartsalliance.org
X-WR-CALDESC:Events for Clackamas County Arts Alliance
REFRESH-INTERVAL;VALUE=DURATION:PT1H
X-Robots-Tag:noindex
X-PUBLISHED-TTL:PT1H
BEGIN:VTIMEZONE
TZID:America/Los_Angeles
BEGIN:DAYLIGHT
TZOFFSETFROM:-0800
TZOFFSETTO:-0700
TZNAME:PDT
DTSTART:20240310T100000
END:DAYLIGHT
BEGIN:STANDARD
TZOFFSETFROM:-0700
TZOFFSETTO:-0800
TZNAME:PST
DTSTART:20241103T090000
END:STANDARD
BEGIN:DAYLIGHT
TZOFFSETFROM:-0800
TZOFFSETTO:-0700
TZNAME:PDT
DTSTART:20250309T100000
END:DAYLIGHT
BEGIN:STANDARD
TZOFFSETFROM:-0700
TZOFFSETTO:-0800
TZNAME:PST
DTSTART:20251102T090000
END:STANDARD
BEGIN:DAYLIGHT
TZOFFSETFROM:-0800
TZOFFSETTO:-0700
TZNAME:PDT
DTSTART:20260308T100000
END:DAYLIGHT
BEGIN:STANDARD
TZOFFSETFROM:-0700
TZOFFSETTO:-0800
TZNAME:PST
DTSTART:20261101T090000
END:STANDARD
END:VTIMEZONE
BEGIN:VEVENT
DTSTART;TZID=America/Los_Angeles:20251121T190000
DTEND;TZID=America/Los_Angeles:20251121T213000
DTSTAMP:20260424T174351
CREATED:20251030T020349Z
LAST-MODIFIED:20251030T020349Z
UID:10027282-1763751600-1763760600@clackamasartsalliance.org
SUMMARY:Ballroom Dance
DESCRIPTION:OAK GROVE COMMUNITY HALL\nFRIDAY EVENING BALLROOM DANCE\nNovember 21\,2025\n7:00 – 9:30 PM\n‘ Live 7-piece Swing Band\nAdmission at the door – $15.00 per person $25.00 per couple\nFor more information contact swingstreet@wvi. com www. glenntadinaband. com\nThank you for supporting live music
URL:https://clackamasartsalliance.org/event/ballroom-dance/
LOCATION:Oak Grove Community Center\, Milwaukie\, OR\, 14496 SE Cedar Ave\, Portland\, 97267\, OR\, 97045\, United States
CATEGORIES:Dance,Workshops/Classes
END:VEVENT
END:VCALENDAR