BEGIN:VCALENDAR
VERSION:2.0
PRODID:-//Clackamas County Arts Alliance - ECPv6.15.18//NONSGML v1.0//EN
CALSCALE:GREGORIAN
METHOD:PUBLISH
X-ORIGINAL-URL:https://clackamasartsalliance.org
X-WR-CALDESC:Events for Clackamas County Arts Alliance
REFRESH-INTERVAL;VALUE=DURATION:PT1H
X-Robots-Tag:noindex
X-PUBLISHED-TTL:PT1H
BEGIN:VTIMEZONE
TZID:America/Los_Angeles
BEGIN:DAYLIGHT
TZOFFSETFROM:-0800
TZOFFSETTO:-0700
TZNAME:PDT
DTSTART:20240310T100000
END:DAYLIGHT
BEGIN:STANDARD
TZOFFSETFROM:-0700
TZOFFSETTO:-0800
TZNAME:PST
DTSTART:20241103T090000
END:STANDARD
BEGIN:DAYLIGHT
TZOFFSETFROM:-0800
TZOFFSETTO:-0700
TZNAME:PDT
DTSTART:20250309T100000
END:DAYLIGHT
BEGIN:STANDARD
TZOFFSETFROM:-0700
TZOFFSETTO:-0800
TZNAME:PST
DTSTART:20251102T090000
END:STANDARD
BEGIN:DAYLIGHT
TZOFFSETFROM:-0800
TZOFFSETTO:-0700
TZNAME:PDT
DTSTART:20260308T100000
END:DAYLIGHT
BEGIN:STANDARD
TZOFFSETFROM:-0700
TZOFFSETTO:-0800
TZNAME:PST
DTSTART:20261101T090000
END:STANDARD
END:VTIMEZONE
BEGIN:VEVENT
DTSTART;TZID=America/Los_Angeles:20251214T140000
DTEND;TZID=America/Los_Angeles:20251214T160000
DTSTAMP:20260424T141550
CREATED:20251201T122949Z
LAST-MODIFIED:20251201T122949Z
UID:10029713-1765720800-1765728000@clackamasartsalliance.org
SUMMARY:New Century Players presents two radio plays
DESCRIPTION:“Our Miss Brooks: Christmas Gift Mix-up” and “Radio City Playhouse: Twas the Night Before Christmas\,” directed by Sara McNaughton
URL:https://clackamasartsalliance.org/event/new-century-players-presents-two-radio-plays/2025-12-14/
LOCATION:Odd Fellows Hall\, 10282 SE Main Street\, Milwaukie\, Oregon\, 97222
CATEGORIES:Theater
END:VEVENT
BEGIN:VEVENT
DTSTART;TZID=America/Los_Angeles:20251213T193000
DTEND;TZID=America/Los_Angeles:20251213T210000
DTSTAMP:20260424T141550
CREATED:20251201T122949Z
LAST-MODIFIED:20251201T122949Z
UID:10029712-1765654200-1765659600@clackamasartsalliance.org
SUMMARY:New Century Players presents two radio plays
DESCRIPTION:“Our Miss Brooks: Christmas Gift Mix-up” and “Radio City Playhouse: Twas the Night Before Christmas\,” directed by Sara McNaughton
URL:https://clackamasartsalliance.org/event/new-century-players-presents-two-radio-plays/2025-12-13/
LOCATION:Odd Fellows Hall\, 10282 SE Main Street\, Milwaukie\, Oregon\, 97222
CATEGORIES:Theater
END:VEVENT
BEGIN:VEVENT
DTSTART;TZID=America/Los_Angeles:20251212T193000
DTEND;TZID=America/Los_Angeles:20251212T210000
DTSTAMP:20260424T141550
CREATED:20251201T122949Z
LAST-MODIFIED:20251201T122949Z
UID:10029711-1765567800-1765573200@clackamasartsalliance.org
SUMMARY:New Century Players presents two radio plays
DESCRIPTION:“Our Miss Brooks: Christmas Gift Mix-up” and “Radio City Playhouse: Twas the Night Before Christmas\,” directed by Sara McNaughton
URL:https://clackamasartsalliance.org/event/new-century-players-presents-two-radio-plays/2025-12-12/
LOCATION:Odd Fellows Hall\, 10282 SE Main Street\, Milwaukie\, Oregon\, 97222
CATEGORIES:Theater
END:VEVENT
END:VCALENDAR