BEGIN:VCALENDAR
VERSION:2.0
PRODID:-//Clackamas County Arts Alliance - ECPv6.15.18//NONSGML v1.0//EN
CALSCALE:GREGORIAN
METHOD:PUBLISH
X-WR-CALNAME:Clackamas County Arts Alliance
X-ORIGINAL-URL:https://clackamasartsalliance.org
X-WR-CALDESC:Events for Clackamas County Arts Alliance
REFRESH-INTERVAL;VALUE=DURATION:PT1H
X-Robots-Tag:noindex
X-PUBLISHED-TTL:PT1H
BEGIN:VTIMEZONE
TZID:America/Los_Angeles
BEGIN:DAYLIGHT
TZOFFSETFROM:-0800
TZOFFSETTO:-0700
TZNAME:PDT
DTSTART:20250309T100000
END:DAYLIGHT
BEGIN:STANDARD
TZOFFSETFROM:-0700
TZOFFSETTO:-0800
TZNAME:PST
DTSTART:20251102T090000
END:STANDARD
BEGIN:DAYLIGHT
TZOFFSETFROM:-0800
TZOFFSETTO:-0700
TZNAME:PDT
DTSTART:20260308T100000
END:DAYLIGHT
BEGIN:STANDARD
TZOFFSETFROM:-0700
TZOFFSETTO:-0800
TZNAME:PST
DTSTART:20261101T090000
END:STANDARD
BEGIN:DAYLIGHT
TZOFFSETFROM:-0800
TZOFFSETTO:-0700
TZNAME:PDT
DTSTART:20270314T100000
END:DAYLIGHT
BEGIN:STANDARD
TZOFFSETFROM:-0700
TZOFFSETTO:-0800
TZNAME:PST
DTSTART:20271107T090000
END:STANDARD
END:VTIMEZONE
BEGIN:VEVENT
DTSTART;TZID=America/Los_Angeles:20260306T100000
DTEND;TZID=America/Los_Angeles:20260306T160000
DTSTAMP:20260424T072422
CREATED:20260216T152206Z
LAST-MODIFIED:20260216T152206Z
UID:10031818-1772791200-1772812800@clackamasartsalliance.org
SUMMARY:heARTs of Wilsonville Auction
DESCRIPTION:Five one-of-a-kind\, artist-designed hearts are up for auction to support future public art in Wilsonville! 💛💚💙🧡❤️\nCreated as part of the City’s largest public art project\, these hearts have been on display across the community since May. Bidding opens Feb. 12 at 10 am and closes Friday\, March 6 at 4 pm. Hearts are sold as-is\, and bidders are encouraged to view them in person. These are LARGE fiberglass sculptures approx (52″ x 52″ x 10″).\nWinning bidders must pay at City Hall by March 16\, with pick-up scheduled for March 19 (truck or cargo van required).\nMore information and bidding details can be found here: https://HeartsofWilsonville.auctria.events
URL:https://clackamasartsalliance.org/event/hearts-of-wilsonville-auction/2026-03-06/
LOCATION:online
CATEGORIES:Art,Fundraiser,Visual
ATTACH;FMTTYPE=image/jpeg:https://clackamasartsalliance.org/wp-content/uploads/2026/02/heARTS-Auction-Facebook-1.jpg
END:VEVENT
BEGIN:VEVENT
DTSTART;TZID=America/Los_Angeles:20260305T100000
DTEND;TZID=America/Los_Angeles:20260305T160000
DTSTAMP:20260424T072422
CREATED:20260216T152206Z
LAST-MODIFIED:20260216T152206Z
UID:10031817-1772704800-1772726400@clackamasartsalliance.org
SUMMARY:heARTs of Wilsonville Auction
DESCRIPTION:Five one-of-a-kind\, artist-designed hearts are up for auction to support future public art in Wilsonville! 💛💚💙🧡❤️\nCreated as part of the City’s largest public art project\, these hearts have been on display across the community since May. Bidding opens Feb. 12 at 10 am and closes Friday\, March 6 at 4 pm. Hearts are sold as-is\, and bidders are encouraged to view them in person. These are LARGE fiberglass sculptures approx (52″ x 52″ x 10″).\nWinning bidders must pay at City Hall by March 16\, with pick-up scheduled for March 19 (truck or cargo van required).\nMore information and bidding details can be found here: https://HeartsofWilsonville.auctria.events
URL:https://clackamasartsalliance.org/event/hearts-of-wilsonville-auction/2026-03-05/
LOCATION:online
CATEGORIES:Art,Fundraiser,Visual
ATTACH;FMTTYPE=image/jpeg:https://clackamasartsalliance.org/wp-content/uploads/2026/02/heARTS-Auction-Facebook-1.jpg
END:VEVENT
BEGIN:VEVENT
DTSTART;TZID=America/Los_Angeles:20260304T100000
DTEND;TZID=America/Los_Angeles:20260304T160000
DTSTAMP:20260424T072422
CREATED:20260216T152206Z
LAST-MODIFIED:20260216T152206Z
UID:10031816-1772618400-1772640000@clackamasartsalliance.org
SUMMARY:heARTs of Wilsonville Auction
DESCRIPTION:Five one-of-a-kind\, artist-designed hearts are up for auction to support future public art in Wilsonville! 💛💚💙🧡❤️\nCreated as part of the City’s largest public art project\, these hearts have been on display across the community since May. Bidding opens Feb. 12 at 10 am and closes Friday\, March 6 at 4 pm. Hearts are sold as-is\, and bidders are encouraged to view them in person. These are LARGE fiberglass sculptures approx (52″ x 52″ x 10″).\nWinning bidders must pay at City Hall by March 16\, with pick-up scheduled for March 19 (truck or cargo van required).\nMore information and bidding details can be found here: https://HeartsofWilsonville.auctria.events
URL:https://clackamasartsalliance.org/event/hearts-of-wilsonville-auction/2026-03-04/
LOCATION:online
CATEGORIES:Art,Fundraiser,Visual
ATTACH;FMTTYPE=image/jpeg:https://clackamasartsalliance.org/wp-content/uploads/2026/02/heARTS-Auction-Facebook-1.jpg
END:VEVENT
BEGIN:VEVENT
DTSTART;TZID=America/Los_Angeles:20260303T100000
DTEND;TZID=America/Los_Angeles:20260303T160000
DTSTAMP:20260424T072422
CREATED:20260216T152206Z
LAST-MODIFIED:20260216T152206Z
UID:10031815-1772532000-1772553600@clackamasartsalliance.org
SUMMARY:heARTs of Wilsonville Auction
DESCRIPTION:Five one-of-a-kind\, artist-designed hearts are up for auction to support future public art in Wilsonville! 💛💚💙🧡❤️\nCreated as part of the City’s largest public art project\, these hearts have been on display across the community since May. Bidding opens Feb. 12 at 10 am and closes Friday\, March 6 at 4 pm. Hearts are sold as-is\, and bidders are encouraged to view them in person. These are LARGE fiberglass sculptures approx (52″ x 52″ x 10″).\nWinning bidders must pay at City Hall by March 16\, with pick-up scheduled for March 19 (truck or cargo van required).\nMore information and bidding details can be found here: https://HeartsofWilsonville.auctria.events
URL:https://clackamasartsalliance.org/event/hearts-of-wilsonville-auction/2026-03-03/
LOCATION:online
CATEGORIES:Art,Fundraiser,Visual
ATTACH;FMTTYPE=image/jpeg:https://clackamasartsalliance.org/wp-content/uploads/2026/02/heARTS-Auction-Facebook-1.jpg
END:VEVENT
BEGIN:VEVENT
DTSTART;TZID=America/Los_Angeles:20260302T100000
DTEND;TZID=America/Los_Angeles:20260302T160000
DTSTAMP:20260424T072422
CREATED:20260216T152206Z
LAST-MODIFIED:20260216T152206Z
UID:10031814-1772445600-1772467200@clackamasartsalliance.org
SUMMARY:heARTs of Wilsonville Auction
DESCRIPTION:Five one-of-a-kind\, artist-designed hearts are up for auction to support future public art in Wilsonville! 💛💚💙🧡❤️\nCreated as part of the City’s largest public art project\, these hearts have been on display across the community since May. Bidding opens Feb. 12 at 10 am and closes Friday\, March 6 at 4 pm. Hearts are sold as-is\, and bidders are encouraged to view them in person. These are LARGE fiberglass sculptures approx (52″ x 52″ x 10″).\nWinning bidders must pay at City Hall by March 16\, with pick-up scheduled for March 19 (truck or cargo van required).\nMore information and bidding details can be found here: https://HeartsofWilsonville.auctria.events
URL:https://clackamasartsalliance.org/event/hearts-of-wilsonville-auction/2026-03-02/
LOCATION:online
CATEGORIES:Art,Fundraiser,Visual
ATTACH;FMTTYPE=image/jpeg:https://clackamasartsalliance.org/wp-content/uploads/2026/02/heARTS-Auction-Facebook-1.jpg
END:VEVENT
BEGIN:VEVENT
DTSTART;TZID=America/Los_Angeles:20260301T100000
DTEND;TZID=America/Los_Angeles:20260301T160000
DTSTAMP:20260424T072422
CREATED:20260216T152206Z
LAST-MODIFIED:20260216T152206Z
UID:10031813-1772359200-1772380800@clackamasartsalliance.org
SUMMARY:heARTs of Wilsonville Auction
DESCRIPTION:Five one-of-a-kind\, artist-designed hearts are up for auction to support future public art in Wilsonville! 💛💚💙🧡❤️\nCreated as part of the City’s largest public art project\, these hearts have been on display across the community since May. Bidding opens Feb. 12 at 10 am and closes Friday\, March 6 at 4 pm. Hearts are sold as-is\, and bidders are encouraged to view them in person. These are LARGE fiberglass sculptures approx (52″ x 52″ x 10″).\nWinning bidders must pay at City Hall by March 16\, with pick-up scheduled for March 19 (truck or cargo van required).\nMore information and bidding details can be found here: https://HeartsofWilsonville.auctria.events
URL:https://clackamasartsalliance.org/event/hearts-of-wilsonville-auction/2026-03-01/
LOCATION:online
CATEGORIES:Art,Fundraiser,Visual
ATTACH;FMTTYPE=image/jpeg:https://clackamasartsalliance.org/wp-content/uploads/2026/02/heARTS-Auction-Facebook-1.jpg
END:VEVENT
BEGIN:VEVENT
DTSTART;TZID=America/Los_Angeles:20260228T100000
DTEND;TZID=America/Los_Angeles:20260228T160000
DTSTAMP:20260424T072422
CREATED:20260216T152206Z
LAST-MODIFIED:20260216T152206Z
UID:10031812-1772272800-1772294400@clackamasartsalliance.org
SUMMARY:heARTs of Wilsonville Auction
DESCRIPTION:Five one-of-a-kind\, artist-designed hearts are up for auction to support future public art in Wilsonville! 💛💚💙🧡❤️\nCreated as part of the City’s largest public art project\, these hearts have been on display across the community since May. Bidding opens Feb. 12 at 10 am and closes Friday\, March 6 at 4 pm. Hearts are sold as-is\, and bidders are encouraged to view them in person. These are LARGE fiberglass sculptures approx (52″ x 52″ x 10″).\nWinning bidders must pay at City Hall by March 16\, with pick-up scheduled for March 19 (truck or cargo van required).\nMore information and bidding details can be found here: https://HeartsofWilsonville.auctria.events
URL:https://clackamasartsalliance.org/event/hearts-of-wilsonville-auction/2026-02-28/
LOCATION:online
CATEGORIES:Art,Fundraiser,Visual
ATTACH;FMTTYPE=image/jpeg:https://clackamasartsalliance.org/wp-content/uploads/2026/02/heARTS-Auction-Facebook-1.jpg
END:VEVENT
BEGIN:VEVENT
DTSTART;TZID=America/Los_Angeles:20260227T100000
DTEND;TZID=America/Los_Angeles:20260227T160000
DTSTAMP:20260424T072422
CREATED:20260216T152206Z
LAST-MODIFIED:20260216T152206Z
UID:10031811-1772186400-1772208000@clackamasartsalliance.org
SUMMARY:heARTs of Wilsonville Auction
DESCRIPTION:Five one-of-a-kind\, artist-designed hearts are up for auction to support future public art in Wilsonville! 💛💚💙🧡❤️\nCreated as part of the City’s largest public art project\, these hearts have been on display across the community since May. Bidding opens Feb. 12 at 10 am and closes Friday\, March 6 at 4 pm. Hearts are sold as-is\, and bidders are encouraged to view them in person. These are LARGE fiberglass sculptures approx (52″ x 52″ x 10″).\nWinning bidders must pay at City Hall by March 16\, with pick-up scheduled for March 19 (truck or cargo van required).\nMore information and bidding details can be found here: https://HeartsofWilsonville.auctria.events
URL:https://clackamasartsalliance.org/event/hearts-of-wilsonville-auction/2026-02-27/
LOCATION:online
CATEGORIES:Art,Fundraiser,Visual
ATTACH;FMTTYPE=image/jpeg:https://clackamasartsalliance.org/wp-content/uploads/2026/02/heARTS-Auction-Facebook-1.jpg
END:VEVENT
BEGIN:VEVENT
DTSTART;TZID=America/Los_Angeles:20260226T100000
DTEND;TZID=America/Los_Angeles:20260226T160000
DTSTAMP:20260424T072422
CREATED:20260216T152206Z
LAST-MODIFIED:20260216T152206Z
UID:10031810-1772100000-1772121600@clackamasartsalliance.org
SUMMARY:heARTs of Wilsonville Auction
DESCRIPTION:Five one-of-a-kind\, artist-designed hearts are up for auction to support future public art in Wilsonville! 💛💚💙🧡❤️\nCreated as part of the City’s largest public art project\, these hearts have been on display across the community since May. Bidding opens Feb. 12 at 10 am and closes Friday\, March 6 at 4 pm. Hearts are sold as-is\, and bidders are encouraged to view them in person. These are LARGE fiberglass sculptures approx (52″ x 52″ x 10″).\nWinning bidders must pay at City Hall by March 16\, with pick-up scheduled for March 19 (truck or cargo van required).\nMore information and bidding details can be found here: https://HeartsofWilsonville.auctria.events
URL:https://clackamasartsalliance.org/event/hearts-of-wilsonville-auction/2026-02-26/
LOCATION:online
CATEGORIES:Art,Fundraiser,Visual
ATTACH;FMTTYPE=image/jpeg:https://clackamasartsalliance.org/wp-content/uploads/2026/02/heARTS-Auction-Facebook-1.jpg
END:VEVENT
BEGIN:VEVENT
DTSTART;TZID=America/Los_Angeles:20260225T100000
DTEND;TZID=America/Los_Angeles:20260225T160000
DTSTAMP:20260424T072422
CREATED:20260216T152206Z
LAST-MODIFIED:20260216T152206Z
UID:10031809-1772013600-1772035200@clackamasartsalliance.org
SUMMARY:heARTs of Wilsonville Auction
DESCRIPTION:Five one-of-a-kind\, artist-designed hearts are up for auction to support future public art in Wilsonville! 💛💚💙🧡❤️\nCreated as part of the City’s largest public art project\, these hearts have been on display across the community since May. Bidding opens Feb. 12 at 10 am and closes Friday\, March 6 at 4 pm. Hearts are sold as-is\, and bidders are encouraged to view them in person. These are LARGE fiberglass sculptures approx (52″ x 52″ x 10″).\nWinning bidders must pay at City Hall by March 16\, with pick-up scheduled for March 19 (truck or cargo van required).\nMore information and bidding details can be found here: https://HeartsofWilsonville.auctria.events
URL:https://clackamasartsalliance.org/event/hearts-of-wilsonville-auction/2026-02-25/
LOCATION:online
CATEGORIES:Art,Fundraiser,Visual
ATTACH;FMTTYPE=image/jpeg:https://clackamasartsalliance.org/wp-content/uploads/2026/02/heARTS-Auction-Facebook-1.jpg
END:VEVENT
BEGIN:VEVENT
DTSTART;TZID=America/Los_Angeles:20260224T100000
DTEND;TZID=America/Los_Angeles:20260224T160000
DTSTAMP:20260424T072422
CREATED:20260216T152206Z
LAST-MODIFIED:20260216T152206Z
UID:10031808-1771927200-1771948800@clackamasartsalliance.org
SUMMARY:heARTs of Wilsonville Auction
DESCRIPTION:Five one-of-a-kind\, artist-designed hearts are up for auction to support future public art in Wilsonville! 💛💚💙🧡❤️\nCreated as part of the City’s largest public art project\, these hearts have been on display across the community since May. Bidding opens Feb. 12 at 10 am and closes Friday\, March 6 at 4 pm. Hearts are sold as-is\, and bidders are encouraged to view them in person. These are LARGE fiberglass sculptures approx (52″ x 52″ x 10″).\nWinning bidders must pay at City Hall by March 16\, with pick-up scheduled for March 19 (truck or cargo van required).\nMore information and bidding details can be found here: https://HeartsofWilsonville.auctria.events
URL:https://clackamasartsalliance.org/event/hearts-of-wilsonville-auction/2026-02-24/
LOCATION:online
CATEGORIES:Art,Fundraiser,Visual
ATTACH;FMTTYPE=image/jpeg:https://clackamasartsalliance.org/wp-content/uploads/2026/02/heARTS-Auction-Facebook-1.jpg
END:VEVENT
BEGIN:VEVENT
DTSTART;TZID=America/Los_Angeles:20260223T100000
DTEND;TZID=America/Los_Angeles:20260223T160000
DTSTAMP:20260424T072422
CREATED:20260216T152206Z
LAST-MODIFIED:20260216T152206Z
UID:10031807-1771840800-1771862400@clackamasartsalliance.org
SUMMARY:heARTs of Wilsonville Auction
DESCRIPTION:Five one-of-a-kind\, artist-designed hearts are up for auction to support future public art in Wilsonville! 💛💚💙🧡❤️\nCreated as part of the City’s largest public art project\, these hearts have been on display across the community since May. Bidding opens Feb. 12 at 10 am and closes Friday\, March 6 at 4 pm. Hearts are sold as-is\, and bidders are encouraged to view them in person. These are LARGE fiberglass sculptures approx (52″ x 52″ x 10″).\nWinning bidders must pay at City Hall by March 16\, with pick-up scheduled for March 19 (truck or cargo van required).\nMore information and bidding details can be found here: https://HeartsofWilsonville.auctria.events
URL:https://clackamasartsalliance.org/event/hearts-of-wilsonville-auction/2026-02-23/
LOCATION:online
CATEGORIES:Art,Fundraiser,Visual
ATTACH;FMTTYPE=image/jpeg:https://clackamasartsalliance.org/wp-content/uploads/2026/02/heARTS-Auction-Facebook-1.jpg
END:VEVENT
BEGIN:VEVENT
DTSTART;TZID=America/Los_Angeles:20260222T100000
DTEND;TZID=America/Los_Angeles:20260222T160000
DTSTAMP:20260424T072422
CREATED:20260216T152206Z
LAST-MODIFIED:20260216T152206Z
UID:10031806-1771754400-1771776000@clackamasartsalliance.org
SUMMARY:heARTs of Wilsonville Auction
DESCRIPTION:Five one-of-a-kind\, artist-designed hearts are up for auction to support future public art in Wilsonville! 💛💚💙🧡❤️\nCreated as part of the City’s largest public art project\, these hearts have been on display across the community since May. Bidding opens Feb. 12 at 10 am and closes Friday\, March 6 at 4 pm. Hearts are sold as-is\, and bidders are encouraged to view them in person. These are LARGE fiberglass sculptures approx (52″ x 52″ x 10″).\nWinning bidders must pay at City Hall by March 16\, with pick-up scheduled for March 19 (truck or cargo van required).\nMore information and bidding details can be found here: https://HeartsofWilsonville.auctria.events
URL:https://clackamasartsalliance.org/event/hearts-of-wilsonville-auction/2026-02-22/
LOCATION:online
CATEGORIES:Art,Fundraiser,Visual
ATTACH;FMTTYPE=image/jpeg:https://clackamasartsalliance.org/wp-content/uploads/2026/02/heARTS-Auction-Facebook-1.jpg
END:VEVENT
BEGIN:VEVENT
DTSTART;TZID=America/Los_Angeles:20260221T100000
DTEND;TZID=America/Los_Angeles:20260221T160000
DTSTAMP:20260424T072422
CREATED:20260216T152206Z
LAST-MODIFIED:20260216T152206Z
UID:10031805-1771668000-1771689600@clackamasartsalliance.org
SUMMARY:heARTs of Wilsonville Auction
DESCRIPTION:Five one-of-a-kind\, artist-designed hearts are up for auction to support future public art in Wilsonville! 💛💚💙🧡❤️\nCreated as part of the City’s largest public art project\, these hearts have been on display across the community since May. Bidding opens Feb. 12 at 10 am and closes Friday\, March 6 at 4 pm. Hearts are sold as-is\, and bidders are encouraged to view them in person. These are LARGE fiberglass sculptures approx (52″ x 52″ x 10″).\nWinning bidders must pay at City Hall by March 16\, with pick-up scheduled for March 19 (truck or cargo van required).\nMore information and bidding details can be found here: https://HeartsofWilsonville.auctria.events
URL:https://clackamasartsalliance.org/event/hearts-of-wilsonville-auction/2026-02-21/
LOCATION:online
CATEGORIES:Art,Fundraiser,Visual
ATTACH;FMTTYPE=image/jpeg:https://clackamasartsalliance.org/wp-content/uploads/2026/02/heARTS-Auction-Facebook-1.jpg
END:VEVENT
BEGIN:VEVENT
DTSTART;TZID=America/Los_Angeles:20260220T100000
DTEND;TZID=America/Los_Angeles:20260220T160000
DTSTAMP:20260424T072422
CREATED:20260216T152206Z
LAST-MODIFIED:20260216T152206Z
UID:10031804-1771581600-1771603200@clackamasartsalliance.org
SUMMARY:heARTs of Wilsonville Auction
DESCRIPTION:Five one-of-a-kind\, artist-designed hearts are up for auction to support future public art in Wilsonville! 💛💚💙🧡❤️\nCreated as part of the City’s largest public art project\, these hearts have been on display across the community since May. Bidding opens Feb. 12 at 10 am and closes Friday\, March 6 at 4 pm. Hearts are sold as-is\, and bidders are encouraged to view them in person. These are LARGE fiberglass sculptures approx (52″ x 52″ x 10″).\nWinning bidders must pay at City Hall by March 16\, with pick-up scheduled for March 19 (truck or cargo van required).\nMore information and bidding details can be found here: https://HeartsofWilsonville.auctria.events
URL:https://clackamasartsalliance.org/event/hearts-of-wilsonville-auction/2026-02-20/
LOCATION:online
CATEGORIES:Art,Fundraiser,Visual
ATTACH;FMTTYPE=image/jpeg:https://clackamasartsalliance.org/wp-content/uploads/2026/02/heARTS-Auction-Facebook-1.jpg
END:VEVENT
BEGIN:VEVENT
DTSTART;TZID=America/Los_Angeles:20260219T100000
DTEND;TZID=America/Los_Angeles:20260219T160000
DTSTAMP:20260424T072422
CREATED:20260216T152206Z
LAST-MODIFIED:20260216T152206Z
UID:10031803-1771495200-1771516800@clackamasartsalliance.org
SUMMARY:heARTs of Wilsonville Auction
DESCRIPTION:Five one-of-a-kind\, artist-designed hearts are up for auction to support future public art in Wilsonville! 💛💚💙🧡❤️\nCreated as part of the City’s largest public art project\, these hearts have been on display across the community since May. Bidding opens Feb. 12 at 10 am and closes Friday\, March 6 at 4 pm. Hearts are sold as-is\, and bidders are encouraged to view them in person. These are LARGE fiberglass sculptures approx (52″ x 52″ x 10″).\nWinning bidders must pay at City Hall by March 16\, with pick-up scheduled for March 19 (truck or cargo van required).\nMore information and bidding details can be found here: https://HeartsofWilsonville.auctria.events
URL:https://clackamasartsalliance.org/event/hearts-of-wilsonville-auction/2026-02-19/
LOCATION:online
CATEGORIES:Art,Fundraiser,Visual
ATTACH;FMTTYPE=image/jpeg:https://clackamasartsalliance.org/wp-content/uploads/2026/02/heARTS-Auction-Facebook-1.jpg
END:VEVENT
BEGIN:VEVENT
DTSTART;TZID=America/Los_Angeles:20260218T100000
DTEND;TZID=America/Los_Angeles:20260218T160000
DTSTAMP:20260424T072422
CREATED:20260216T152206Z
LAST-MODIFIED:20260216T152206Z
UID:10031802-1771408800-1771430400@clackamasartsalliance.org
SUMMARY:heARTs of Wilsonville Auction
DESCRIPTION:Five one-of-a-kind\, artist-designed hearts are up for auction to support future public art in Wilsonville! 💛💚💙🧡❤️\nCreated as part of the City’s largest public art project\, these hearts have been on display across the community since May. Bidding opens Feb. 12 at 10 am and closes Friday\, March 6 at 4 pm. Hearts are sold as-is\, and bidders are encouraged to view them in person. These are LARGE fiberglass sculptures approx (52″ x 52″ x 10″).\nWinning bidders must pay at City Hall by March 16\, with pick-up scheduled for March 19 (truck or cargo van required).\nMore information and bidding details can be found here: https://HeartsofWilsonville.auctria.events
URL:https://clackamasartsalliance.org/event/hearts-of-wilsonville-auction/2026-02-18/
LOCATION:online
CATEGORIES:Art,Fundraiser,Visual
ATTACH;FMTTYPE=image/jpeg:https://clackamasartsalliance.org/wp-content/uploads/2026/02/heARTS-Auction-Facebook-1.jpg
END:VEVENT
BEGIN:VEVENT
DTSTART;TZID=America/Los_Angeles:20260217T100000
DTEND;TZID=America/Los_Angeles:20260217T160000
DTSTAMP:20260424T072422
CREATED:20260216T152206Z
LAST-MODIFIED:20260216T152206Z
UID:10031801-1771322400-1771344000@clackamasartsalliance.org
SUMMARY:heARTs of Wilsonville Auction
DESCRIPTION:Five one-of-a-kind\, artist-designed hearts are up for auction to support future public art in Wilsonville! 💛💚💙🧡❤️\nCreated as part of the City’s largest public art project\, these hearts have been on display across the community since May. Bidding opens Feb. 12 at 10 am and closes Friday\, March 6 at 4 pm. Hearts are sold as-is\, and bidders are encouraged to view them in person. These are LARGE fiberglass sculptures approx (52″ x 52″ x 10″).\nWinning bidders must pay at City Hall by March 16\, with pick-up scheduled for March 19 (truck or cargo van required).\nMore information and bidding details can be found here: https://HeartsofWilsonville.auctria.events
URL:https://clackamasartsalliance.org/event/hearts-of-wilsonville-auction/2026-02-17/
LOCATION:online
CATEGORIES:Art,Fundraiser,Visual
ATTACH;FMTTYPE=image/jpeg:https://clackamasartsalliance.org/wp-content/uploads/2026/02/heARTS-Auction-Facebook-1.jpg
END:VEVENT
BEGIN:VEVENT
DTSTART;TZID=America/Los_Angeles:20260216T100000
DTEND;TZID=America/Los_Angeles:20260216T160000
DTSTAMP:20260424T072422
CREATED:20260216T152206Z
LAST-MODIFIED:20260216T152206Z
UID:10031800-1771236000-1771257600@clackamasartsalliance.org
SUMMARY:heARTs of Wilsonville Auction
DESCRIPTION:Five one-of-a-kind\, artist-designed hearts are up for auction to support future public art in Wilsonville! 💛💚💙🧡❤️\nCreated as part of the City’s largest public art project\, these hearts have been on display across the community since May. Bidding opens Feb. 12 at 10 am and closes Friday\, March 6 at 4 pm. Hearts are sold as-is\, and bidders are encouraged to view them in person. These are LARGE fiberglass sculptures approx (52″ x 52″ x 10″).\nWinning bidders must pay at City Hall by March 16\, with pick-up scheduled for March 19 (truck or cargo van required).\nMore information and bidding details can be found here: https://HeartsofWilsonville.auctria.events
URL:https://clackamasartsalliance.org/event/hearts-of-wilsonville-auction/2026-02-16/
LOCATION:online
CATEGORIES:Art,Fundraiser,Visual
ATTACH;FMTTYPE=image/jpeg:https://clackamasartsalliance.org/wp-content/uploads/2026/02/heARTS-Auction-Facebook-1.jpg
END:VEVENT
BEGIN:VEVENT
DTSTART;TZID=America/Los_Angeles:20260215T100000
DTEND;TZID=America/Los_Angeles:20260215T160000
DTSTAMP:20260424T072422
CREATED:20260216T152206Z
LAST-MODIFIED:20260216T152206Z
UID:10031799-1771149600-1771171200@clackamasartsalliance.org
SUMMARY:heARTs of Wilsonville Auction
DESCRIPTION:Five one-of-a-kind\, artist-designed hearts are up for auction to support future public art in Wilsonville! 💛💚💙🧡❤️\nCreated as part of the City’s largest public art project\, these hearts have been on display across the community since May. Bidding opens Feb. 12 at 10 am and closes Friday\, March 6 at 4 pm. Hearts are sold as-is\, and bidders are encouraged to view them in person. These are LARGE fiberglass sculptures approx (52″ x 52″ x 10″).\nWinning bidders must pay at City Hall by March 16\, with pick-up scheduled for March 19 (truck or cargo van required).\nMore information and bidding details can be found here: https://HeartsofWilsonville.auctria.events
URL:https://clackamasartsalliance.org/event/hearts-of-wilsonville-auction/2026-02-15/
LOCATION:online
CATEGORIES:Art,Fundraiser,Visual
ATTACH;FMTTYPE=image/jpeg:https://clackamasartsalliance.org/wp-content/uploads/2026/02/heARTS-Auction-Facebook-1.jpg
END:VEVENT
BEGIN:VEVENT
DTSTART;TZID=America/Los_Angeles:20260214T100000
DTEND;TZID=America/Los_Angeles:20260214T160000
DTSTAMP:20260424T072422
CREATED:20260216T152206Z
LAST-MODIFIED:20260216T152206Z
UID:10031798-1771063200-1771084800@clackamasartsalliance.org
SUMMARY:heARTs of Wilsonville Auction
DESCRIPTION:Five one-of-a-kind\, artist-designed hearts are up for auction to support future public art in Wilsonville! 💛💚💙🧡❤️\nCreated as part of the City’s largest public art project\, these hearts have been on display across the community since May. Bidding opens Feb. 12 at 10 am and closes Friday\, March 6 at 4 pm. Hearts are sold as-is\, and bidders are encouraged to view them in person. These are LARGE fiberglass sculptures approx (52″ x 52″ x 10″).\nWinning bidders must pay at City Hall by March 16\, with pick-up scheduled for March 19 (truck or cargo van required).\nMore information and bidding details can be found here: https://HeartsofWilsonville.auctria.events
URL:https://clackamasartsalliance.org/event/hearts-of-wilsonville-auction/2026-02-14/
LOCATION:online
CATEGORIES:Art,Fundraiser,Visual
ATTACH;FMTTYPE=image/jpeg:https://clackamasartsalliance.org/wp-content/uploads/2026/02/heARTS-Auction-Facebook-1.jpg
END:VEVENT
BEGIN:VEVENT
DTSTART;TZID=America/Los_Angeles:20260213T100000
DTEND;TZID=America/Los_Angeles:20260213T160000
DTSTAMP:20260424T072422
CREATED:20260216T152206Z
LAST-MODIFIED:20260216T152206Z
UID:10031797-1770976800-1770998400@clackamasartsalliance.org
SUMMARY:heARTs of Wilsonville Auction
DESCRIPTION:Five one-of-a-kind\, artist-designed hearts are up for auction to support future public art in Wilsonville! 💛💚💙🧡❤️\nCreated as part of the City’s largest public art project\, these hearts have been on display across the community since May. Bidding opens Feb. 12 at 10 am and closes Friday\, March 6 at 4 pm. Hearts are sold as-is\, and bidders are encouraged to view them in person. These are LARGE fiberglass sculptures approx (52″ x 52″ x 10″).\nWinning bidders must pay at City Hall by March 16\, with pick-up scheduled for March 19 (truck or cargo van required).\nMore information and bidding details can be found here: https://HeartsofWilsonville.auctria.events
URL:https://clackamasartsalliance.org/event/hearts-of-wilsonville-auction/2026-02-13/
LOCATION:online
CATEGORIES:Art,Fundraiser,Visual
ATTACH;FMTTYPE=image/jpeg:https://clackamasartsalliance.org/wp-content/uploads/2026/02/heARTS-Auction-Facebook-1.jpg
END:VEVENT
BEGIN:VEVENT
DTSTART;TZID=America/Los_Angeles:20260212T100000
DTEND;TZID=America/Los_Angeles:20260212T160000
DTSTAMP:20260424T072422
CREATED:20260216T152206Z
LAST-MODIFIED:20260216T152206Z
UID:10031788-1770890400-1770912000@clackamasartsalliance.org
SUMMARY:heARTs of Wilsonville Auction
DESCRIPTION:Five one-of-a-kind\, artist-designed hearts are up for auction to support future public art in Wilsonville! 💛💚💙🧡❤️\nCreated as part of the City’s largest public art project\, these hearts have been on display across the community since May. Bidding opens Feb. 12 at 10 am and closes Friday\, March 6 at 4 pm. Hearts are sold as-is\, and bidders are encouraged to view them in person. These are LARGE fiberglass sculptures approx (52″ x 52″ x 10″).\nWinning bidders must pay at City Hall by March 16\, with pick-up scheduled for March 19 (truck or cargo van required).\nMore information and bidding details can be found here: https://HeartsofWilsonville.auctria.events
URL:https://clackamasartsalliance.org/event/hearts-of-wilsonville-auction/2026-02-12/
LOCATION:online
CATEGORIES:Art,Fundraiser,Visual
ATTACH;FMTTYPE=image/jpeg:https://clackamasartsalliance.org/wp-content/uploads/2026/02/heARTS-Auction-Facebook-1.jpg
END:VEVENT
END:VCALENDAR