BEGIN:VCALENDAR
VERSION:2.0
PRODID:-//Clackamas County Arts Alliance - ECPv6.15.18//NONSGML v1.0//EN
CALSCALE:GREGORIAN
METHOD:PUBLISH
X-ORIGINAL-URL:https://clackamasartsalliance.org
X-WR-CALDESC:Events for Clackamas County Arts Alliance
REFRESH-INTERVAL;VALUE=DURATION:PT1H
X-Robots-Tag:noindex
X-PUBLISHED-TTL:PT1H
BEGIN:VTIMEZONE
TZID:America/Los_Angeles
BEGIN:DAYLIGHT
TZOFFSETFROM:-0800
TZOFFSETTO:-0700
TZNAME:PDT
DTSTART:20250309T100000
END:DAYLIGHT
BEGIN:STANDARD
TZOFFSETFROM:-0700
TZOFFSETTO:-0800
TZNAME:PST
DTSTART:20251102T090000
END:STANDARD
BEGIN:DAYLIGHT
TZOFFSETFROM:-0800
TZOFFSETTO:-0700
TZNAME:PDT
DTSTART:20260308T100000
END:DAYLIGHT
BEGIN:STANDARD
TZOFFSETFROM:-0700
TZOFFSETTO:-0800
TZNAME:PST
DTSTART:20261101T090000
END:STANDARD
BEGIN:DAYLIGHT
TZOFFSETFROM:-0800
TZOFFSETTO:-0700
TZNAME:PDT
DTSTART:20270314T100000
END:DAYLIGHT
BEGIN:STANDARD
TZOFFSETFROM:-0700
TZOFFSETTO:-0800
TZNAME:PST
DTSTART:20271107T090000
END:STANDARD
END:VTIMEZONE
BEGIN:VEVENT
DTSTART;TZID=America/Los_Angeles:20260425T110000
DTEND;TZID=America/Los_Angeles:20260425T130000
DTSTAMP:20260423T203918
CREATED:20260403T144055Z
LAST-MODIFIED:20260403T144055Z
UID:10033046-1777114800-1777122000@clackamasartsalliance.org
SUMMARY:Natural Dyes Workshop
DESCRIPTION:Open to Clackamas County artists to attend \nOur world is full of all kinds of natural materials that can used as dyes\, including some insects! Learn about several of these materials that can be found in the forest and at the store\, and also how to prepare them to make your very own fabric dyes!\nAfter our lesson we will get to dye bandanas with a vibrant magenta dye made from cochineal scale\, which has a very fascinating and ancient history behind its use. \nAbout the instructor: Heather Andrews is a research entomologist at Oregon State University. She works at a university extension office in Aurora where she studies growing practices in orchard crops that minimize their negative impact on the environment while maximizing yield. In her free time she makes jewelry\, draws and also plays the harp.
URL:https://clackamasartsalliance.org/event/natural-dyes-workshop/
LOCATION:Oregon Garden\, 879 W Main St.\, Silverton\, 97381\, United States
CATEGORIES:Craft,Workshops/Classes
ATTACH;FMTTYPE=image/jpeg:https://clackamasartsalliance.org/wp-content/uploads/2026/04/IMG_1547.jpeg
ORGANIZER;CN="Heather Andrews":MAILTO:Handrews189@gmail.com
END:VEVENT
END:VCALENDAR