BEGIN:VCALENDAR
VERSION:2.0
PRODID:-//Clackamas County Arts Alliance - ECPv6.15.18//NONSGML v1.0//EN
CALSCALE:GREGORIAN
METHOD:PUBLISH
X-ORIGINAL-URL:https://clackamasartsalliance.org
X-WR-CALDESC:Events for Clackamas County Arts Alliance
REFRESH-INTERVAL;VALUE=DURATION:PT1H
X-Robots-Tag:noindex
X-PUBLISHED-TTL:PT1H
BEGIN:VTIMEZONE
TZID:America/Los_Angeles
BEGIN:DAYLIGHT
TZOFFSETFROM:-0800
TZOFFSETTO:-0700
TZNAME:PDT
DTSTART:20250309T100000
END:DAYLIGHT
BEGIN:STANDARD
TZOFFSETFROM:-0700
TZOFFSETTO:-0800
TZNAME:PST
DTSTART:20251102T090000
END:STANDARD
BEGIN:DAYLIGHT
TZOFFSETFROM:-0800
TZOFFSETTO:-0700
TZNAME:PDT
DTSTART:20260308T100000
END:DAYLIGHT
BEGIN:STANDARD
TZOFFSETFROM:-0700
TZOFFSETTO:-0800
TZNAME:PST
DTSTART:20261101T090000
END:STANDARD
BEGIN:DAYLIGHT
TZOFFSETFROM:-0800
TZOFFSETTO:-0700
TZNAME:PDT
DTSTART:20270314T100000
END:DAYLIGHT
BEGIN:STANDARD
TZOFFSETFROM:-0700
TZOFFSETTO:-0800
TZNAME:PST
DTSTART:20271107T090000
END:STANDARD
END:VTIMEZONE
BEGIN:VEVENT
DTSTART;TZID=America/Los_Angeles:20260103T180000
DTEND;TZID=America/Los_Angeles:20260103T200000
DTSTAMP:20260424T142534
CREATED:20251217T040850Z
LAST-MODIFIED:20251217T040850Z
UID:10029821-1767463200-1767470400@clackamasartsalliance.org
SUMMARY:Community Art Show at The Spiral Gallery Co-Op in Estacada\, Oregon
DESCRIPTION:Every year in January\, the gallery gives all budding artists in our surrounding communities a chance to see what it is like to be in a “real” art show in this fun annual event. Please no professional artists. We hold a 1st Friday reception with wine and cheese that is well attended by the public. (Jan 2nd from 6 – 8 pm). Your artwork is up for the whole month of January! \nIt’s very easy to participate. You can come into the gallery and get an application\, follow the directions and bring in your work in time to hang in the show. Your work must be for sale and the gallery does take a small commission. It’s a lot of fun and it fills FAST so first come\, first serve. So get busy\, grab your application from the gallery or download from our website (thespiralgallery.com) and get your artwork in as soon as you can!
URL:https://clackamasartsalliance.org/event/community-art-show-at-the-spiral-gallery-co-op-in-estacada-oregon/2026-01-03/
LOCATION:The Spiral Gallery\, 341 S. Broadway Street\, Estacada\, OR\, 97023\, United States
CATEGORIES:Art
END:VEVENT
BEGIN:VEVENT
DTSTART;TZID=America/Los_Angeles:20260102T180000
DTEND;TZID=America/Los_Angeles:20260102T200000
DTSTAMP:20260424T142534
CREATED:20251217T040850Z
LAST-MODIFIED:20251217T040850Z
UID:10029806-1767376800-1767384000@clackamasartsalliance.org
SUMMARY:Community Art Show at The Spiral Gallery Co-Op in Estacada\, Oregon
DESCRIPTION:Every year in January\, the gallery gives all budding artists in our surrounding communities a chance to see what it is like to be in a “real” art show in this fun annual event. Please no professional artists. We hold a 1st Friday reception with wine and cheese that is well attended by the public. (Jan 2nd from 6 – 8 pm). Your artwork is up for the whole month of January! \nIt’s very easy to participate. You can come into the gallery and get an application\, follow the directions and bring in your work in time to hang in the show. Your work must be for sale and the gallery does take a small commission. It’s a lot of fun and it fills FAST so first come\, first serve. So get busy\, grab your application from the gallery or download from our website (thespiralgallery.com) and get your artwork in as soon as you can!
URL:https://clackamasartsalliance.org/event/community-art-show-at-the-spiral-gallery-co-op-in-estacada-oregon/2026-01-02/
LOCATION:The Spiral Gallery\, 341 S. Broadway Street\, Estacada\, OR\, 97023\, United States
CATEGORIES:Art
END:VEVENT
END:VCALENDAR