BEGIN:VCALENDAR
VERSION:2.0
PRODID:-//Clackamas County Arts Alliance - ECPv6.15.18//NONSGML v1.0//EN
CALSCALE:GREGORIAN
METHOD:PUBLISH
X-WR-CALNAME:Clackamas County Arts Alliance
X-ORIGINAL-URL:https://clackamasartsalliance.org
X-WR-CALDESC:Events for Clackamas County Arts Alliance
REFRESH-INTERVAL;VALUE=DURATION:PT1H
X-Robots-Tag:noindex
X-PUBLISHED-TTL:PT1H
BEGIN:VTIMEZONE
TZID:America/Los_Angeles
BEGIN:DAYLIGHT
TZOFFSETFROM:-0800
TZOFFSETTO:-0700
TZNAME:PDT
DTSTART:20240310T100000
END:DAYLIGHT
BEGIN:STANDARD
TZOFFSETFROM:-0700
TZOFFSETTO:-0800
TZNAME:PST
DTSTART:20241103T090000
END:STANDARD
BEGIN:DAYLIGHT
TZOFFSETFROM:-0800
TZOFFSETTO:-0700
TZNAME:PDT
DTSTART:20250309T100000
END:DAYLIGHT
BEGIN:STANDARD
TZOFFSETFROM:-0700
TZOFFSETTO:-0800
TZNAME:PST
DTSTART:20251102T090000
END:STANDARD
BEGIN:DAYLIGHT
TZOFFSETFROM:-0800
TZOFFSETTO:-0700
TZNAME:PDT
DTSTART:20260308T100000
END:DAYLIGHT
BEGIN:STANDARD
TZOFFSETFROM:-0700
TZOFFSETTO:-0800
TZNAME:PST
DTSTART:20261101T090000
END:STANDARD
END:VTIMEZONE
BEGIN:VEVENT
DTSTART;TZID=America/Los_Angeles:20251109T100000
DTEND;TZID=America/Los_Angeles:20251109T160000
DTSTAMP:20260424T193710
CREATED:20251009T201817Z
LAST-MODIFIED:20251009T201856Z
UID:10027194-1762682400-1762704000@clackamasartsalliance.org
SUMMARY:Trinity Cathedral Artisan Fair
DESCRIPTION:Come celebrate the season and the creative work of many talented local artists in historic Kempton Hall! Enjoy live music\, complimentary beverages\, and holiday treats while you browse woodwork\, jewelry\, tapestries\, soaps\, ceramics\, knit goods\, fused glass\, jams & jellies\, fine art\, quilting\, holiday ornaments\, and more!\nSat. Nov. 8th 10am-4pm | Sun. Nov 9th 9am-3pm\nAdmission on Saturday – 2 cans of food or $2.00 benefitting TrinityArts and Outreach Food Pantry.\nAdmission free on Sunday
URL:https://clackamasartsalliance.org/event/trinity-cathedral-artisan-fair/2025-11-09/
LOCATION:Trintiy Episcopal Cathedral\, 147 NW 19th Ave.\, Portland\, OR\, 97209\, United States
CATEGORIES:Art
END:VEVENT
BEGIN:VEVENT
DTSTART;TZID=America/Los_Angeles:20251108T100000
DTEND;TZID=America/Los_Angeles:20251108T160000
DTSTAMP:20260424T193710
CREATED:20251009T201817Z
LAST-MODIFIED:20251009T201856Z
UID:10027193-1762596000-1762617600@clackamasartsalliance.org
SUMMARY:Trinity Cathedral Artisan Fair
DESCRIPTION:Come celebrate the season and the creative work of many talented local artists in historic Kempton Hall! Enjoy live music\, complimentary beverages\, and holiday treats while you browse woodwork\, jewelry\, tapestries\, soaps\, ceramics\, knit goods\, fused glass\, jams & jellies\, fine art\, quilting\, holiday ornaments\, and more!\nSat. Nov. 8th 10am-4pm | Sun. Nov 9th 9am-3pm\nAdmission on Saturday – 2 cans of food or $2.00 benefitting TrinityArts and Outreach Food Pantry.\nAdmission free on Sunday
URL:https://clackamasartsalliance.org/event/trinity-cathedral-artisan-fair/2025-11-08/
LOCATION:Trintiy Episcopal Cathedral\, 147 NW 19th Ave.\, Portland\, OR\, 97209\, United States
CATEGORIES:Art
END:VEVENT
END:VCALENDAR