BEGIN:VCALENDAR
VERSION:2.0
PRODID:-//Clackamas County Arts Alliance - ECPv6.15.18//NONSGML v1.0//EN
CALSCALE:GREGORIAN
METHOD:PUBLISH
X-WR-CALNAME:Clackamas County Arts Alliance
X-ORIGINAL-URL:https://clackamasartsalliance.org
X-WR-CALDESC:Events for Clackamas County Arts Alliance
REFRESH-INTERVAL;VALUE=DURATION:PT1H
X-Robots-Tag:noindex
X-PUBLISHED-TTL:PT1H
BEGIN:VTIMEZONE
TZID:America/Los_Angeles
BEGIN:DAYLIGHT
TZOFFSETFROM:-0800
TZOFFSETTO:-0700
TZNAME:PDT
DTSTART:20250309T100000
END:DAYLIGHT
BEGIN:STANDARD
TZOFFSETFROM:-0700
TZOFFSETTO:-0800
TZNAME:PST
DTSTART:20251102T090000
END:STANDARD
BEGIN:DAYLIGHT
TZOFFSETFROM:-0800
TZOFFSETTO:-0700
TZNAME:PDT
DTSTART:20260308T100000
END:DAYLIGHT
BEGIN:STANDARD
TZOFFSETFROM:-0700
TZOFFSETTO:-0800
TZNAME:PST
DTSTART:20261101T090000
END:STANDARD
BEGIN:DAYLIGHT
TZOFFSETFROM:-0800
TZOFFSETTO:-0700
TZNAME:PDT
DTSTART:20270314T100000
END:DAYLIGHT
BEGIN:STANDARD
TZOFFSETFROM:-0700
TZOFFSETTO:-0800
TZNAME:PST
DTSTART:20271107T090000
END:STANDARD
END:VTIMEZONE
BEGIN:VEVENT
DTSTART;TZID=America/Los_Angeles:20260421T190000
DTEND;TZID=America/Los_Angeles:20260421T213000
DTSTAMP:20260423T234123
CREATED:20260331T013442Z
LAST-MODIFIED:20260331T013442Z
UID:10032672-1776798000-1776807000@clackamasartsalliance.org
SUMMARY:WLWV Middle School Musical- Frozen
DESCRIPTION:WLWV Middle School Musical- Frozen
URL:https://clackamasartsalliance.org/event/wlwv-middle-school-musical-frozen/2026-04-21/
LOCATION:West Linn High School\, 5464 W A St\, West Linn\, OR\, 97068\, United States
CATEGORIES:Theater
ATTACH;FMTTYPE=image/jpeg:https://clackamasartsalliance.org/wp-content/uploads/2026/03/Screenshot-2026-03-28-105430.jpg
ORGANIZER;CN="West Linn-Wilsonville Music and Arts Partners":MAILTO:jennylevers@yahoo.com
END:VEVENT
BEGIN:VEVENT
DTSTART;TZID=America/Los_Angeles:20260420T190000
DTEND;TZID=America/Los_Angeles:20260420T213000
DTSTAMP:20260423T234123
CREATED:20260331T013442Z
LAST-MODIFIED:20260331T013442Z
UID:10032671-1776711600-1776720600@clackamasartsalliance.org
SUMMARY:WLWV Middle School Musical- Frozen
DESCRIPTION:WLWV Middle School Musical- Frozen
URL:https://clackamasartsalliance.org/event/wlwv-middle-school-musical-frozen/2026-04-20/
LOCATION:West Linn High School\, 5464 W A St\, West Linn\, OR\, 97068\, United States
CATEGORIES:Theater
ATTACH;FMTTYPE=image/jpeg:https://clackamasartsalliance.org/wp-content/uploads/2026/03/Screenshot-2026-03-28-105430.jpg
ORGANIZER;CN="West Linn-Wilsonville Music and Arts Partners":MAILTO:jennylevers@yahoo.com
END:VEVENT
BEGIN:VEVENT
DTSTART;TZID=America/Los_Angeles:20260418T190000
DTEND;TZID=America/Los_Angeles:20260418T213000
DTSTAMP:20260423T234123
CREATED:20260331T013442Z
LAST-MODIFIED:20260331T013442Z
UID:10032670-1776538800-1776547800@clackamasartsalliance.org
SUMMARY:WLWV Middle School Musical- Frozen
DESCRIPTION:WLWV Middle School Musical- Frozen
URL:https://clackamasartsalliance.org/event/wlwv-middle-school-musical-frozen/2026-04-18/2/
LOCATION:West Linn High School\, 5464 W A St\, West Linn\, OR\, 97068\, United States
CATEGORIES:Theater
ATTACH;FMTTYPE=image/jpeg:https://clackamasartsalliance.org/wp-content/uploads/2026/03/Screenshot-2026-03-28-105430.jpg
ORGANIZER;CN="West Linn-Wilsonville Music and Arts Partners":MAILTO:jennylevers@yahoo.com
END:VEVENT
BEGIN:VEVENT
DTSTART;TZID=America/Los_Angeles:20260418T140000
DTEND;TZID=America/Los_Angeles:20260418T163000
DTSTAMP:20260423T234123
CREATED:20260331T013442Z
LAST-MODIFIED:20260331T013442Z
UID:10032669-1776520800-1776529800@clackamasartsalliance.org
SUMMARY:WLWV Middle School Musical- Frozen
DESCRIPTION:WLWV Middle School Musical- Frozen
URL:https://clackamasartsalliance.org/event/wlwv-middle-school-musical-frozen/2026-04-18/1/
LOCATION:West Linn High School\, 5464 W A St\, West Linn\, OR\, 97068\, United States
CATEGORIES:Theater
ATTACH;FMTTYPE=image/jpeg:https://clackamasartsalliance.org/wp-content/uploads/2026/03/Screenshot-2026-03-28-105430.jpg
ORGANIZER;CN="West Linn-Wilsonville Music and Arts Partners":MAILTO:jennylevers@yahoo.com
END:VEVENT
BEGIN:VEVENT
DTSTART;TZID=America/Los_Angeles:20260417T190000
DTEND;TZID=America/Los_Angeles:20260417T213000
DTSTAMP:20260423T234123
CREATED:20260331T013442Z
LAST-MODIFIED:20260331T013442Z
UID:10032668-1776452400-1776461400@clackamasartsalliance.org
SUMMARY:WLWV Middle School Musical- Frozen
DESCRIPTION:WLWV Middle School Musical- Frozen
URL:https://clackamasartsalliance.org/event/wlwv-middle-school-musical-frozen/2026-04-17/
LOCATION:West Linn High School\, 5464 W A St\, West Linn\, OR\, 97068\, United States
CATEGORIES:Theater
ATTACH;FMTTYPE=image/jpeg:https://clackamasartsalliance.org/wp-content/uploads/2026/03/Screenshot-2026-03-28-105430.jpg
ORGANIZER;CN="West Linn-Wilsonville Music and Arts Partners":MAILTO:jennylevers@yahoo.com
END:VEVENT
BEGIN:VEVENT
DTSTART;TZID=America/Los_Angeles:20260416T190000
DTEND;TZID=America/Los_Angeles:20260416T213000
DTSTAMP:20260423T234123
CREATED:20260331T013442Z
LAST-MODIFIED:20260331T013442Z
UID:10032667-1776366000-1776375000@clackamasartsalliance.org
SUMMARY:WLWV Middle School Musical- Frozen
DESCRIPTION:WLWV Middle School Musical- Frozen
URL:https://clackamasartsalliance.org/event/wlwv-middle-school-musical-frozen/2026-04-16/
LOCATION:West Linn High School\, 5464 W A St\, West Linn\, OR\, 97068\, United States
CATEGORIES:Theater
ATTACH;FMTTYPE=image/jpeg:https://clackamasartsalliance.org/wp-content/uploads/2026/03/Screenshot-2026-03-28-105430.jpg
ORGANIZER;CN="West Linn-Wilsonville Music and Arts Partners":MAILTO:jennylevers@yahoo.com
END:VEVENT
END:VCALENDAR