BEGIN:VCALENDAR
VERSION:2.0
PRODID:-//Clackamas County Arts Alliance - ECPv6.15.18//NONSGML v1.0//EN
CALSCALE:GREGORIAN
METHOD:PUBLISH
X-WR-CALNAME:Clackamas County Arts Alliance
X-ORIGINAL-URL:https://clackamasartsalliance.org
X-WR-CALDESC:Events for Clackamas County Arts Alliance
REFRESH-INTERVAL;VALUE=DURATION:PT1H
X-Robots-Tag:noindex
X-PUBLISHED-TTL:PT1H
BEGIN:VTIMEZONE
TZID:America/Los_Angeles
BEGIN:DAYLIGHT
TZOFFSETFROM:-0800
TZOFFSETTO:-0700
TZNAME:PDT
DTSTART:20250309T100000
END:DAYLIGHT
BEGIN:STANDARD
TZOFFSETFROM:-0700
TZOFFSETTO:-0800
TZNAME:PST
DTSTART:20251102T090000
END:STANDARD
BEGIN:DAYLIGHT
TZOFFSETFROM:-0800
TZOFFSETTO:-0700
TZNAME:PDT
DTSTART:20260308T100000
END:DAYLIGHT
BEGIN:STANDARD
TZOFFSETFROM:-0700
TZOFFSETTO:-0800
TZNAME:PST
DTSTART:20261101T090000
END:STANDARD
BEGIN:DAYLIGHT
TZOFFSETFROM:-0800
TZOFFSETTO:-0700
TZNAME:PDT
DTSTART:20270314T100000
END:DAYLIGHT
BEGIN:STANDARD
TZOFFSETFROM:-0700
TZOFFSETTO:-0800
TZNAME:PST
DTSTART:20271107T090000
END:STANDARD
END:VTIMEZONE
BEGIN:VEVENT
DTSTART;TZID=America/Los_Angeles:20260214T140000
DTEND;TZID=America/Los_Angeles:20260214T170000
DTSTAMP:20260424T143956
CREATED:20260202T235718Z
LAST-MODIFIED:20260202T235718Z
UID:10031017-1771077600-1771088400@clackamasartsalliance.org
SUMMARY:Lunar New Year Block Party
DESCRIPTION:Come on down to the 500 Block of Main Street in Oregon City and enjoy an afternoon of food\, games\, and celebration in honor of the Lunar New Year. Various businesses will be joining in with doors open for activities and events including White Rabbit Cafe who is hosting the event at 503 Main Street\, and Soulflags Art Community Center right across the street at 504 Main Street. And make sure to come early for a dance performance by Portland Lee Dragon and Lion Dance Company at 2pm. FREE Admission and fun for the whole family!
URL:https://clackamasartsalliance.org/event/lunar-new-year-block-party/
LOCATION:White Rabbit Cafe & Soulflags\, 503 & 504 Main Street\, Oregon City\, OR\, 97045\, United States
CATEGORIES:Culture
ATTACH;FMTTYPE=image/png:https://clackamasartsalliance.org/wp-content/uploads/2026/02/2026-Lunar-NY-flyer-final-Instagram.png
ORGANIZER;CN="White Rabbit Books and Cafe":MAILTO:trieste.andrews@gmail.com
END:VEVENT
END:VCALENDAR